BEGIN:VCALENDAR
VERSION:2.0
PRODID:-//Seniorocity - Seniors / Over 55&#039;s Guide to Perth - ECPv6.15.11//NONSGML v1.0//EN
CALSCALE:GREGORIAN
METHOD:PUBLISH
X-ORIGINAL-URL:https://seniorocity.com.au
X-WR-CALDESC:Events for Seniorocity - Seniors / Over 55&#039;s Guide to Perth
REFRESH-INTERVAL;VALUE=DURATION:PT1H
X-Robots-Tag:noindex
X-PUBLISHED-TTL:PT1H
BEGIN:VTIMEZONE
TZID:Australia/Perth
BEGIN:STANDARD
TZOFFSETFROM:+0800
TZOFFSETTO:+0800
TZNAME:AWST
DTSTART:20250101T000000
END:STANDARD
END:VTIMEZONE
BEGIN:VEVENT
DTSTART;TZID=Australia/Perth:20260330T103000
DTEND;TZID=Australia/Perth:20260330T123000
DTSTAMP:20260422T065810
CREATED:20260203T091029Z
LAST-MODIFIED:20260203T091029Z
UID:10862727-1774866600-1774873800@seniorocity.com.au
SUMMARY:Art Jam at Bluesky - Mixed Media Explorations
DESCRIPTION:Explore a range of art techniques to develop your own project\, in a friendly and relaxed group setting
URL:https://seniorocity.com.au/whats-on-perth/art-jam-at-bluesky-mixed-media-explorations-7/
LOCATION:Bluesky Community Group\, 34 Diana Cres\, Lockridge\, WA\, 6054\, Australia
CATEGORIES:Activity Class
ATTACH;FMTTYPE=image/jpeg:https://seniorocity.com.au/wp-content/uploads/2026/02/106b9b038d160713ad40fc75ef205f14.jpg
END:VEVENT
BEGIN:VEVENT
DTSTART;TZID=Australia/Perth:20260323T103000
DTEND;TZID=Australia/Perth:20260323T123000
DTSTAMP:20260422T065810
CREATED:20260203T091029Z
LAST-MODIFIED:20260203T091029Z
UID:10862726-1774261800-1774269000@seniorocity.com.au
SUMMARY:Art Jam at Bluesky - Mixed Media Explorations
DESCRIPTION:Explore a range of art techniques to develop your own project\, in a friendly and relaxed group setting
URL:https://seniorocity.com.au/whats-on-perth/art-jam-at-bluesky-mixed-media-explorations-6/
LOCATION:Bluesky Community Group\, 34 Diana Cres\, Lockridge\, WA\, 6054\, Australia
CATEGORIES:Activity Class
ATTACH;FMTTYPE=image/jpeg:https://seniorocity.com.au/wp-content/uploads/2026/02/106b9b038d160713ad40fc75ef205f14.jpg
END:VEVENT
BEGIN:VEVENT
DTSTART;TZID=Australia/Perth:20260316T103000
DTEND;TZID=Australia/Perth:20260316T123000
DTSTAMP:20260422T065810
CREATED:20260203T091028Z
LAST-MODIFIED:20260203T091028Z
UID:10862725-1773657000-1773664200@seniorocity.com.au
SUMMARY:Art Jam at Bluesky - Mixed Media Explorations
DESCRIPTION:Explore a range of art techniques to develop your own project\, in a friendly and relaxed group setting
URL:https://seniorocity.com.au/whats-on-perth/art-jam-at-bluesky-mixed-media-explorations-5/
LOCATION:Bluesky Community Group\, 34 Diana Cres\, Lockridge\, WA\, 6054\, Australia
CATEGORIES:Activity Class
ATTACH;FMTTYPE=image/jpeg:https://seniorocity.com.au/wp-content/uploads/2026/02/106b9b038d160713ad40fc75ef205f14.jpg
END:VEVENT
BEGIN:VEVENT
DTSTART;TZID=Australia/Perth:20260309T103000
DTEND;TZID=Australia/Perth:20260309T123000
DTSTAMP:20260422T065810
CREATED:20260203T091027Z
LAST-MODIFIED:20260203T091027Z
UID:10862724-1773052200-1773059400@seniorocity.com.au
SUMMARY:Art Jam at Bluesky - Mixed Media Explorations
DESCRIPTION:Explore a range of art techniques to develop your own project\, in a friendly and relaxed group setting
URL:https://seniorocity.com.au/whats-on-perth/art-jam-at-bluesky-mixed-media-explorations-4/
LOCATION:Bluesky Community Group\, 34 Diana Cres\, Lockridge\, WA\, 6054\, Australia
CATEGORIES:Activity Class
ATTACH;FMTTYPE=image/jpeg:https://seniorocity.com.au/wp-content/uploads/2026/02/106b9b038d160713ad40fc75ef205f14.jpg
END:VEVENT
BEGIN:VEVENT
DTSTART;TZID=Australia/Perth:20260223T103000
DTEND;TZID=Australia/Perth:20260223T123000
DTSTAMP:20260422T065810
CREATED:20260203T091026Z
LAST-MODIFIED:20260203T091026Z
UID:10862723-1771842600-1771849800@seniorocity.com.au
SUMMARY:Art Jam at Bluesky - Mixed Media Explorations
DESCRIPTION:Explore a range of art techniques to develop your own project\, in a friendly and relaxed group setting
URL:https://seniorocity.com.au/whats-on-perth/art-jam-at-bluesky-mixed-media-explorations-3/
LOCATION:Bluesky Community Group\, 34 Diana Cres\, Lockridge\, WA\, 6054\, Australia
CATEGORIES:Activity Class
ATTACH;FMTTYPE=image/jpeg:https://seniorocity.com.au/wp-content/uploads/2026/02/106b9b038d160713ad40fc75ef205f14.jpg
END:VEVENT
BEGIN:VEVENT
DTSTART;TZID=Australia/Perth:20260216T103000
DTEND;TZID=Australia/Perth:20260216T123000
DTSTAMP:20260422T065810
CREATED:20260203T091023Z
LAST-MODIFIED:20260203T091023Z
UID:10862722-1771237800-1771245000@seniorocity.com.au
SUMMARY:Art Jam at Bluesky - Mixed Media Explorations
DESCRIPTION:Explore a range of art techniques to develop your own project\, in a friendly and relaxed group setting
URL:https://seniorocity.com.au/whats-on-perth/art-jam-at-bluesky-mixed-media-explorations-2/
LOCATION:Bluesky Community Group\, 34 Diana Cres\, Lockridge\, WA\, 6054\, Australia
CATEGORIES:Activity Class
ATTACH;FMTTYPE=image/jpeg:https://seniorocity.com.au/wp-content/uploads/2026/02/106b9b038d160713ad40fc75ef205f14.jpg
END:VEVENT
BEGIN:VEVENT
DTSTART;TZID=Australia/Perth:20260209T103000
DTEND;TZID=Australia/Perth:20260209T123000
DTSTAMP:20260422T065810
CREATED:20260203T091022Z
LAST-MODIFIED:20260203T091022Z
UID:10862721-1770633000-1770640200@seniorocity.com.au
SUMMARY:Art Jam at Bluesky - Mixed Media Explorations
DESCRIPTION:Explore a range of art techniques to develop your own project\, in a friendly and relaxed group setting
URL:https://seniorocity.com.au/whats-on-perth/art-jam-at-bluesky-mixed-media-explorations/
LOCATION:Bluesky Community Group\, 34 Diana Cres\, Lockridge\, WA\, 6054\, Australia
CATEGORIES:Activity Class
END:VEVENT
END:VCALENDAR