BEGIN:VCALENDAR
VERSION:2.0
PRODID:-//Seniorocity - Seniors / Over 55&#039;s Guide to Perth - ECPv6.15.11//NONSGML v1.0//EN
CALSCALE:GREGORIAN
METHOD:PUBLISH
X-ORIGINAL-URL:https://seniorocity.com.au
X-WR-CALDESC:Events for Seniorocity - Seniors / Over 55&#039;s Guide to Perth
REFRESH-INTERVAL;VALUE=DURATION:PT1H
X-Robots-Tag:noindex
X-PUBLISHED-TTL:PT1H
BEGIN:VTIMEZONE
TZID:Australia/Perth
BEGIN:STANDARD
TZOFFSETFROM:+0800
TZOFFSETTO:+0800
TZNAME:AWST
DTSTART:20250101T000000
END:STANDARD
END:VTIMEZONE
BEGIN:VEVENT
DTSTART;TZID=Australia/Perth:20260422T180000
DTEND;TZID=Australia/Perth:20260422T193000
DTSTAMP:20260421T035701
CREATED:20260327T170433Z
LAST-MODIFIED:20260420T080425Z
UID:10865132-1776880800-1776886200@seniorocity.com.au
SUMMARY:Grow a Native Verge Garden Workshop
DESCRIPTION:Want to turn your verge into a low-maintenance haven with native plants?\n\n\nHear from Robyn Brown (Waste Is My Resource) about how to get your native verge garden growing. \nTopics covered will include the benefits of verge planting\, getting started\, City of Canning policies\, and available assistance. \nFor more information about choosing native plants check out the Waterwise Plant tool by Water Corporation\, ReWild Perth\, or APACE suburb selector. \nEach year\, the WA Tree Festival brings us all together to share the value of trees and encourages us to protect and improve our existing urban tree canopy across the suburbs. \nThe 2026 WA Tree Festival is sponsored by the Government of Western Australia\, with the support of WALGA and Perth NRM.
URL:https://seniorocity.com.au/whats-on-perth/grow-a-native-verge-garden-workshop/
LOCATION:Canning River Eco Education Centre (CREEC)\, Cnr Kent Street & Queens Park Road\, Wilson\, WA\, 6107\, Australia
ATTACH;FMTTYPE=image/jpeg:https://seniorocity.com.au/wp-content/uploads/2026/03/119ed7b0ef758ed05513678d4386fd0d.jpg
GEO:-32.0207674;115.9204565
X-APPLE-STRUCTURED-LOCATION;VALUE=URI;X-ADDRESS=Canning River Eco Education Centre (CREEC) Cnr Kent Street & Queens Park Road Wilson WA 6107 Australia;X-APPLE-RADIUS=500;X-TITLE=Cnr Kent Street & Queens Park Road:geo:115.9204565,-32.0207674
END:VEVENT
BEGIN:VEVENT
DTSTART;TZID=Australia/Perth:20260502T133000
DTEND;TZID=Australia/Perth:20260502T153000
DTSTAMP:20260421T035701
CREATED:20260410T080428Z
LAST-MODIFIED:20260420T080426Z
UID:10865492-1777728600-1777735800@seniorocity.com.au
SUMMARY:Create a Rag Rug (for 13 – 25yrs)
DESCRIPTION:Learn how to create a rag rug from old textiles.\n\n\nRag weaving is a wonderful way to take old textiles and give them new life. Come to this workshop to learn how to create your very own rag rug that’s truly unique. \nIf you have old sheets/doona covers to share\, please bring them to the workshop and learn how to repurpose them into a rag rug. \nWe will be using hula hoops for the weaving frame\, so if you have a hula hoop at home\, please bring it along. Or check if your local op shop has hula hoops for sale. We have some to share if you don’t have your own hoop. \nThis workshop is for young people aged 13 to 25 years. \nThis workshop is hosted by the City of Canning in partnership with the Australian Association for Environmental Education WA Chapter. \nThis workshop has been supported by a grant from the Government of Western Australia and the Waste Authority. It responds to Australia’s growing textile waste problem by empowering young people in Canning with practical knowledge and skills to challenge fast fashion and choose sustainable alternatives such as upcycling\, swapping and second‑hand shopping.
URL:https://seniorocity.com.au/whats-on-perth/create-a-rag-rug-for-13-25yrs/
LOCATION:Canning River Eco Education Centre (CREEC)\, Cnr Kent Street & Queens Park Road\, Wilson\, WA\, 6107\, Australia
ATTACH;FMTTYPE=image/jpeg:https://seniorocity.com.au/wp-content/uploads/2026/04/2f672a33a762766f9235da70e91031c7.jpg
GEO:-32.0207674;115.9204565
X-APPLE-STRUCTURED-LOCATION;VALUE=URI;X-ADDRESS=Canning River Eco Education Centre (CREEC) Cnr Kent Street & Queens Park Road Wilson WA 6107 Australia;X-APPLE-RADIUS=500;X-TITLE=Cnr Kent Street & Queens Park Road:geo:115.9204565,-32.0207674
END:VEVENT
BEGIN:VEVENT
DTSTART;TZID=Australia/Perth:20260509T103000
DTEND;TZID=Australia/Perth:20260509T113000
DTSTAMP:20260421T035701
CREATED:20260327T170435Z
LAST-MODIFIED:20260420T080428Z
UID:10865134-1778322600-1778326200@seniorocity.com.au
SUMMARY:Is an EV right for you?
DESCRIPTION:Join us in this workshop and have all your EV questions answered.\n\n\nElectric vehicles are a hot topic right now. There is lots of conflicting information which might be making it hard for you to work out whether an EV would work for you. Come along to have all your EV questions answered\, including: \n· Types of electric vehicles and how they work \n· How much they cost \n· Rebates and the Fringe Benefit Tax (FBT) exemption \n· How to calculate if an electric vehicle will save you money based on your driving patterns \n· The good things about electric vehicles and how to maximise them \n· How charging works \n· Things to be aware of on road trips \n· Vehicle to grid and vehicle to load systems and how to use them \n· Towing \n· Reputable sources of information about electric vehicles + much more! \nSuitable for Adults and Youth 15+ \nThis workshop is hosted by the City of Canning in partnership with Switch Your Thinking
URL:https://seniorocity.com.au/whats-on-perth/is-an-ev-right-for-you-3/
LOCATION:Canning River Eco Education Centre (CREEC)\, Cnr Kent Street & Queens Park Road\, Wilson\, WA\, 6107\, Australia
ATTACH;FMTTYPE=image/jpeg:https://seniorocity.com.au/wp-content/uploads/2026/03/4b3978bcb358eb6f4348503dbca83b01.jpg
GEO:-32.0207674;115.9204565
X-APPLE-STRUCTURED-LOCATION;VALUE=URI;X-ADDRESS=Canning River Eco Education Centre (CREEC) Cnr Kent Street & Queens Park Road Wilson WA 6107 Australia;X-APPLE-RADIUS=500;X-TITLE=Cnr Kent Street & Queens Park Road:geo:115.9204565,-32.0207674
END:VEVENT
BEGIN:VEVENT
DTSTART;TZID=Australia/Perth:20260516T103000
DTEND;TZID=Australia/Perth:20260516T113000
DTSTAMP:20260421T035701
CREATED:20260327T170438Z
LAST-MODIFIED:20260420T080430Z
UID:10865135-1778927400-1778931000@seniorocity.com.au
SUMMARY:How to Plan a Successful EV Road Trip
DESCRIPTION:Get tips for planning a road-trip in an electric vehicle.\n\n\nThis presentation is perfect for people planning a road-trip in an electric vehicle and would like to know some tricks and tips to make it a successful holiday. \nAndrew will share his experiences of going on EV road-trips around Western Australia with his young family and teach participants all he has learnt along the way. \nFor adults and youth 15+ \nThis workshop is hosted by the City of Canning in partnership with Switch Your Thinking. \n \nSign up to the City of Canning Sustainability eNews to hear of upcoming events and initiatives.
URL:https://seniorocity.com.au/whats-on-perth/how-to-plan-a-successful-ev-road-trip/
LOCATION:Canning River Eco Education Centre (CREEC)\, Cnr Kent Street & Queens Park Road\, Wilson\, WA\, 6107\, Australia
ATTACH;FMTTYPE=image/jpeg:https://seniorocity.com.au/wp-content/uploads/2026/03/3edcd8e5901235c386593cafe2f0b603.jpg
GEO:-32.0207674;115.9204565
X-APPLE-STRUCTURED-LOCATION;VALUE=URI;X-ADDRESS=Canning River Eco Education Centre (CREEC) Cnr Kent Street & Queens Park Road Wilson WA 6107 Australia;X-APPLE-RADIUS=500;X-TITLE=Cnr Kent Street & Queens Park Road:geo:115.9204565,-32.0207674
END:VEVENT
BEGIN:VEVENT
DTSTART;TZID=Australia/Perth:20260523T103000
DTEND;TZID=Australia/Perth:20260523T113000
DTSTAMP:20260421T035701
CREATED:20260327T170440Z
LAST-MODIFIED:20260420T080431Z
UID:10865136-1779532200-1779535800@seniorocity.com.au
SUMMARY:Solar Panels and Batteries for Beginners
DESCRIPTION:Learn about solar panels and if they are right for your house.\n\n\nBuying solar panels can be a confusing process. At this workshop you will find out what to look for in a reputable solar and battery installer and how to get a good quote. You will also learn how to pick a system that will work for your circumstances and how to make the most of the system after it is installed. \nSuitable for Adults and Youth 15+ \nThis workshop is hosted by the City of Canning in partnership with Switch Your Thinking.
URL:https://seniorocity.com.au/whats-on-perth/solar-panels-and-batteries-for-beginners/
LOCATION:Canning River Eco Education Centre (CREEC)\, Cnr Kent Street & Queens Park Road\, Wilson\, WA\, 6107\, Australia
ATTACH;FMTTYPE=image/jpeg:https://seniorocity.com.au/wp-content/uploads/2026/03/2df1fb9a3630892e048f082e7d7054bc.jpg
GEO:-32.0207674;115.9204565
X-APPLE-STRUCTURED-LOCATION;VALUE=URI;X-ADDRESS=Canning River Eco Education Centre (CREEC) Cnr Kent Street & Queens Park Road Wilson WA 6107 Australia;X-APPLE-RADIUS=500;X-TITLE=Cnr Kent Street & Queens Park Road:geo:115.9204565,-32.0207674
END:VEVENT
BEGIN:VEVENT
DTSTART;TZID=Australia/Perth:20260530T103000
DTEND;TZID=Australia/Perth:20260530T120000
DTSTAMP:20260421T035701
CREATED:20260327T170443Z
LAST-MODIFIED:20260420T080432Z
UID:10865137-1780137000-1780142400@seniorocity.com.au
SUMMARY:Growing Veggies for Winter
DESCRIPTION:Join Robyn from Waste Is My Resource to learn some simple tips to create a healthy winter vegetable garden.\n\n\nLearn some simple tips to create a healthy winter vegetable garden with Robyn Brown from Waste Is My Resource. \nTopics covered will include: life in the soil\, soil preparation\, water requirements\, composting and fertilising\, whether to use seeds or seedlings\, what plants to choose for winter and organic pest control. \nSuitable for Adults and Youth 15+ \nSign up to the City of Canning Sustainability eNews to hear of upcoming events and initiatives.
URL:https://seniorocity.com.au/whats-on-perth/growing-veggies-for-winter/
LOCATION:Canning River Eco Education Centre (CREEC)\, Cnr Kent Street & Queens Park Road\, Wilson\, WA\, 6107\, Australia
ATTACH;FMTTYPE=image/jpeg:https://seniorocity.com.au/wp-content/uploads/2026/03/65e3f89a85cc3ff51466e84867f95ec0.jpg
GEO:-32.0207674;115.9204565
X-APPLE-STRUCTURED-LOCATION;VALUE=URI;X-ADDRESS=Canning River Eco Education Centre (CREEC) Cnr Kent Street & Queens Park Road Wilson WA 6107 Australia;X-APPLE-RADIUS=500;X-TITLE=Cnr Kent Street & Queens Park Road:geo:115.9204565,-32.0207674
END:VEVENT
BEGIN:VEVENT
DTSTART;TZID=Australia/Perth:20260530T133000
DTEND;TZID=Australia/Perth:20260530T153000
DTSTAMP:20260421T035701
CREATED:20260304T010428Z
LAST-MODIFIED:20260420T080434Z
UID:10864095-1780147800-1780155000@seniorocity.com.au
SUMMARY:Bees\, Bugs and Butterflies Needle Felting Workshop (Ages 8 - 13)
DESCRIPTION:Join Cristina from Solstice Fibre in this beginner friendly hands-on workshop and enjoy all things crafty and artsy.\n\n\nNeedle felting bees\, bugs and butterflies. \nA beginner-friendly workshop perfect for children 8- 13 years who enjoy all things crafty and artsy.Expect a beautiful blend of creativity\, hands-on learning\, mindful and sustainable making in a relaxed and supportive environment. \nChildren will be guided step by step through the basics of needle felting\, working with natural wool and using felting needles to sculpt their own adorable ladybug\, bumblebee bee or butterfly! \nWhat is needle felting? \nNeedle felting is a fibre art technique that uses a special barbed needle to repeatedly poke and tangle natural wool fibres together. As the fibres bind\, they become firm\, creating a sculptured 3D form. \nSuitable for ages 8 to 13 years. \nPlease only book tickets for participating children. Children must be accompanied by a responsible parent/carer. \nPlease note: This event has limited tickets\, so please cancel your tickets if you are unable to attend. \n \nSign up to the City of Canning Sustainability eNews to hear of upcoming events and
URL:https://seniorocity.com.au/whats-on-perth/bees-bugs-and-butterflies-needle-felting-workshop-ages-8-13/
LOCATION:Canning River Eco Education Centre (CREEC)\, Cnr Kent Street & Queens Park Road\, Wilson\, WA\, 6107\, Australia
ATTACH;FMTTYPE=image/jpeg:https://seniorocity.com.au/wp-content/uploads/2026/03/9acca70fce827c371ff73a00c9a9bd75.jpg
GEO:-32.0207674;115.9204565
X-APPLE-STRUCTURED-LOCATION;VALUE=URI;X-ADDRESS=Canning River Eco Education Centre (CREEC) Cnr Kent Street & Queens Park Road Wilson WA 6107 Australia;X-APPLE-RADIUS=500;X-TITLE=Cnr Kent Street & Queens Park Road:geo:115.9204565,-32.0207674
END:VEVENT
BEGIN:VEVENT
DTSTART;TZID=Australia/Perth:20260620T103000
DTEND;TZID=Australia/Perth:20260620T120000
DTSTAMP:20260421T035701
CREATED:20260327T170435Z
LAST-MODIFIED:20260420T080435Z
UID:10865133-1781951400-1781956800@seniorocity.com.au
SUMMARY:Composting Workshop
DESCRIPTION:Learn how to create nutrient-rich compost that will help your garden thrive.\n\n\nLearn all about composting methods and the value of compost in your garden with Robyn Brown from ‘Waste is my Resource’. Robyn will demonstrate the set-up of each method. \nFood scraps and garden prunings are far too valuable for your soil to throw them in your landfill bin\, and composting is a great way to recycle them. \nSuitable for Adults and Youth 15+ \nCity of Canning residents can claim eco-rebates on home composting and worm farming equipment. \nSign up to the City of Canning Sustainability eNews to hear of upcoming events and initiatives.
URL:https://seniorocity.com.au/whats-on-perth/composting-workshop-2/
LOCATION:Canning River Eco Education Centre (CREEC)\, Cnr Kent Street & Queens Park Road\, Wilson\, WA\, 6107\, Australia
ATTACH;FMTTYPE=image/jpeg:https://seniorocity.com.au/wp-content/uploads/2025/05/6967e9b6c26d82882d3947118a15508e.jpg
GEO:-32.0207674;115.9204565
X-APPLE-STRUCTURED-LOCATION;VALUE=URI;X-ADDRESS=Canning River Eco Education Centre (CREEC) Cnr Kent Street & Queens Park Road Wilson WA 6107 Australia;X-APPLE-RADIUS=500;X-TITLE=Cnr Kent Street & Queens Park Road:geo:115.9204565,-32.0207674
END:VEVENT
END:VCALENDAR