BEGIN:VCALENDAR
VERSION:2.0
PRODID:-//Seniorocity - Seniors / Over 55&#039;s Guide to Perth - ECPv6.15.11//NONSGML v1.0//EN
CALSCALE:GREGORIAN
METHOD:PUBLISH
X-ORIGINAL-URL:https://seniorocity.com.au
X-WR-CALDESC:Events for Seniorocity - Seniors / Over 55&#039;s Guide to Perth
REFRESH-INTERVAL;VALUE=DURATION:PT1H
X-Robots-Tag:noindex
X-PUBLISHED-TTL:PT1H
BEGIN:VTIMEZONE
TZID:Australia/Perth
BEGIN:STANDARD
TZOFFSETFROM:+0800
TZOFFSETTO:+0800
TZNAME:AWST
DTSTART:20250101T000000
END:STANDARD
END:VTIMEZONE
BEGIN:VEVENT
DTSTART;TZID=Australia/Perth:20260508T130000
DTEND;TZID=Australia/Perth:20260508T160000
DTSTAMP:20260421T030834
CREATED:20260203T083827Z
LAST-MODIFIED:20260203T084047Z
UID:10862610-1778245200-1778256000@seniorocity.com.au
SUMMARY:Loop to Loop - Bayswater Library (social group for adults)
DESCRIPTION:Do you like to knit or crochet and have a yarn with your mates?
URL:https://seniorocity.com.au/whats-on-perth/loop-to-loop-bayswater-library-social-group-for-adults-57/
LOCATION:Bayswater Library\, 25 King William Street\, Bayswater\, WA\, 6053\, Australia
CATEGORIES:Knitting
ATTACH;FMTTYPE=image/jpeg:https://seniorocity.com.au/wp-content/uploads/2024/01/3cc61f6e48a291815488a5e5848cddc2.jpg
END:VEVENT
BEGIN:VEVENT
DTSTART;TZID=Australia/Perth:20260512T100000
DTEND;TZID=Australia/Perth:20260512T120000
DTSTAMP:20260421T030834
CREATED:20260204T091317Z
LAST-MODIFIED:20260401T144131Z
UID:10862805-1778580000-1778587200@seniorocity.com.au
SUMMARY:Scrabble
DESCRIPTION:Hey word enthusiasts!  Come along to our Scrabble group.  Bring your friends or join to make new ones.
URL:https://seniorocity.com.au/whats-on-perth/scrabble-77/
LOCATION:Bayswater Library\, 25 King William Street\, Bayswater\, WA\, 6053\, Australia
CATEGORIES:Games
ATTACH;FMTTYPE=image/jpeg:https://seniorocity.com.au/wp-content/uploads/2023/12/395216af19fc80e3a7d31b811f79a441.jpg
END:VEVENT
BEGIN:VEVENT
DTSTART;TZID=Australia/Perth:20260513T090000
DTEND;TZID=Australia/Perth:20260513T100000
DTSTAMP:20260421T030834
CREATED:20260402T151840Z
LAST-MODIFIED:20260402T152141Z
UID:10865246-1778662800-1778666400@seniorocity.com.au
SUMMARY:Hi\, Tech! - Morley Library: basic 1 to 1 tech help - April to June 2026
DESCRIPTION:Get ready to level up your tech skills with personalised 1-to-1 help at Morley Library – it’s your time to shine!
URL:https://seniorocity.com.au/whats-on-perth/hi-tech-morley-library-basic-1-to-1-tech-help-april-to-june-2026-17/
LOCATION:Morley Library\, 240 Walter Road West\, Morley\, WA\, 6062\, Australia
CATEGORIES:Tech
ATTACH;FMTTYPE=image/jpeg:https://seniorocity.com.au/wp-content/uploads/2023/05/9d8a7f09914618be6e7e50f09a533e8d.jpg
END:VEVENT
BEGIN:VEVENT
DTSTART;TZID=Australia/Perth:20260513T100000
DTEND;TZID=Australia/Perth:20260513T110000
DTSTAMP:20260421T030834
CREATED:20260402T151841Z
LAST-MODIFIED:20260402T152154Z
UID:10865247-1778666400-1778670000@seniorocity.com.au
SUMMARY:Hi\, Tech! - Morley Library: basic 1 to 1 tech help - April to June 2026
DESCRIPTION:Get ready to level up your tech skills with personalised 1-to-1 help at Morley Library – it’s your time to shine!
URL:https://seniorocity.com.au/whats-on-perth/hi-tech-morley-library-basic-1-to-1-tech-help-april-to-june-2026-18/
LOCATION:Morley Library\, 240 Walter Road West\, Morley\, WA\, 6062\, Australia
CATEGORIES:Tech
ATTACH;FMTTYPE=image/jpeg:https://seniorocity.com.au/wp-content/uploads/2023/05/9d8a7f09914618be6e7e50f09a533e8d.jpg
END:VEVENT
BEGIN:VEVENT
DTSTART;TZID=Australia/Perth:20260513T130000
DTEND;TZID=Australia/Perth:20260513T140000
DTSTAMP:20260421T030834
CREATED:20260402T152616Z
LAST-MODIFIED:20260402T153248Z
UID:10865283-1778677200-1778680800@seniorocity.com.au
SUMMARY:Hi\, Tech! Maylands Library: basic 1-to-1 tech help - April to June 2026
DESCRIPTION:Get ready to level up your IT skills with personalised 1-to-1 help at Maylands Library – it’s your time to shine!
URL:https://seniorocity.com.au/whats-on-perth/hi-tech-maylands-library-basic-1-to-1-tech-help-april-to-june-2026-9/
LOCATION:Maylands Public Library\, The RISE\, 28 Eighth Avenue\, Maylands\, WA\, 6051\, Australia
CATEGORIES:Free
ATTACH;FMTTYPE=image/jpeg:https://seniorocity.com.au/wp-content/uploads/2024/07/47d27fc431d8516939cc37f1f8af6de5.jpg
GEO:-31.9310445;115.8948571
X-APPLE-STRUCTURED-LOCATION;VALUE=URI;X-ADDRESS=Maylands Public Library The RISE 28 Eighth Avenue Maylands WA 6051 Australia;X-APPLE-RADIUS=500;X-TITLE=The RISE\, 28 Eighth Avenue:geo:115.8948571,-31.9310445
END:VEVENT
BEGIN:VEVENT
DTSTART;TZID=Australia/Perth:20260513T140000
DTEND;TZID=Australia/Perth:20260513T150000
DTSTAMP:20260421T030834
CREATED:20260402T152617Z
LAST-MODIFIED:20260402T153258Z
UID:10865284-1778680800-1778684400@seniorocity.com.au
SUMMARY:Hi\, Tech! Maylands Library: basic 1-to-1 tech help - April to June 2026
DESCRIPTION:Get ready to level up your IT skills with personalised 1-to-1 help at Maylands Library – it’s your time to shine!
URL:https://seniorocity.com.au/whats-on-perth/hi-tech-maylands-library-basic-1-to-1-tech-help-april-to-june-2026-10/
LOCATION:Maylands Public Library\, The RISE\, 28 Eighth Avenue\, Maylands\, WA\, 6051\, Australia
CATEGORIES:Free
ATTACH;FMTTYPE=image/jpeg:https://seniorocity.com.au/wp-content/uploads/2024/07/47d27fc431d8516939cc37f1f8af6de5.jpg
GEO:-31.9310445;115.8948571
X-APPLE-STRUCTURED-LOCATION;VALUE=URI;X-ADDRESS=Maylands Public Library The RISE 28 Eighth Avenue Maylands WA 6051 Australia;X-APPLE-RADIUS=500;X-TITLE=The RISE\, 28 Eighth Avenue:geo:115.8948571,-31.9310445
END:VEVENT
BEGIN:VEVENT
DTSTART;TZID=Australia/Perth:20260514T093000
DTEND;TZID=Australia/Perth:20260514T120000
DTSTAMP:20260421T030834
CREATED:20260102T074647Z
LAST-MODIFIED:20260401T142428Z
UID:10857749-1778751000-1778760000@seniorocity.com.au
SUMMARY:Art for Art's Sake - Social Art Group for Adults
DESCRIPTION:Enjoy a relaxed\, welcoming space where you can work on your own projects alongside fellow artists.
URL:https://seniorocity.com.au/whats-on-perth/art-for-arts-sake-social-art-group-for-adults-29/
LOCATION:Maylands Public Library\, The RISE\, 28 Eighth Avenue\, Maylands\, WA\, 6051\, Australia
CATEGORIES:Free,Library Events
ATTACH;FMTTYPE=image/jpeg:https://seniorocity.com.au/wp-content/uploads/2025/10/403cde6a2174f39678d165fd948c9cc5.jpg
GEO:-31.9310445;115.8948571
X-APPLE-STRUCTURED-LOCATION;VALUE=URI;X-ADDRESS=Maylands Public Library The RISE 28 Eighth Avenue Maylands WA 6051 Australia;X-APPLE-RADIUS=500;X-TITLE=The RISE\, 28 Eighth Avenue:geo:115.8948571,-31.9310445
END:VEVENT
BEGIN:VEVENT
DTSTART;TZID=Australia/Perth:20260515T093000
DTEND;TZID=Australia/Perth:20260515T113000
DTSTAMP:20260421T030834
CREATED:20260204T091518Z
LAST-MODIFIED:20260204T142028Z
UID:10862852-1778837400-1778844600@seniorocity.com.au
SUMMARY:English Conversation Group - Maylands Library
DESCRIPTION:English Conversation Group – Fluency\, Fun and Friendship
URL:https://seniorocity.com.au/whats-on-perth/english-conversation-group-maylands-library-14/
LOCATION:Maylands Public Library\, The RISE\, 28 Eighth Avenue\, Maylands\, WA\, 6051\, Australia
CATEGORIES:Language Class
ATTACH;FMTTYPE=image/jpeg:https://seniorocity.com.au/wp-content/uploads/2026/02/007c29eb8664b505b73d07efa56ec846.jpg
GEO:-31.9310445;115.8948571
X-APPLE-STRUCTURED-LOCATION;VALUE=URI;X-ADDRESS=Maylands Public Library The RISE 28 Eighth Avenue Maylands WA 6051 Australia;X-APPLE-RADIUS=500;X-TITLE=The RISE\, 28 Eighth Avenue:geo:115.8948571,-31.9310445
END:VEVENT
BEGIN:VEVENT
DTSTART;TZID=Australia/Perth:20260515T130000
DTEND;TZID=Australia/Perth:20260515T160000
DTSTAMP:20260421T030834
CREATED:20260203T083828Z
LAST-MODIFIED:20260203T084057Z
UID:10862611-1778850000-1778860800@seniorocity.com.au
SUMMARY:Loop to Loop - Bayswater Library (social group for adults)
DESCRIPTION:Do you like to knit or crochet and have a yarn with your mates?
URL:https://seniorocity.com.au/whats-on-perth/loop-to-loop-bayswater-library-social-group-for-adults-58/
LOCATION:Bayswater Library\, 25 King William Street\, Bayswater\, WA\, 6053\, Australia
CATEGORIES:Knitting
ATTACH;FMTTYPE=image/jpeg:https://seniorocity.com.au/wp-content/uploads/2024/01/3cc61f6e48a291815488a5e5848cddc2.jpg
END:VEVENT
BEGIN:VEVENT
DTSTART;TZID=Australia/Perth:20260519T100000
DTEND;TZID=Australia/Perth:20260519T120000
DTSTAMP:20260421T030834
CREATED:20260204T091318Z
LAST-MODIFIED:20260401T144144Z
UID:10862806-1779184800-1779192000@seniorocity.com.au
SUMMARY:Scrabble
DESCRIPTION:Hey word enthusiasts!  Come along to our Scrabble group.  Bring your friends or join to make new ones.
URL:https://seniorocity.com.au/whats-on-perth/scrabble-78/
LOCATION:Bayswater Library\, 25 King William Street\, Bayswater\, WA\, 6053\, Australia
CATEGORIES:Games
ATTACH;FMTTYPE=image/jpeg:https://seniorocity.com.au/wp-content/uploads/2023/12/395216af19fc80e3a7d31b811f79a441.jpg
END:VEVENT
BEGIN:VEVENT
DTSTART;TZID=Australia/Perth:20260520T090000
DTEND;TZID=Australia/Perth:20260520T100000
DTSTAMP:20260421T030834
CREATED:20260402T151842Z
LAST-MODIFIED:20260402T152207Z
UID:10865248-1779267600-1779271200@seniorocity.com.au
SUMMARY:Hi\, Tech! - Morley Library: basic 1 to 1 tech help - April to June 2026
DESCRIPTION:Get ready to level up your tech skills with personalised 1-to-1 help at Morley Library – it’s your time to shine!
URL:https://seniorocity.com.au/whats-on-perth/hi-tech-morley-library-basic-1-to-1-tech-help-april-to-june-2026-19/
LOCATION:Morley Library\, 240 Walter Road West\, Morley\, WA\, 6062\, Australia
CATEGORIES:Tech
ATTACH;FMTTYPE=image/jpeg:https://seniorocity.com.au/wp-content/uploads/2023/05/9d8a7f09914618be6e7e50f09a533e8d.jpg
END:VEVENT
BEGIN:VEVENT
DTSTART;TZID=Australia/Perth:20260520T100000
DTEND;TZID=Australia/Perth:20260520T110000
DTSTAMP:20260421T030834
CREATED:20260402T151842Z
LAST-MODIFIED:20260402T152220Z
UID:10865249-1779271200-1779274800@seniorocity.com.au
SUMMARY:Hi\, Tech! - Morley Library: basic 1 to 1 tech help - April to June 2026
DESCRIPTION:Get ready to level up your tech skills with personalised 1-to-1 help at Morley Library – it’s your time to shine!
URL:https://seniorocity.com.au/whats-on-perth/hi-tech-morley-library-basic-1-to-1-tech-help-april-to-june-2026-20/
LOCATION:Morley Library\, 240 Walter Road West\, Morley\, WA\, 6062\, Australia
CATEGORIES:Tech
ATTACH;FMTTYPE=image/jpeg:https://seniorocity.com.au/wp-content/uploads/2023/05/9d8a7f09914618be6e7e50f09a533e8d.jpg
END:VEVENT
BEGIN:VEVENT
DTSTART;TZID=Australia/Perth:20260520T130000
DTEND;TZID=Australia/Perth:20260520T140000
DTSTAMP:20260421T030834
CREATED:20260402T152633Z
LAST-MODIFIED:20260402T153312Z
UID:10865285-1779282000-1779285600@seniorocity.com.au
SUMMARY:Hi\, Tech! Maylands Library: basic 1-to-1 tech help - April to June 2026
DESCRIPTION:Get ready to level up your IT skills with personalised 1-to-1 help at Maylands Library – it’s your time to shine!
URL:https://seniorocity.com.au/whats-on-perth/hi-tech-maylands-library-basic-1-to-1-tech-help-april-to-june-2026-11/
LOCATION:Maylands Public Library\, The RISE\, 28 Eighth Avenue\, Maylands\, WA\, 6051\, Australia
CATEGORIES:Free
ATTACH;FMTTYPE=image/jpeg:https://seniorocity.com.au/wp-content/uploads/2024/07/47d27fc431d8516939cc37f1f8af6de5.jpg
GEO:-31.9310445;115.8948571
X-APPLE-STRUCTURED-LOCATION;VALUE=URI;X-ADDRESS=Maylands Public Library The RISE 28 Eighth Avenue Maylands WA 6051 Australia;X-APPLE-RADIUS=500;X-TITLE=The RISE\, 28 Eighth Avenue:geo:115.8948571,-31.9310445
END:VEVENT
BEGIN:VEVENT
DTSTART;TZID=Australia/Perth:20260520T140000
DTEND;TZID=Australia/Perth:20260520T150000
DTSTAMP:20260421T030834
CREATED:20260402T152633Z
LAST-MODIFIED:20260402T153323Z
UID:10865286-1779285600-1779289200@seniorocity.com.au
SUMMARY:Hi\, Tech! Maylands Library: basic 1-to-1 tech help - April to June 2026
DESCRIPTION:Get ready to level up your IT skills with personalised 1-to-1 help at Maylands Library – it’s your time to shine!
URL:https://seniorocity.com.au/whats-on-perth/hi-tech-maylands-library-basic-1-to-1-tech-help-april-to-june-2026-12/
LOCATION:Maylands Public Library\, The RISE\, 28 Eighth Avenue\, Maylands\, WA\, 6051\, Australia
CATEGORIES:Free
ATTACH;FMTTYPE=image/jpeg:https://seniorocity.com.au/wp-content/uploads/2024/07/47d27fc431d8516939cc37f1f8af6de5.jpg
GEO:-31.9310445;115.8948571
X-APPLE-STRUCTURED-LOCATION;VALUE=URI;X-ADDRESS=Maylands Public Library The RISE 28 Eighth Avenue Maylands WA 6051 Australia;X-APPLE-RADIUS=500;X-TITLE=The RISE\, 28 Eighth Avenue:geo:115.8948571,-31.9310445
END:VEVENT
BEGIN:VEVENT
DTSTART;TZID=Australia/Perth:20260521T093000
DTEND;TZID=Australia/Perth:20260521T120000
DTSTAMP:20260421T030834
CREATED:20260102T074648Z
LAST-MODIFIED:20260401T142439Z
UID:10857750-1779355800-1779364800@seniorocity.com.au
SUMMARY:Art for Art's Sake - Social Art Group for Adults
DESCRIPTION:Enjoy a relaxed\, welcoming space where you can work on your own projects alongside fellow artists.
URL:https://seniorocity.com.au/whats-on-perth/art-for-arts-sake-social-art-group-for-adults-30/
LOCATION:Maylands Public Library\, The RISE\, 28 Eighth Avenue\, Maylands\, WA\, 6051\, Australia
CATEGORIES:Free,Library Events
ATTACH;FMTTYPE=image/jpeg:https://seniorocity.com.au/wp-content/uploads/2025/10/403cde6a2174f39678d165fd948c9cc5.jpg
GEO:-31.9310445;115.8948571
X-APPLE-STRUCTURED-LOCATION;VALUE=URI;X-ADDRESS=Maylands Public Library The RISE 28 Eighth Avenue Maylands WA 6051 Australia;X-APPLE-RADIUS=500;X-TITLE=The RISE\, 28 Eighth Avenue:geo:115.8948571,-31.9310445
END:VEVENT
BEGIN:VEVENT
DTSTART;TZID=Australia/Perth:20260522T090000
DTEND;TZID=Australia/Perth:20260522T100000
DTSTAMP:20260421T030834
CREATED:20260402T151857Z
LAST-MODIFIED:20260402T152518Z
UID:10865250-1779440400-1779444000@seniorocity.com.au
SUMMARY:Hi\, Tech! - Morley Library: basic 1 to 1 tech help - April to June 2026
DESCRIPTION:Get ready to level up your tech skills with personalised 1-to-1 help at Morley Library – it’s your time to shine!
URL:https://seniorocity.com.au/whats-on-perth/hi-tech-morley-library-basic-1-to-1-tech-help-april-to-june-2026-21/
LOCATION:Morley Library\, 240 Walter Road West\, Morley\, WA\, 6062\, Australia
CATEGORIES:Tech
ATTACH;FMTTYPE=image/jpeg:https://seniorocity.com.au/wp-content/uploads/2023/05/9d8a7f09914618be6e7e50f09a533e8d.jpg
END:VEVENT
BEGIN:VEVENT
DTSTART;TZID=Australia/Perth:20260522T093000
DTEND;TZID=Australia/Perth:20260522T113000
DTSTAMP:20260421T030834
CREATED:20260204T091518Z
LAST-MODIFIED:20260204T142038Z
UID:10862853-1779442200-1779449400@seniorocity.com.au
SUMMARY:English Conversation Group - Maylands Library
DESCRIPTION:English Conversation Group – Fluency\, Fun and Friendship
URL:https://seniorocity.com.au/whats-on-perth/english-conversation-group-maylands-library-15/
LOCATION:Maylands Public Library\, The RISE\, 28 Eighth Avenue\, Maylands\, WA\, 6051\, Australia
CATEGORIES:Language Class
ATTACH;FMTTYPE=image/jpeg:https://seniorocity.com.au/wp-content/uploads/2026/02/007c29eb8664b505b73d07efa56ec846.jpg
GEO:-31.9310445;115.8948571
X-APPLE-STRUCTURED-LOCATION;VALUE=URI;X-ADDRESS=Maylands Public Library The RISE 28 Eighth Avenue Maylands WA 6051 Australia;X-APPLE-RADIUS=500;X-TITLE=The RISE\, 28 Eighth Avenue:geo:115.8948571,-31.9310445
END:VEVENT
BEGIN:VEVENT
DTSTART;TZID=Australia/Perth:20260522T100000
DTEND;TZID=Australia/Perth:20260522T110000
DTSTAMP:20260421T030834
CREATED:20260402T151859Z
LAST-MODIFIED:20260402T152531Z
UID:10865251-1779444000-1779447600@seniorocity.com.au
SUMMARY:Hi\, Tech! - Morley Library: basic 1 to 1 tech help - April to June 2026
DESCRIPTION:Get ready to level up your tech skills with personalised 1-to-1 help at Morley Library – it’s your time to shine!
URL:https://seniorocity.com.au/whats-on-perth/hi-tech-morley-library-basic-1-to-1-tech-help-april-to-june-2026-22/
LOCATION:Morley Library\, 240 Walter Road West\, Morley\, WA\, 6062\, Australia
CATEGORIES:Tech
ATTACH;FMTTYPE=image/jpeg:https://seniorocity.com.au/wp-content/uploads/2023/05/9d8a7f09914618be6e7e50f09a533e8d.jpg
END:VEVENT
BEGIN:VEVENT
DTSTART;TZID=Australia/Perth:20260522T110000
DTEND;TZID=Australia/Perth:20260522T120000
DTSTAMP:20260421T030834
CREATED:20260402T151900Z
LAST-MODIFIED:20260402T152543Z
UID:10865252-1779447600-1779451200@seniorocity.com.au
SUMMARY:Hi\, Tech! - Morley Library: basic 1 to 1 tech help - April to June 2026
DESCRIPTION:Get ready to level up your tech skills with personalised 1-to-1 help at Morley Library – it’s your time to shine!
URL:https://seniorocity.com.au/whats-on-perth/hi-tech-morley-library-basic-1-to-1-tech-help-april-to-june-2026-23/
LOCATION:Morley Library\, 240 Walter Road West\, Morley\, WA\, 6062\, Australia
CATEGORIES:Tech
ATTACH;FMTTYPE=image/jpeg:https://seniorocity.com.au/wp-content/uploads/2023/05/9d8a7f09914618be6e7e50f09a533e8d.jpg
END:VEVENT
BEGIN:VEVENT
DTSTART;TZID=Australia/Perth:20260522T130000
DTEND;TZID=Australia/Perth:20260522T160000
DTSTAMP:20260421T030834
CREATED:20260203T083828Z
LAST-MODIFIED:20260203T084110Z
UID:10862612-1779454800-1779465600@seniorocity.com.au
SUMMARY:Loop to Loop - Bayswater Library (social group for adults)
DESCRIPTION:Do you like to knit or crochet and have a yarn with your mates?
URL:https://seniorocity.com.au/whats-on-perth/loop-to-loop-bayswater-library-social-group-for-adults-59/
LOCATION:Bayswater Library\, 25 King William Street\, Bayswater\, WA\, 6053\, Australia
CATEGORIES:Knitting
ATTACH;FMTTYPE=image/jpeg:https://seniorocity.com.au/wp-content/uploads/2024/01/3cc61f6e48a291815488a5e5848cddc2.jpg
END:VEVENT
BEGIN:VEVENT
DTSTART;TZID=Australia/Perth:20260526T100000
DTEND;TZID=Australia/Perth:20260526T120000
DTSTAMP:20260421T030834
CREATED:20260204T091319Z
LAST-MODIFIED:20260401T144156Z
UID:10862807-1779789600-1779796800@seniorocity.com.au
SUMMARY:Scrabble
DESCRIPTION:Hey word enthusiasts!  Come along to our Scrabble group.  Bring your friends or join to make new ones.
URL:https://seniorocity.com.au/whats-on-perth/scrabble-79/
LOCATION:Bayswater Library\, 25 King William Street\, Bayswater\, WA\, 6053\, Australia
CATEGORIES:Games
ATTACH;FMTTYPE=image/jpeg:https://seniorocity.com.au/wp-content/uploads/2023/12/395216af19fc80e3a7d31b811f79a441.jpg
END:VEVENT
BEGIN:VEVENT
DTSTART;TZID=Australia/Perth:20260527T090000
DTEND;TZID=Australia/Perth:20260527T100000
DTSTAMP:20260421T030834
CREATED:20260402T151901Z
LAST-MODIFIED:20260402T152554Z
UID:10865253-1779872400-1779876000@seniorocity.com.au
SUMMARY:Hi\, Tech! - Morley Library: basic 1 to 1 tech help - April to June 2026
DESCRIPTION:Get ready to level up your tech skills with personalised 1-to-1 help at Morley Library – it’s your time to shine!
URL:https://seniorocity.com.au/whats-on-perth/hi-tech-morley-library-basic-1-to-1-tech-help-april-to-june-2026-24/
LOCATION:Morley Library\, 240 Walter Road West\, Morley\, WA\, 6062\, Australia
CATEGORIES:Tech
ATTACH;FMTTYPE=image/jpeg:https://seniorocity.com.au/wp-content/uploads/2023/05/9d8a7f09914618be6e7e50f09a533e8d.jpg
END:VEVENT
BEGIN:VEVENT
DTSTART;TZID=Australia/Perth:20260527T100000
DTEND;TZID=Australia/Perth:20260527T110000
DTSTAMP:20260421T030834
CREATED:20260402T151903Z
LAST-MODIFIED:20260402T152607Z
UID:10865254-1779876000-1779879600@seniorocity.com.au
SUMMARY:Hi\, Tech! - Morley Library: basic 1 to 1 tech help - April to June 2026
DESCRIPTION:Get ready to level up your tech skills with personalised 1-to-1 help at Morley Library – it’s your time to shine!
URL:https://seniorocity.com.au/whats-on-perth/hi-tech-morley-library-basic-1-to-1-tech-help-april-to-june-2026-25/
LOCATION:Morley Library\, 240 Walter Road West\, Morley\, WA\, 6062\, Australia
CATEGORIES:Tech
ATTACH;FMTTYPE=image/jpeg:https://seniorocity.com.au/wp-content/uploads/2023/05/9d8a7f09914618be6e7e50f09a533e8d.jpg
END:VEVENT
BEGIN:VEVENT
DTSTART;TZID=Australia/Perth:20260527T130000
DTEND;TZID=Australia/Perth:20260527T140000
DTSTAMP:20260421T030834
CREATED:20260402T152634Z
LAST-MODIFIED:20260402T153328Z
UID:10865287-1779886800-1779890400@seniorocity.com.au
SUMMARY:Hi\, Tech! Maylands Library: basic 1-to-1 tech help - April to June 2026
DESCRIPTION:Get ready to level up your IT skills with personalised 1-to-1 help at Maylands Library – it’s your time to shine!
URL:https://seniorocity.com.au/whats-on-perth/hi-tech-maylands-library-basic-1-to-1-tech-help-april-to-june-2026-13/
LOCATION:Maylands Public Library\, The RISE\, 28 Eighth Avenue\, Maylands\, WA\, 6051\, Australia
CATEGORIES:Free
ATTACH;FMTTYPE=image/jpeg:https://seniorocity.com.au/wp-content/uploads/2024/07/47d27fc431d8516939cc37f1f8af6de5.jpg
GEO:-31.9310445;115.8948571
X-APPLE-STRUCTURED-LOCATION;VALUE=URI;X-ADDRESS=Maylands Public Library The RISE 28 Eighth Avenue Maylands WA 6051 Australia;X-APPLE-RADIUS=500;X-TITLE=The RISE\, 28 Eighth Avenue:geo:115.8948571,-31.9310445
END:VEVENT
BEGIN:VEVENT
DTSTART;TZID=Australia/Perth:20260527T140000
DTEND;TZID=Australia/Perth:20260527T150000
DTSTAMP:20260421T030834
CREATED:20260402T152634Z
LAST-MODIFIED:20260402T153334Z
UID:10865288-1779890400-1779894000@seniorocity.com.au
SUMMARY:Hi\, Tech! Maylands Library: basic 1-to-1 tech help - April to June 2026
DESCRIPTION:Get ready to level up your IT skills with personalised 1-to-1 help at Maylands Library – it’s your time to shine!
URL:https://seniorocity.com.au/whats-on-perth/hi-tech-maylands-library-basic-1-to-1-tech-help-april-to-june-2026-14/
LOCATION:Maylands Public Library\, The RISE\, 28 Eighth Avenue\, Maylands\, WA\, 6051\, Australia
CATEGORIES:Free
ATTACH;FMTTYPE=image/jpeg:https://seniorocity.com.au/wp-content/uploads/2024/07/47d27fc431d8516939cc37f1f8af6de5.jpg
GEO:-31.9310445;115.8948571
X-APPLE-STRUCTURED-LOCATION;VALUE=URI;X-ADDRESS=Maylands Public Library The RISE 28 Eighth Avenue Maylands WA 6051 Australia;X-APPLE-RADIUS=500;X-TITLE=The RISE\, 28 Eighth Avenue:geo:115.8948571,-31.9310445
END:VEVENT
BEGIN:VEVENT
DTSTART;TZID=Australia/Perth:20260528T093000
DTEND;TZID=Australia/Perth:20260528T120000
DTSTAMP:20260421T030834
CREATED:20260102T074717Z
LAST-MODIFIED:20260401T142451Z
UID:10857759-1779960600-1779969600@seniorocity.com.au
SUMMARY:Art for Art's Sake - Social Art Group for Adults
DESCRIPTION:Enjoy a relaxed\, welcoming space where you can work on your own projects alongside fellow artists.
URL:https://seniorocity.com.au/whats-on-perth/art-for-arts-sake-social-art-group-for-adults-31/
LOCATION:Maylands Public Library\, The RISE\, 28 Eighth Avenue\, Maylands\, WA\, 6051\, Australia
CATEGORIES:Free,Library Events
ATTACH;FMTTYPE=image/jpeg:https://seniorocity.com.au/wp-content/uploads/2025/10/403cde6a2174f39678d165fd948c9cc5.jpg
GEO:-31.9310445;115.8948571
X-APPLE-STRUCTURED-LOCATION;VALUE=URI;X-ADDRESS=Maylands Public Library The RISE 28 Eighth Avenue Maylands WA 6051 Australia;X-APPLE-RADIUS=500;X-TITLE=The RISE\, 28 Eighth Avenue:geo:115.8948571,-31.9310445
END:VEVENT
BEGIN:VEVENT
DTSTART;TZID=Australia/Perth:20260529T093000
DTEND;TZID=Australia/Perth:20260529T113000
DTSTAMP:20260421T030834
CREATED:20260204T091519Z
LAST-MODIFIED:20260204T142049Z
UID:10862854-1780047000-1780054200@seniorocity.com.au
SUMMARY:English Conversation Group - Maylands Library
DESCRIPTION:English Conversation Group – Fluency\, Fun and Friendship
URL:https://seniorocity.com.au/whats-on-perth/english-conversation-group-maylands-library-16/
LOCATION:Maylands Public Library\, The RISE\, 28 Eighth Avenue\, Maylands\, WA\, 6051\, Australia
CATEGORIES:Language Class
ATTACH;FMTTYPE=image/jpeg:https://seniorocity.com.au/wp-content/uploads/2026/02/007c29eb8664b505b73d07efa56ec846.jpg
GEO:-31.9310445;115.8948571
X-APPLE-STRUCTURED-LOCATION;VALUE=URI;X-ADDRESS=Maylands Public Library The RISE 28 Eighth Avenue Maylands WA 6051 Australia;X-APPLE-RADIUS=500;X-TITLE=The RISE\, 28 Eighth Avenue:geo:115.8948571,-31.9310445
END:VEVENT
BEGIN:VEVENT
DTSTART;TZID=Australia/Perth:20260529T130000
DTEND;TZID=Australia/Perth:20260529T160000
DTSTAMP:20260421T030834
CREATED:20260203T083829Z
LAST-MODIFIED:20260203T084122Z
UID:10862613-1780059600-1780070400@seniorocity.com.au
SUMMARY:Loop to Loop - Bayswater Library (social group for adults)
DESCRIPTION:Do you like to knit or crochet and have a yarn with your mates?
URL:https://seniorocity.com.au/whats-on-perth/loop-to-loop-bayswater-library-social-group-for-adults-60/
LOCATION:Bayswater Library\, 25 King William Street\, Bayswater\, WA\, 6053\, Australia
CATEGORIES:Knitting
ATTACH;FMTTYPE=image/jpeg:https://seniorocity.com.au/wp-content/uploads/2024/01/3cc61f6e48a291815488a5e5848cddc2.jpg
END:VEVENT
BEGIN:VEVENT
DTSTART;TZID=Australia/Perth:20260602T100000
DTEND;TZID=Australia/Perth:20260602T120000
DTSTAMP:20260421T030834
CREATED:20260204T091320Z
LAST-MODIFIED:20260401T143616Z
UID:10862808-1780394400-1780401600@seniorocity.com.au
SUMMARY:Scrabble
DESCRIPTION:Hey word enthusiasts!  Come along to our Scrabble group.  Bring your friends or join to make new ones.
URL:https://seniorocity.com.au/whats-on-perth/scrabble-80/
LOCATION:Bayswater Library\, 25 King William Street\, Bayswater\, WA\, 6053\, Australia
CATEGORIES:Games
ATTACH;FMTTYPE=image/jpeg:https://seniorocity.com.au/wp-content/uploads/2023/12/395216af19fc80e3a7d31b811f79a441.jpg
END:VEVENT
BEGIN:VEVENT
DTSTART;TZID=Australia/Perth:20260602T174500
DTEND;TZID=Australia/Perth:20260602T190000
DTSTAMP:20260421T030834
CREATED:20260204T091926Z
LAST-MODIFIED:20260401T145300Z
UID:10862966-1780422300-1780426800@seniorocity.com.au
SUMMARY:Tuesday Night Book Club - Maylands Library - A Book Club With a Difference
DESCRIPTION:Discover a book club that is as flexible as your reading tastes!
URL:https://seniorocity.com.au/whats-on-perth/tuesday-night-book-club-maylands-library-a-book-club-with-a-difference-6/
LOCATION:Maylands Library\, 28 Eighth Avenue\, Maylands\, WA\, 6051\, Australia
CATEGORIES:Club
ATTACH;FMTTYPE=image/jpeg:https://seniorocity.com.au/wp-content/uploads/2025/10/5bf4b167f588bc820add8c0be5cb741a.jpg
END:VEVENT
END:VCALENDAR