BEGIN:VCALENDAR
VERSION:2.0
PRODID:-//Seniorocity - Seniors / Over 55&#039;s Guide to Perth - ECPv6.15.11//NONSGML v1.0//EN
CALSCALE:GREGORIAN
METHOD:PUBLISH
X-WR-CALNAME:Seniorocity - Seniors / Over 55&#039;s Guide to Perth
X-ORIGINAL-URL:https://seniorocity.com.au
X-WR-CALDESC:Events for Seniorocity - Seniors / Over 55&#039;s Guide to Perth
REFRESH-INTERVAL;VALUE=DURATION:PT1H
X-Robots-Tag:noindex
X-PUBLISHED-TTL:PT1H
BEGIN:VTIMEZONE
TZID:Australia/Perth
BEGIN:STANDARD
TZOFFSETFROM:+0800
TZOFFSETTO:+0800
TZNAME:AWST
DTSTART:20250101T000000
END:STANDARD
END:VTIMEZONE
BEGIN:VEVENT
DTSTART;TZID=Australia/Perth:20260623T100000
DTEND;TZID=Australia/Perth:20260623T120000
DTSTAMP:20260421T082706
CREATED:20260204T091322Z
LAST-MODIFIED:20260401T143634Z
UID:10862811-1782208800-1782216000@seniorocity.com.au
SUMMARY:Scrabble
DESCRIPTION:Hey word enthusiasts!  Come along to our Scrabble group.  Bring your friends or join to make new ones.
URL:https://seniorocity.com.au/whats-on-perth/scrabble-83/
LOCATION:Bayswater Library\, 25 King William Street\, Bayswater\, WA\, 6053\, Australia
CATEGORIES:Games
ATTACH;FMTTYPE=image/jpeg:https://seniorocity.com.au/wp-content/uploads/2023/12/395216af19fc80e3a7d31b811f79a441.jpg
END:VEVENT
BEGIN:VEVENT
DTSTART;TZID=Australia/Perth:20260624T090000
DTEND;TZID=Australia/Perth:20260624T100000
DTSTAMP:20260421T082706
CREATED:20260402T151933Z
LAST-MODIFIED:20260402T153017Z
UID:10865268-1782291600-1782295200@seniorocity.com.au
SUMMARY:Hi\, Tech! - Morley Library: basic 1 to 1 tech help - April to June 2026
DESCRIPTION:Get ready to level up your tech skills with personalised 1-to-1 help at Morley Library – it’s your time to shine!
URL:https://seniorocity.com.au/whats-on-perth/hi-tech-morley-library-basic-1-to-1-tech-help-april-to-june-2026-39/
LOCATION:Morley Library\, 240 Walter Road West\, Morley\, WA\, 6062\, Australia
CATEGORIES:Tech
ATTACH;FMTTYPE=image/jpeg:https://seniorocity.com.au/wp-content/uploads/2023/05/9d8a7f09914618be6e7e50f09a533e8d.jpg
END:VEVENT
BEGIN:VEVENT
DTSTART;TZID=Australia/Perth:20260624T100000
DTEND;TZID=Australia/Perth:20260624T110000
DTSTAMP:20260421T082706
CREATED:20260402T151934Z
LAST-MODIFIED:20260402T153029Z
UID:10865269-1782295200-1782298800@seniorocity.com.au
SUMMARY:Hi\, Tech! - Morley Library: basic 1 to 1 tech help - April to June 2026
DESCRIPTION:Get ready to level up your tech skills with personalised 1-to-1 help at Morley Library – it’s your time to shine!
URL:https://seniorocity.com.au/whats-on-perth/hi-tech-morley-library-basic-1-to-1-tech-help-april-to-june-2026-40/
LOCATION:Morley Library\, 240 Walter Road West\, Morley\, WA\, 6062\, Australia
CATEGORIES:Tech
ATTACH;FMTTYPE=image/jpeg:https://seniorocity.com.au/wp-content/uploads/2023/05/9d8a7f09914618be6e7e50f09a533e8d.jpg
END:VEVENT
BEGIN:VEVENT
DTSTART;TZID=Australia/Perth:20260624T130000
DTEND;TZID=Australia/Perth:20260624T140000
DTSTAMP:20260421T082706
CREATED:20260402T152652Z
LAST-MODIFIED:20260402T153447Z
UID:10865295-1782306000-1782309600@seniorocity.com.au
SUMMARY:Hi\, Tech! Maylands Library: basic 1-to-1 tech help - April to June 2026
DESCRIPTION:Get ready to level up your IT skills with personalised 1-to-1 help at Maylands Library – it’s your time to shine!
URL:https://seniorocity.com.au/whats-on-perth/hi-tech-maylands-library-basic-1-to-1-tech-help-april-to-june-2026-21/
LOCATION:Maylands Public Library\, The RISE\, 28 Eighth Avenue\, Maylands\, WA\, 6051\, Australia
CATEGORIES:Free
ATTACH;FMTTYPE=image/jpeg:https://seniorocity.com.au/wp-content/uploads/2024/07/47d27fc431d8516939cc37f1f8af6de5.jpg
GEO:-31.9310445;115.8948571
X-APPLE-STRUCTURED-LOCATION;VALUE=URI;X-ADDRESS=Maylands Public Library The RISE 28 Eighth Avenue Maylands WA 6051 Australia;X-APPLE-RADIUS=500;X-TITLE=The RISE\, 28 Eighth Avenue:geo:115.8948571,-31.9310445
END:VEVENT
BEGIN:VEVENT
DTSTART;TZID=Australia/Perth:20260624T140000
DTEND;TZID=Australia/Perth:20260624T150000
DTSTAMP:20260421T082706
CREATED:20260402T152652Z
LAST-MODIFIED:20260402T153458Z
UID:10865296-1782309600-1782313200@seniorocity.com.au
SUMMARY:Hi\, Tech! Maylands Library: basic 1-to-1 tech help - April to June 2026
DESCRIPTION:Get ready to level up your IT skills with personalised 1-to-1 help at Maylands Library – it’s your time to shine!
URL:https://seniorocity.com.au/whats-on-perth/hi-tech-maylands-library-basic-1-to-1-tech-help-april-to-june-2026-22/
LOCATION:Maylands Public Library\, The RISE\, 28 Eighth Avenue\, Maylands\, WA\, 6051\, Australia
CATEGORIES:Free
ATTACH;FMTTYPE=image/jpeg:https://seniorocity.com.au/wp-content/uploads/2024/07/47d27fc431d8516939cc37f1f8af6de5.jpg
GEO:-31.9310445;115.8948571
X-APPLE-STRUCTURED-LOCATION;VALUE=URI;X-ADDRESS=Maylands Public Library The RISE 28 Eighth Avenue Maylands WA 6051 Australia;X-APPLE-RADIUS=500;X-TITLE=The RISE\, 28 Eighth Avenue:geo:115.8948571,-31.9310445
END:VEVENT
BEGIN:VEVENT
DTSTART;TZID=Australia/Perth:20260625T093000
DTEND;TZID=Australia/Perth:20260625T120000
DTSTAMP:20260421T082706
CREATED:20260102T074719Z
LAST-MODIFIED:20260401T142545Z
UID:10857763-1782379800-1782388800@seniorocity.com.au
SUMMARY:Art for Art's Sake - Social Art Group for Adults
DESCRIPTION:Enjoy a relaxed\, welcoming space where you can work on your own projects alongside fellow artists.
URL:https://seniorocity.com.au/whats-on-perth/art-for-arts-sake-social-art-group-for-adults-35/
LOCATION:Maylands Public Library\, The RISE\, 28 Eighth Avenue\, Maylands\, WA\, 6051\, Australia
CATEGORIES:Free,Library Events
ATTACH;FMTTYPE=image/jpeg:https://seniorocity.com.au/wp-content/uploads/2025/10/403cde6a2174f39678d165fd948c9cc5.jpg
GEO:-31.9310445;115.8948571
X-APPLE-STRUCTURED-LOCATION;VALUE=URI;X-ADDRESS=Maylands Public Library The RISE 28 Eighth Avenue Maylands WA 6051 Australia;X-APPLE-RADIUS=500;X-TITLE=The RISE\, 28 Eighth Avenue:geo:115.8948571,-31.9310445
END:VEVENT
BEGIN:VEVENT
DTSTART;TZID=Australia/Perth:20260626T093000
DTEND;TZID=Australia/Perth:20260626T113000
DTSTAMP:20260421T082706
CREATED:20260204T091521Z
LAST-MODIFIED:20260204T142136Z
UID:10862858-1782466200-1782473400@seniorocity.com.au
SUMMARY:English Conversation Group - Maylands Library
DESCRIPTION:English Conversation Group – Fluency\, Fun and Friendship
URL:https://seniorocity.com.au/whats-on-perth/english-conversation-group-maylands-library-20/
LOCATION:Maylands Public Library\, The RISE\, 28 Eighth Avenue\, Maylands\, WA\, 6051\, Australia
CATEGORIES:Language Class
ATTACH;FMTTYPE=image/jpeg:https://seniorocity.com.au/wp-content/uploads/2026/02/007c29eb8664b505b73d07efa56ec846.jpg
GEO:-31.9310445;115.8948571
X-APPLE-STRUCTURED-LOCATION;VALUE=URI;X-ADDRESS=Maylands Public Library The RISE 28 Eighth Avenue Maylands WA 6051 Australia;X-APPLE-RADIUS=500;X-TITLE=The RISE\, 28 Eighth Avenue:geo:115.8948571,-31.9310445
END:VEVENT
BEGIN:VEVENT
DTSTART;TZID=Australia/Perth:20260626T100000
DTEND;TZID=Australia/Perth:20260626T110000
DTSTAMP:20260421T082706
CREATED:20260402T151948Z
LAST-MODIFIED:20260402T153042Z
UID:10865270-1782468000-1782471600@seniorocity.com.au
SUMMARY:Hi\, Tech! - Morley Library: basic 1 to 1 tech help - April to June 2026
DESCRIPTION:Get ready to level up your tech skills with personalised 1-to-1 help at Morley Library – it’s your time to shine!
URL:https://seniorocity.com.au/whats-on-perth/hi-tech-morley-library-basic-1-to-1-tech-help-april-to-june-2026-41/
LOCATION:Morley Library\, 240 Walter Road West\, Morley\, WA\, 6062\, Australia
CATEGORIES:Tech
ATTACH;FMTTYPE=image/jpeg:https://seniorocity.com.au/wp-content/uploads/2023/05/9d8a7f09914618be6e7e50f09a533e8d.jpg
END:VEVENT
BEGIN:VEVENT
DTSTART;TZID=Australia/Perth:20260626T110000
DTEND;TZID=Australia/Perth:20260626T120000
DTSTAMP:20260421T082706
CREATED:20260402T151949Z
LAST-MODIFIED:20260402T153053Z
UID:10865271-1782471600-1782475200@seniorocity.com.au
SUMMARY:Hi\, Tech! - Morley Library: basic 1 to 1 tech help - April to June 2026
DESCRIPTION:Get ready to level up your tech skills with personalised 1-to-1 help at Morley Library – it’s your time to shine!
URL:https://seniorocity.com.au/whats-on-perth/hi-tech-morley-library-basic-1-to-1-tech-help-april-to-june-2026-42/
LOCATION:Morley Library\, 240 Walter Road West\, Morley\, WA\, 6062\, Australia
CATEGORIES:Tech
ATTACH;FMTTYPE=image/jpeg:https://seniorocity.com.au/wp-content/uploads/2023/05/9d8a7f09914618be6e7e50f09a533e8d.jpg
END:VEVENT
BEGIN:VEVENT
DTSTART;TZID=Australia/Perth:20260626T120000
DTEND;TZID=Australia/Perth:20260626T130000
DTSTAMP:20260421T082706
CREATED:20260402T151950Z
LAST-MODIFIED:20260402T153106Z
UID:10865272-1782475200-1782478800@seniorocity.com.au
SUMMARY:Hi\, Tech! - Morley Library: basic 1 to 1 tech help - April to June 2026
DESCRIPTION:Get ready to level up your tech skills with personalised 1-to-1 help at Morley Library – it’s your time to shine!
URL:https://seniorocity.com.au/whats-on-perth/hi-tech-morley-library-basic-1-to-1-tech-help-april-to-june-2026-43/
LOCATION:Morley Library\, 240 Walter Road West\, Morley\, WA\, 6062\, Australia
CATEGORIES:Tech
ATTACH;FMTTYPE=image/jpeg:https://seniorocity.com.au/wp-content/uploads/2023/05/9d8a7f09914618be6e7e50f09a533e8d.jpg
END:VEVENT
BEGIN:VEVENT
DTSTART;TZID=Australia/Perth:20260626T130000
DTEND;TZID=Australia/Perth:20260626T160000
DTSTAMP:20260421T082706
CREATED:20260203T083832Z
LAST-MODIFIED:20260203T084207Z
UID:10862617-1782478800-1782489600@seniorocity.com.au
SUMMARY:Loop to Loop - Bayswater Library (social group for adults)
DESCRIPTION:Do you like to knit or crochet and have a yarn with your mates?
URL:https://seniorocity.com.au/whats-on-perth/loop-to-loop-bayswater-library-social-group-for-adults-64/
LOCATION:Bayswater Library\, 25 King William Street\, Bayswater\, WA\, 6053\, Australia
CATEGORIES:Knitting
ATTACH;FMTTYPE=image/jpeg:https://seniorocity.com.au/wp-content/uploads/2024/01/3cc61f6e48a291815488a5e5848cddc2.jpg
END:VEVENT
BEGIN:VEVENT
DTSTART;TZID=Australia/Perth:20260630T100000
DTEND;TZID=Australia/Perth:20260630T120000
DTSTAMP:20260421T082706
CREATED:20260204T091350Z
LAST-MODIFIED:20260401T143635Z
UID:10862812-1782813600-1782820800@seniorocity.com.au
SUMMARY:Scrabble
DESCRIPTION:Hey word enthusiasts!  Come along to our Scrabble group.  Bring your friends or join to make new ones.
URL:https://seniorocity.com.au/whats-on-perth/scrabble-84/
LOCATION:Bayswater Library\, 25 King William Street\, Bayswater\, WA\, 6053\, Australia
CATEGORIES:Games
ATTACH;FMTTYPE=image/jpeg:https://seniorocity.com.au/wp-content/uploads/2023/12/395216af19fc80e3a7d31b811f79a441.jpg
END:VEVENT
BEGIN:VEVENT
DTSTART;TZID=Australia/Perth:20260702T093000
DTEND;TZID=Australia/Perth:20260702T120000
DTSTAMP:20260421T082706
CREATED:20260102T074719Z
LAST-MODIFIED:20260401T142556Z
UID:10857764-1782984600-1782993600@seniorocity.com.au
SUMMARY:Art for Art's Sake - Social Art Group for Adults
DESCRIPTION:Enjoy a relaxed\, welcoming space where you can work on your own projects alongside fellow artists.
URL:https://seniorocity.com.au/whats-on-perth/art-for-arts-sake-social-art-group-for-adults-36/
LOCATION:Maylands Public Library\, The RISE\, 28 Eighth Avenue\, Maylands\, WA\, 6051\, Australia
CATEGORIES:Free,Library Events
ATTACH;FMTTYPE=image/jpeg:https://seniorocity.com.au/wp-content/uploads/2025/10/403cde6a2174f39678d165fd948c9cc5.jpg
GEO:-31.9310445;115.8948571
X-APPLE-STRUCTURED-LOCATION;VALUE=URI;X-ADDRESS=Maylands Public Library The RISE 28 Eighth Avenue Maylands WA 6051 Australia;X-APPLE-RADIUS=500;X-TITLE=The RISE\, 28 Eighth Avenue:geo:115.8948571,-31.9310445
END:VEVENT
BEGIN:VEVENT
DTSTART;TZID=Australia/Perth:20260703T093000
DTEND;TZID=Australia/Perth:20260703T113000
DTSTAMP:20260421T082706
CREATED:20260204T091549Z
LAST-MODIFIED:20260204T142146Z
UID:10862859-1783071000-1783078200@seniorocity.com.au
SUMMARY:English Conversation Group - Maylands Library
DESCRIPTION:English Conversation Group – Fluency\, Fun and Friendship
URL:https://seniorocity.com.au/whats-on-perth/english-conversation-group-maylands-library-21/
LOCATION:Maylands Public Library\, The RISE\, 28 Eighth Avenue\, Maylands\, WA\, 6051\, Australia
CATEGORIES:Language Class
ATTACH;FMTTYPE=image/jpeg:https://seniorocity.com.au/wp-content/uploads/2026/02/007c29eb8664b505b73d07efa56ec846.jpg
GEO:-31.9310445;115.8948571
X-APPLE-STRUCTURED-LOCATION;VALUE=URI;X-ADDRESS=Maylands Public Library The RISE 28 Eighth Avenue Maylands WA 6051 Australia;X-APPLE-RADIUS=500;X-TITLE=The RISE\, 28 Eighth Avenue:geo:115.8948571,-31.9310445
END:VEVENT
BEGIN:VEVENT
DTSTART;TZID=Australia/Perth:20260703T130000
DTEND;TZID=Australia/Perth:20260703T160000
DTSTAMP:20260421T082706
CREATED:20260203T083859Z
LAST-MODIFIED:20260203T084220Z
UID:10862618-1783083600-1783094400@seniorocity.com.au
SUMMARY:Loop to Loop - Bayswater Library (social group for adults)
DESCRIPTION:Do you like to knit or crochet and have a yarn with your mates?
URL:https://seniorocity.com.au/whats-on-perth/loop-to-loop-bayswater-library-social-group-for-adults-65/
LOCATION:Bayswater Library\, 25 King William Street\, Bayswater\, WA\, 6053\, Australia
CATEGORIES:Knitting
ATTACH;FMTTYPE=image/jpeg:https://seniorocity.com.au/wp-content/uploads/2024/01/3cc61f6e48a291815488a5e5848cddc2.jpg
END:VEVENT
BEGIN:VEVENT
DTSTART;TZID=Australia/Perth:20260707T100000
DTEND;TZID=Australia/Perth:20260707T120000
DTSTAMP:20260421T082706
CREATED:20260204T091350Z
LAST-MODIFIED:20260401T143635Z
UID:10862813-1783418400-1783425600@seniorocity.com.au
SUMMARY:Scrabble
DESCRIPTION:Hey word enthusiasts!  Come along to our Scrabble group.  Bring your friends or join to make new ones.
URL:https://seniorocity.com.au/whats-on-perth/scrabble-85/
LOCATION:Bayswater Library\, 25 King William Street\, Bayswater\, WA\, 6053\, Australia
CATEGORIES:Games
ATTACH;FMTTYPE=image/jpeg:https://seniorocity.com.au/wp-content/uploads/2023/12/395216af19fc80e3a7d31b811f79a441.jpg
END:VEVENT
BEGIN:VEVENT
DTSTART;TZID=Australia/Perth:20260707T174500
DTEND;TZID=Australia/Perth:20260707T190000
DTSTAMP:20260421T082706
CREATED:20260204T091927Z
LAST-MODIFIED:20260401T145314Z
UID:10862967-1783446300-1783450800@seniorocity.com.au
SUMMARY:Tuesday Night Book Club - Maylands Library - A Book Club With a Difference
DESCRIPTION:Discover a book club that is as flexible as your reading tastes!
URL:https://seniorocity.com.au/whats-on-perth/tuesday-night-book-club-maylands-library-a-book-club-with-a-difference-7/
LOCATION:Maylands Library\, 28 Eighth Avenue\, Maylands\, WA\, 6051\, Australia
CATEGORIES:Club
ATTACH;FMTTYPE=image/jpeg:https://seniorocity.com.au/wp-content/uploads/2025/10/5bf4b167f588bc820add8c0be5cb741a.jpg
END:VEVENT
BEGIN:VEVENT
DTSTART;TZID=Australia/Perth:20260709T093000
DTEND;TZID=Australia/Perth:20260709T120000
DTSTAMP:20260421T082706
CREATED:20260102T074720Z
LAST-MODIFIED:20260401T142614Z
UID:10857765-1783589400-1783598400@seniorocity.com.au
SUMMARY:Art for Art's Sake - Social Art Group for Adults
DESCRIPTION:Enjoy a relaxed\, welcoming space where you can work on your own projects alongside fellow artists.
URL:https://seniorocity.com.au/whats-on-perth/art-for-arts-sake-social-art-group-for-adults-37/
LOCATION:Maylands Public Library\, The RISE\, 28 Eighth Avenue\, Maylands\, WA\, 6051\, Australia
CATEGORIES:Free,Library Events
ATTACH;FMTTYPE=image/jpeg:https://seniorocity.com.au/wp-content/uploads/2025/10/403cde6a2174f39678d165fd948c9cc5.jpg
GEO:-31.9310445;115.8948571
X-APPLE-STRUCTURED-LOCATION;VALUE=URI;X-ADDRESS=Maylands Public Library The RISE 28 Eighth Avenue Maylands WA 6051 Australia;X-APPLE-RADIUS=500;X-TITLE=The RISE\, 28 Eighth Avenue:geo:115.8948571,-31.9310445
END:VEVENT
BEGIN:VEVENT
DTSTART;TZID=Australia/Perth:20260710T093000
DTEND;TZID=Australia/Perth:20260710T113000
DTSTAMP:20260421T082707
CREATED:20260204T091550Z
LAST-MODIFIED:20260204T142156Z
UID:10862860-1783675800-1783683000@seniorocity.com.au
SUMMARY:English Conversation Group - Maylands Library
DESCRIPTION:English Conversation Group – Fluency\, Fun and Friendship
URL:https://seniorocity.com.au/whats-on-perth/english-conversation-group-maylands-library-22/
LOCATION:Maylands Public Library\, The RISE\, 28 Eighth Avenue\, Maylands\, WA\, 6051\, Australia
CATEGORIES:Language Class
ATTACH;FMTTYPE=image/jpeg:https://seniorocity.com.au/wp-content/uploads/2026/02/007c29eb8664b505b73d07efa56ec846.jpg
GEO:-31.9310445;115.8948571
X-APPLE-STRUCTURED-LOCATION;VALUE=URI;X-ADDRESS=Maylands Public Library The RISE 28 Eighth Avenue Maylands WA 6051 Australia;X-APPLE-RADIUS=500;X-TITLE=The RISE\, 28 Eighth Avenue:geo:115.8948571,-31.9310445
END:VEVENT
BEGIN:VEVENT
DTSTART;TZID=Australia/Perth:20260710T130000
DTEND;TZID=Australia/Perth:20260710T160000
DTSTAMP:20260421T082707
CREATED:20260203T083859Z
LAST-MODIFIED:20260203T084232Z
UID:10862619-1783688400-1783699200@seniorocity.com.au
SUMMARY:Loop to Loop - Bayswater Library (social group for adults)
DESCRIPTION:Do you like to knit or crochet and have a yarn with your mates?
URL:https://seniorocity.com.au/whats-on-perth/loop-to-loop-bayswater-library-social-group-for-adults-66/
LOCATION:Bayswater Library\, 25 King William Street\, Bayswater\, WA\, 6053\, Australia
CATEGORIES:Knitting
ATTACH;FMTTYPE=image/jpeg:https://seniorocity.com.au/wp-content/uploads/2024/01/3cc61f6e48a291815488a5e5848cddc2.jpg
END:VEVENT
BEGIN:VEVENT
DTSTART;TZID=Australia/Perth:20260714T100000
DTEND;TZID=Australia/Perth:20260714T120000
DTSTAMP:20260421T082707
CREATED:20260204T091351Z
LAST-MODIFIED:20260401T143636Z
UID:10862814-1784023200-1784030400@seniorocity.com.au
SUMMARY:Scrabble
DESCRIPTION:Hey word enthusiasts!  Come along to our Scrabble group.  Bring your friends or join to make new ones.
URL:https://seniorocity.com.au/whats-on-perth/scrabble-86/
LOCATION:Bayswater Library\, 25 King William Street\, Bayswater\, WA\, 6053\, Australia
CATEGORIES:Games
ATTACH;FMTTYPE=image/jpeg:https://seniorocity.com.au/wp-content/uploads/2023/12/395216af19fc80e3a7d31b811f79a441.jpg
END:VEVENT
BEGIN:VEVENT
DTSTART;TZID=Australia/Perth:20260716T093000
DTEND;TZID=Australia/Perth:20260716T120000
DTSTAMP:20260421T082707
CREATED:20260102T074721Z
LAST-MODIFIED:20260401T142622Z
UID:10857766-1784194200-1784203200@seniorocity.com.au
SUMMARY:Art for Art's Sake - Social Art Group for Adults
DESCRIPTION:Enjoy a relaxed\, welcoming space where you can work on your own projects alongside fellow artists.
URL:https://seniorocity.com.au/whats-on-perth/art-for-arts-sake-social-art-group-for-adults-38/
LOCATION:Maylands Public Library\, The RISE\, 28 Eighth Avenue\, Maylands\, WA\, 6051\, Australia
CATEGORIES:Free,Library Events
ATTACH;FMTTYPE=image/jpeg:https://seniorocity.com.au/wp-content/uploads/2025/10/403cde6a2174f39678d165fd948c9cc5.jpg
GEO:-31.9310445;115.8948571
X-APPLE-STRUCTURED-LOCATION;VALUE=URI;X-ADDRESS=Maylands Public Library The RISE 28 Eighth Avenue Maylands WA 6051 Australia;X-APPLE-RADIUS=500;X-TITLE=The RISE\, 28 Eighth Avenue:geo:115.8948571,-31.9310445
END:VEVENT
BEGIN:VEVENT
DTSTART;TZID=Australia/Perth:20260717T093000
DTEND;TZID=Australia/Perth:20260717T113000
DTSTAMP:20260421T082707
CREATED:20260204T091550Z
LAST-MODIFIED:20260204T142209Z
UID:10862861-1784280600-1784287800@seniorocity.com.au
SUMMARY:English Conversation Group - Maylands Library
DESCRIPTION:English Conversation Group – Fluency\, Fun and Friendship
URL:https://seniorocity.com.au/whats-on-perth/english-conversation-group-maylands-library-23/
LOCATION:Maylands Public Library\, The RISE\, 28 Eighth Avenue\, Maylands\, WA\, 6051\, Australia
CATEGORIES:Language Class
ATTACH;FMTTYPE=image/jpeg:https://seniorocity.com.au/wp-content/uploads/2026/02/007c29eb8664b505b73d07efa56ec846.jpg
GEO:-31.9310445;115.8948571
X-APPLE-STRUCTURED-LOCATION;VALUE=URI;X-ADDRESS=Maylands Public Library The RISE 28 Eighth Avenue Maylands WA 6051 Australia;X-APPLE-RADIUS=500;X-TITLE=The RISE\, 28 Eighth Avenue:geo:115.8948571,-31.9310445
END:VEVENT
BEGIN:VEVENT
DTSTART;TZID=Australia/Perth:20260717T130000
DTEND;TZID=Australia/Perth:20260717T160000
DTSTAMP:20260421T082707
CREATED:20260203T083900Z
LAST-MODIFIED:20260203T084244Z
UID:10862620-1784293200-1784304000@seniorocity.com.au
SUMMARY:Loop to Loop - Bayswater Library (social group for adults)
DESCRIPTION:Do you like to knit or crochet and have a yarn with your mates?
URL:https://seniorocity.com.au/whats-on-perth/loop-to-loop-bayswater-library-social-group-for-adults-67/
LOCATION:Bayswater Library\, 25 King William Street\, Bayswater\, WA\, 6053\, Australia
CATEGORIES:Knitting
ATTACH;FMTTYPE=image/jpeg:https://seniorocity.com.au/wp-content/uploads/2024/01/3cc61f6e48a291815488a5e5848cddc2.jpg
END:VEVENT
BEGIN:VEVENT
DTSTART;TZID=Australia/Perth:20260721T100000
DTEND;TZID=Australia/Perth:20260721T120000
DTSTAMP:20260421T082707
CREATED:20260204T091352Z
LAST-MODIFIED:20260401T143637Z
UID:10862815-1784628000-1784635200@seniorocity.com.au
SUMMARY:Scrabble
DESCRIPTION:Hey word enthusiasts!  Come along to our Scrabble group.  Bring your friends or join to make new ones.
URL:https://seniorocity.com.au/whats-on-perth/scrabble-87/
LOCATION:Bayswater Library\, 25 King William Street\, Bayswater\, WA\, 6053\, Australia
CATEGORIES:Games
ATTACH;FMTTYPE=image/jpeg:https://seniorocity.com.au/wp-content/uploads/2023/12/395216af19fc80e3a7d31b811f79a441.jpg
END:VEVENT
BEGIN:VEVENT
DTSTART;TZID=Australia/Perth:20260723T093000
DTEND;TZID=Australia/Perth:20260723T120000
DTSTAMP:20260421T082707
CREATED:20260102T074721Z
LAST-MODIFIED:20260401T142634Z
UID:10857767-1784799000-1784808000@seniorocity.com.au
SUMMARY:Art for Art's Sake - Social Art Group for Adults
DESCRIPTION:Enjoy a relaxed\, welcoming space where you can work on your own projects alongside fellow artists.
URL:https://seniorocity.com.au/whats-on-perth/art-for-arts-sake-social-art-group-for-adults-39/
LOCATION:Maylands Public Library\, The RISE\, 28 Eighth Avenue\, Maylands\, WA\, 6051\, Australia
CATEGORIES:Free,Library Events
ATTACH;FMTTYPE=image/jpeg:https://seniorocity.com.au/wp-content/uploads/2025/10/403cde6a2174f39678d165fd948c9cc5.jpg
GEO:-31.9310445;115.8948571
X-APPLE-STRUCTURED-LOCATION;VALUE=URI;X-ADDRESS=Maylands Public Library The RISE 28 Eighth Avenue Maylands WA 6051 Australia;X-APPLE-RADIUS=500;X-TITLE=The RISE\, 28 Eighth Avenue:geo:115.8948571,-31.9310445
END:VEVENT
BEGIN:VEVENT
DTSTART;TZID=Australia/Perth:20260724T093000
DTEND;TZID=Australia/Perth:20260724T113000
DTSTAMP:20260421T082707
CREATED:20260204T091550Z
LAST-MODIFIED:20260204T142220Z
UID:10862862-1784885400-1784892600@seniorocity.com.au
SUMMARY:English Conversation Group - Maylands Library
DESCRIPTION:English Conversation Group – Fluency\, Fun and Friendship
URL:https://seniorocity.com.au/whats-on-perth/english-conversation-group-maylands-library-24/
LOCATION:Maylands Public Library\, The RISE\, 28 Eighth Avenue\, Maylands\, WA\, 6051\, Australia
CATEGORIES:Language Class
ATTACH;FMTTYPE=image/jpeg:https://seniorocity.com.au/wp-content/uploads/2026/02/007c29eb8664b505b73d07efa56ec846.jpg
GEO:-31.9310445;115.8948571
X-APPLE-STRUCTURED-LOCATION;VALUE=URI;X-ADDRESS=Maylands Public Library The RISE 28 Eighth Avenue Maylands WA 6051 Australia;X-APPLE-RADIUS=500;X-TITLE=The RISE\, 28 Eighth Avenue:geo:115.8948571,-31.9310445
END:VEVENT
BEGIN:VEVENT
DTSTART;TZID=Australia/Perth:20260724T130000
DTEND;TZID=Australia/Perth:20260724T160000
DTSTAMP:20260421T082707
CREATED:20260203T083901Z
LAST-MODIFIED:20260203T084254Z
UID:10862621-1784898000-1784908800@seniorocity.com.au
SUMMARY:Loop to Loop - Bayswater Library (social group for adults)
DESCRIPTION:Do you like to knit or crochet and have a yarn with your mates?
URL:https://seniorocity.com.au/whats-on-perth/loop-to-loop-bayswater-library-social-group-for-adults-68/
LOCATION:Bayswater Library\, 25 King William Street\, Bayswater\, WA\, 6053\, Australia
CATEGORIES:Knitting
ATTACH;FMTTYPE=image/jpeg:https://seniorocity.com.au/wp-content/uploads/2024/01/3cc61f6e48a291815488a5e5848cddc2.jpg
END:VEVENT
BEGIN:VEVENT
DTSTART;TZID=Australia/Perth:20260728T100000
DTEND;TZID=Australia/Perth:20260728T120000
DTSTAMP:20260421T082707
CREATED:20260204T091353Z
LAST-MODIFIED:20260401T143638Z
UID:10862816-1785232800-1785240000@seniorocity.com.au
SUMMARY:Scrabble
DESCRIPTION:Hey word enthusiasts!  Come along to our Scrabble group.  Bring your friends or join to make new ones.
URL:https://seniorocity.com.au/whats-on-perth/scrabble-88/
LOCATION:Bayswater Library\, 25 King William Street\, Bayswater\, WA\, 6053\, Australia
CATEGORIES:Games
ATTACH;FMTTYPE=image/jpeg:https://seniorocity.com.au/wp-content/uploads/2023/12/395216af19fc80e3a7d31b811f79a441.jpg
END:VEVENT
BEGIN:VEVENT
DTSTART;TZID=Australia/Perth:20260730T093000
DTEND;TZID=Australia/Perth:20260730T120000
DTSTAMP:20260421T082707
CREATED:20260102T074722Z
LAST-MODIFIED:20260401T142645Z
UID:10857768-1785403800-1785412800@seniorocity.com.au
SUMMARY:Art for Art's Sake - Social Art Group for Adults
DESCRIPTION:Enjoy a relaxed\, welcoming space where you can work on your own projects alongside fellow artists.
URL:https://seniorocity.com.au/whats-on-perth/art-for-arts-sake-social-art-group-for-adults-40/
LOCATION:Maylands Public Library\, The RISE\, 28 Eighth Avenue\, Maylands\, WA\, 6051\, Australia
CATEGORIES:Free,Library Events
ATTACH;FMTTYPE=image/jpeg:https://seniorocity.com.au/wp-content/uploads/2025/10/403cde6a2174f39678d165fd948c9cc5.jpg
GEO:-31.9310445;115.8948571
X-APPLE-STRUCTURED-LOCATION;VALUE=URI;X-ADDRESS=Maylands Public Library The RISE 28 Eighth Avenue Maylands WA 6051 Australia;X-APPLE-RADIUS=500;X-TITLE=The RISE\, 28 Eighth Avenue:geo:115.8948571,-31.9310445
END:VEVENT
END:VCALENDAR