BEGIN:VCALENDAR
VERSION:2.0
PRODID:-//Seniorocity - Seniors / Over 55&#039;s Guide to Perth - ECPv6.15.11//NONSGML v1.0//EN
CALSCALE:GREGORIAN
METHOD:PUBLISH
X-WR-CALNAME:Seniorocity - Seniors / Over 55&#039;s Guide to Perth
X-ORIGINAL-URL:https://seniorocity.com.au
X-WR-CALDESC:Events for Seniorocity - Seniors / Over 55&#039;s Guide to Perth
REFRESH-INTERVAL;VALUE=DURATION:PT1H
X-Robots-Tag:noindex
X-PUBLISHED-TTL:PT1H
BEGIN:VTIMEZONE
TZID:Australia/Perth
BEGIN:STANDARD
TZOFFSETFROM:+0800
TZOFFSETTO:+0800
TZNAME:AWST
DTSTART:20250101T000000
END:STANDARD
END:VTIMEZONE
BEGIN:VEVENT
DTSTART;TZID=Australia/Perth:20260918T130000
DTEND;TZID=Australia/Perth:20260918T160000
DTSTAMP:20260421T133214
CREATED:20260203T083937Z
LAST-MODIFIED:20260203T084423Z
UID:10862629-1789736400-1789747200@seniorocity.com.au
SUMMARY:Loop to Loop - Bayswater Library (social group for adults)
DESCRIPTION:Do you like to knit or crochet and have a yarn with your mates?
URL:https://seniorocity.com.au/whats-on-perth/loop-to-loop-bayswater-library-social-group-for-adults-76/
LOCATION:Bayswater Library\, 25 King William Street\, Bayswater\, WA\, 6053\, Australia
CATEGORIES:Knitting
ATTACH;FMTTYPE=image/jpeg:https://seniorocity.com.au/wp-content/uploads/2024/01/3cc61f6e48a291815488a5e5848cddc2.jpg
END:VEVENT
BEGIN:VEVENT
DTSTART;TZID=Australia/Perth:20260922T100000
DTEND;TZID=Australia/Perth:20260922T120000
DTSTAMP:20260421T133214
CREATED:20260204T091426Z
LAST-MODIFIED:20260401T143705Z
UID:10862824-1790071200-1790078400@seniorocity.com.au
SUMMARY:Scrabble
DESCRIPTION:Hey word enthusiasts!  Come along to our Scrabble group.  Bring your friends or join to make new ones.
URL:https://seniorocity.com.au/whats-on-perth/scrabble-96/
LOCATION:Bayswater Library\, 25 King William Street\, Bayswater\, WA\, 6053\, Australia
CATEGORIES:Games
ATTACH;FMTTYPE=image/jpeg:https://seniorocity.com.au/wp-content/uploads/2023/12/395216af19fc80e3a7d31b811f79a441.jpg
END:VEVENT
BEGIN:VEVENT
DTSTART;TZID=Australia/Perth:20260924T093000
DTEND;TZID=Australia/Perth:20260924T120000
DTSTAMP:20260421T133214
CREATED:20260102T074752Z
LAST-MODIFIED:20260401T142845Z
UID:10857776-1790242200-1790251200@seniorocity.com.au
SUMMARY:Art for Art's Sake - Social Art Group for Adults
DESCRIPTION:Enjoy a relaxed\, welcoming space where you can work on your own projects alongside fellow artists.
URL:https://seniorocity.com.au/whats-on-perth/art-for-arts-sake-social-art-group-for-adults-48/
LOCATION:Maylands Public Library\, The RISE\, 28 Eighth Avenue\, Maylands\, WA\, 6051\, Australia
CATEGORIES:Free,Library Events
ATTACH;FMTTYPE=image/jpeg:https://seniorocity.com.au/wp-content/uploads/2025/10/403cde6a2174f39678d165fd948c9cc5.jpg
GEO:-31.9310445;115.8948571
X-APPLE-STRUCTURED-LOCATION;VALUE=URI;X-ADDRESS=Maylands Public Library The RISE 28 Eighth Avenue Maylands WA 6051 Australia;X-APPLE-RADIUS=500;X-TITLE=The RISE\, 28 Eighth Avenue:geo:115.8948571,-31.9310445
END:VEVENT
BEGIN:VEVENT
DTSTART;TZID=Australia/Perth:20260925T093000
DTEND;TZID=Australia/Perth:20260925T113000
DTSTAMP:20260421T133214
CREATED:20260204T091626Z
LAST-MODIFIED:20260204T142400Z
UID:10862881-1790328600-1790335800@seniorocity.com.au
SUMMARY:English Conversation Group - Maylands Library
DESCRIPTION:English Conversation Group – Fluency\, Fun and Friendship
URL:https://seniorocity.com.au/whats-on-perth/english-conversation-group-maylands-library-33/
LOCATION:Maylands Public Library\, The RISE\, 28 Eighth Avenue\, Maylands\, WA\, 6051\, Australia
CATEGORIES:Language Class
ATTACH;FMTTYPE=image/jpeg:https://seniorocity.com.au/wp-content/uploads/2026/02/007c29eb8664b505b73d07efa56ec846.jpg
GEO:-31.9310445;115.8948571
X-APPLE-STRUCTURED-LOCATION;VALUE=URI;X-ADDRESS=Maylands Public Library The RISE 28 Eighth Avenue Maylands WA 6051 Australia;X-APPLE-RADIUS=500;X-TITLE=The RISE\, 28 Eighth Avenue:geo:115.8948571,-31.9310445
END:VEVENT
BEGIN:VEVENT
DTSTART;TZID=Australia/Perth:20260925T130000
DTEND;TZID=Australia/Perth:20260925T160000
DTSTAMP:20260421T133214
CREATED:20260203T083938Z
LAST-MODIFIED:20260203T084434Z
UID:10862630-1790341200-1790352000@seniorocity.com.au
SUMMARY:Loop to Loop - Bayswater Library (social group for adults)
DESCRIPTION:Do you like to knit or crochet and have a yarn with your mates?
URL:https://seniorocity.com.au/whats-on-perth/loop-to-loop-bayswater-library-social-group-for-adults-77/
LOCATION:Bayswater Library\, 25 King William Street\, Bayswater\, WA\, 6053\, Australia
CATEGORIES:Knitting
ATTACH;FMTTYPE=image/jpeg:https://seniorocity.com.au/wp-content/uploads/2024/01/3cc61f6e48a291815488a5e5848cddc2.jpg
END:VEVENT
BEGIN:VEVENT
DTSTART;TZID=Australia/Perth:20260929T100000
DTEND;TZID=Australia/Perth:20260929T120000
DTSTAMP:20260421T133214
CREATED:20260204T091426Z
LAST-MODIFIED:20260401T143707Z
UID:10862825-1790676000-1790683200@seniorocity.com.au
SUMMARY:Scrabble
DESCRIPTION:Hey word enthusiasts!  Come along to our Scrabble group.  Bring your friends or join to make new ones.
URL:https://seniorocity.com.au/whats-on-perth/scrabble-97/
LOCATION:Bayswater Library\, 25 King William Street\, Bayswater\, WA\, 6053\, Australia
CATEGORIES:Games
ATTACH;FMTTYPE=image/jpeg:https://seniorocity.com.au/wp-content/uploads/2023/12/395216af19fc80e3a7d31b811f79a441.jpg
END:VEVENT
BEGIN:VEVENT
DTSTART;TZID=Australia/Perth:20261001T093000
DTEND;TZID=Australia/Perth:20261001T120000
DTSTAMP:20260421T133214
CREATED:20260102T074753Z
LAST-MODIFIED:20260401T142857Z
UID:10857777-1790847000-1790856000@seniorocity.com.au
SUMMARY:Art for Art's Sake - Social Art Group for Adults
DESCRIPTION:Enjoy a relaxed\, welcoming space where you can work on your own projects alongside fellow artists.
URL:https://seniorocity.com.au/whats-on-perth/art-for-arts-sake-social-art-group-for-adults-49/
LOCATION:Maylands Public Library\, The RISE\, 28 Eighth Avenue\, Maylands\, WA\, 6051\, Australia
CATEGORIES:Free,Library Events
ATTACH;FMTTYPE=image/jpeg:https://seniorocity.com.au/wp-content/uploads/2025/10/403cde6a2174f39678d165fd948c9cc5.jpg
GEO:-31.9310445;115.8948571
X-APPLE-STRUCTURED-LOCATION;VALUE=URI;X-ADDRESS=Maylands Public Library The RISE 28 Eighth Avenue Maylands WA 6051 Australia;X-APPLE-RADIUS=500;X-TITLE=The RISE\, 28 Eighth Avenue:geo:115.8948571,-31.9310445
END:VEVENT
BEGIN:VEVENT
DTSTART;TZID=Australia/Perth:20261002T093000
DTEND;TZID=Australia/Perth:20261002T113000
DTSTAMP:20260421T133214
CREATED:20260204T091626Z
LAST-MODIFIED:20260204T142414Z
UID:10862882-1790933400-1790940600@seniorocity.com.au
SUMMARY:English Conversation Group - Maylands Library
DESCRIPTION:English Conversation Group – Fluency\, Fun and Friendship
URL:https://seniorocity.com.au/whats-on-perth/english-conversation-group-maylands-library-34/
LOCATION:Maylands Public Library\, The RISE\, 28 Eighth Avenue\, Maylands\, WA\, 6051\, Australia
CATEGORIES:Language Class
ATTACH;FMTTYPE=image/jpeg:https://seniorocity.com.au/wp-content/uploads/2026/02/007c29eb8664b505b73d07efa56ec846.jpg
GEO:-31.9310445;115.8948571
X-APPLE-STRUCTURED-LOCATION;VALUE=URI;X-ADDRESS=Maylands Public Library The RISE 28 Eighth Avenue Maylands WA 6051 Australia;X-APPLE-RADIUS=500;X-TITLE=The RISE\, 28 Eighth Avenue:geo:115.8948571,-31.9310445
END:VEVENT
BEGIN:VEVENT
DTSTART;TZID=Australia/Perth:20261002T130000
DTEND;TZID=Australia/Perth:20261002T160000
DTSTAMP:20260421T133214
CREATED:20260203T083939Z
LAST-MODIFIED:20260203T084443Z
UID:10862631-1790946000-1790956800@seniorocity.com.au
SUMMARY:Loop to Loop - Bayswater Library (social group for adults)
DESCRIPTION:Do you like to knit or crochet and have a yarn with your mates?
URL:https://seniorocity.com.au/whats-on-perth/loop-to-loop-bayswater-library-social-group-for-adults-78/
LOCATION:Bayswater Library\, 25 King William Street\, Bayswater\, WA\, 6053\, Australia
CATEGORIES:Knitting
ATTACH;FMTTYPE=image/jpeg:https://seniorocity.com.au/wp-content/uploads/2024/01/3cc61f6e48a291815488a5e5848cddc2.jpg
END:VEVENT
BEGIN:VEVENT
DTSTART;TZID=Australia/Perth:20261006T100000
DTEND;TZID=Australia/Perth:20261006T120000
DTSTAMP:20260421T133214
CREATED:20260204T091427Z
LAST-MODIFIED:20260401T143709Z
UID:10862826-1791280800-1791288000@seniorocity.com.au
SUMMARY:Scrabble
DESCRIPTION:Hey word enthusiasts!  Come along to our Scrabble group.  Bring your friends or join to make new ones.
URL:https://seniorocity.com.au/whats-on-perth/scrabble-98/
LOCATION:Bayswater Library\, 25 King William Street\, Bayswater\, WA\, 6053\, Australia
CATEGORIES:Games
ATTACH;FMTTYPE=image/jpeg:https://seniorocity.com.au/wp-content/uploads/2023/12/395216af19fc80e3a7d31b811f79a441.jpg
END:VEVENT
BEGIN:VEVENT
DTSTART;TZID=Australia/Perth:20261006T174500
DTEND;TZID=Australia/Perth:20261006T190000
DTSTAMP:20260421T133214
CREATED:20260204T091929Z
LAST-MODIFIED:20260401T145350Z
UID:10862970-1791308700-1791313200@seniorocity.com.au
SUMMARY:Tuesday Night Book Club - Maylands Library - A Book Club With a Difference
DESCRIPTION:Discover a book club that is as flexible as your reading tastes!
URL:https://seniorocity.com.au/whats-on-perth/tuesday-night-book-club-maylands-library-a-book-club-with-a-difference-10/
LOCATION:Maylands Library\, 28 Eighth Avenue\, Maylands\, WA\, 6051\, Australia
CATEGORIES:Club
ATTACH;FMTTYPE=image/jpeg:https://seniorocity.com.au/wp-content/uploads/2025/10/5bf4b167f588bc820add8c0be5cb741a.jpg
END:VEVENT
BEGIN:VEVENT
DTSTART;TZID=Australia/Perth:20261008T093000
DTEND;TZID=Australia/Perth:20261008T120000
DTSTAMP:20260421T133214
CREATED:20260102T074753Z
LAST-MODIFIED:20260401T142911Z
UID:10857778-1791451800-1791460800@seniorocity.com.au
SUMMARY:Art for Art's Sake - Social Art Group for Adults
DESCRIPTION:Enjoy a relaxed\, welcoming space where you can work on your own projects alongside fellow artists.
URL:https://seniorocity.com.au/whats-on-perth/art-for-arts-sake-social-art-group-for-adults-50/
LOCATION:Maylands Public Library\, The RISE\, 28 Eighth Avenue\, Maylands\, WA\, 6051\, Australia
CATEGORIES:Free,Library Events
ATTACH;FMTTYPE=image/jpeg:https://seniorocity.com.au/wp-content/uploads/2025/10/403cde6a2174f39678d165fd948c9cc5.jpg
GEO:-31.9310445;115.8948571
X-APPLE-STRUCTURED-LOCATION;VALUE=URI;X-ADDRESS=Maylands Public Library The RISE 28 Eighth Avenue Maylands WA 6051 Australia;X-APPLE-RADIUS=500;X-TITLE=The RISE\, 28 Eighth Avenue:geo:115.8948571,-31.9310445
END:VEVENT
BEGIN:VEVENT
DTSTART;TZID=Australia/Perth:20261009T093000
DTEND;TZID=Australia/Perth:20261009T113000
DTSTAMP:20260421T133214
CREATED:20260204T091627Z
LAST-MODIFIED:20260204T142428Z
UID:10862883-1791538200-1791545400@seniorocity.com.au
SUMMARY:English Conversation Group - Maylands Library
DESCRIPTION:English Conversation Group – Fluency\, Fun and Friendship
URL:https://seniorocity.com.au/whats-on-perth/english-conversation-group-maylands-library-35/
LOCATION:Maylands Public Library\, The RISE\, 28 Eighth Avenue\, Maylands\, WA\, 6051\, Australia
CATEGORIES:Language Class
ATTACH;FMTTYPE=image/jpeg:https://seniorocity.com.au/wp-content/uploads/2026/02/007c29eb8664b505b73d07efa56ec846.jpg
GEO:-31.9310445;115.8948571
X-APPLE-STRUCTURED-LOCATION;VALUE=URI;X-ADDRESS=Maylands Public Library The RISE 28 Eighth Avenue Maylands WA 6051 Australia;X-APPLE-RADIUS=500;X-TITLE=The RISE\, 28 Eighth Avenue:geo:115.8948571,-31.9310445
END:VEVENT
BEGIN:VEVENT
DTSTART;TZID=Australia/Perth:20261009T130000
DTEND;TZID=Australia/Perth:20261009T160000
DTSTAMP:20260421T133214
CREATED:20260203T083939Z
LAST-MODIFIED:20260203T084454Z
UID:10862632-1791550800-1791561600@seniorocity.com.au
SUMMARY:Loop to Loop - Bayswater Library (social group for adults)
DESCRIPTION:Do you like to knit or crochet and have a yarn with your mates?
URL:https://seniorocity.com.au/whats-on-perth/loop-to-loop-bayswater-library-social-group-for-adults-79/
LOCATION:Bayswater Library\, 25 King William Street\, Bayswater\, WA\, 6053\, Australia
CATEGORIES:Knitting
ATTACH;FMTTYPE=image/jpeg:https://seniorocity.com.au/wp-content/uploads/2024/01/3cc61f6e48a291815488a5e5848cddc2.jpg
END:VEVENT
BEGIN:VEVENT
DTSTART;TZID=Australia/Perth:20261013T100000
DTEND;TZID=Australia/Perth:20261013T120000
DTSTAMP:20260421T133214
CREATED:20260204T091428Z
LAST-MODIFIED:20260401T143711Z
UID:10862827-1791885600-1791892800@seniorocity.com.au
SUMMARY:Scrabble
DESCRIPTION:Hey word enthusiasts!  Come along to our Scrabble group.  Bring your friends or join to make new ones.
URL:https://seniorocity.com.au/whats-on-perth/scrabble-99/
LOCATION:Bayswater Library\, 25 King William Street\, Bayswater\, WA\, 6053\, Australia
CATEGORIES:Games
ATTACH;FMTTYPE=image/jpeg:https://seniorocity.com.au/wp-content/uploads/2023/12/395216af19fc80e3a7d31b811f79a441.jpg
END:VEVENT
BEGIN:VEVENT
DTSTART;TZID=Australia/Perth:20261015T093000
DTEND;TZID=Australia/Perth:20261015T120000
DTSTAMP:20260421T133214
CREATED:20260102T074822Z
LAST-MODIFIED:20260401T142924Z
UID:10857779-1792056600-1792065600@seniorocity.com.au
SUMMARY:Art for Art's Sake - Social Art Group for Adults
DESCRIPTION:Enjoy a relaxed\, welcoming space where you can work on your own projects alongside fellow artists.
URL:https://seniorocity.com.au/whats-on-perth/art-for-arts-sake-social-art-group-for-adults-51/
LOCATION:Maylands Public Library\, The RISE\, 28 Eighth Avenue\, Maylands\, WA\, 6051\, Australia
CATEGORIES:Free,Library Events
ATTACH;FMTTYPE=image/jpeg:https://seniorocity.com.au/wp-content/uploads/2025/10/403cde6a2174f39678d165fd948c9cc5.jpg
GEO:-31.9310445;115.8948571
X-APPLE-STRUCTURED-LOCATION;VALUE=URI;X-ADDRESS=Maylands Public Library The RISE 28 Eighth Avenue Maylands WA 6051 Australia;X-APPLE-RADIUS=500;X-TITLE=The RISE\, 28 Eighth Avenue:geo:115.8948571,-31.9310445
END:VEVENT
BEGIN:VEVENT
DTSTART;TZID=Australia/Perth:20261016T093000
DTEND;TZID=Australia/Perth:20261016T113000
DTSTAMP:20260421T133214
CREATED:20260204T091627Z
LAST-MODIFIED:20260204T142439Z
UID:10862884-1792143000-1792150200@seniorocity.com.au
SUMMARY:English Conversation Group - Maylands Library
DESCRIPTION:English Conversation Group – Fluency\, Fun and Friendship
URL:https://seniorocity.com.au/whats-on-perth/english-conversation-group-maylands-library-36/
LOCATION:Maylands Public Library\, The RISE\, 28 Eighth Avenue\, Maylands\, WA\, 6051\, Australia
CATEGORIES:Language Class
ATTACH;FMTTYPE=image/jpeg:https://seniorocity.com.au/wp-content/uploads/2026/02/007c29eb8664b505b73d07efa56ec846.jpg
GEO:-31.9310445;115.8948571
X-APPLE-STRUCTURED-LOCATION;VALUE=URI;X-ADDRESS=Maylands Public Library The RISE 28 Eighth Avenue Maylands WA 6051 Australia;X-APPLE-RADIUS=500;X-TITLE=The RISE\, 28 Eighth Avenue:geo:115.8948571,-31.9310445
END:VEVENT
BEGIN:VEVENT
DTSTART;TZID=Australia/Perth:20261016T130000
DTEND;TZID=Australia/Perth:20261016T160000
DTSTAMP:20260421T133214
CREATED:20260203T083940Z
LAST-MODIFIED:20260203T084513Z
UID:10862633-1792155600-1792166400@seniorocity.com.au
SUMMARY:Loop to Loop - Bayswater Library (social group for adults)
DESCRIPTION:Do you like to knit or crochet and have a yarn with your mates?
URL:https://seniorocity.com.au/whats-on-perth/loop-to-loop-bayswater-library-social-group-for-adults-80/
LOCATION:Bayswater Library\, 25 King William Street\, Bayswater\, WA\, 6053\, Australia
CATEGORIES:Knitting
ATTACH;FMTTYPE=image/jpeg:https://seniorocity.com.au/wp-content/uploads/2024/01/3cc61f6e48a291815488a5e5848cddc2.jpg
END:VEVENT
BEGIN:VEVENT
DTSTART;TZID=Australia/Perth:20261020T100000
DTEND;TZID=Australia/Perth:20261020T120000
DTSTAMP:20260421T133214
CREATED:20260204T091429Z
LAST-MODIFIED:20260401T143712Z
UID:10862828-1792490400-1792497600@seniorocity.com.au
SUMMARY:Scrabble
DESCRIPTION:Hey word enthusiasts!  Come along to our Scrabble group.  Bring your friends or join to make new ones.
URL:https://seniorocity.com.au/whats-on-perth/scrabble-100/
LOCATION:Bayswater Library\, 25 King William Street\, Bayswater\, WA\, 6053\, Australia
CATEGORIES:Games
ATTACH;FMTTYPE=image/jpeg:https://seniorocity.com.au/wp-content/uploads/2023/12/395216af19fc80e3a7d31b811f79a441.jpg
END:VEVENT
BEGIN:VEVENT
DTSTART;TZID=Australia/Perth:20261022T093000
DTEND;TZID=Australia/Perth:20261022T120000
DTSTAMP:20260421T133214
CREATED:20260102T074823Z
LAST-MODIFIED:20260401T142936Z
UID:10857780-1792661400-1792670400@seniorocity.com.au
SUMMARY:Art for Art's Sake - Social Art Group for Adults
DESCRIPTION:Enjoy a relaxed\, welcoming space where you can work on your own projects alongside fellow artists.
URL:https://seniorocity.com.au/whats-on-perth/art-for-arts-sake-social-art-group-for-adults-52/
LOCATION:Maylands Public Library\, The RISE\, 28 Eighth Avenue\, Maylands\, WA\, 6051\, Australia
CATEGORIES:Free,Library Events
ATTACH;FMTTYPE=image/jpeg:https://seniorocity.com.au/wp-content/uploads/2025/10/403cde6a2174f39678d165fd948c9cc5.jpg
GEO:-31.9310445;115.8948571
X-APPLE-STRUCTURED-LOCATION;VALUE=URI;X-ADDRESS=Maylands Public Library The RISE 28 Eighth Avenue Maylands WA 6051 Australia;X-APPLE-RADIUS=500;X-TITLE=The RISE\, 28 Eighth Avenue:geo:115.8948571,-31.9310445
END:VEVENT
BEGIN:VEVENT
DTSTART;TZID=Australia/Perth:20261023T093000
DTEND;TZID=Australia/Perth:20261023T113000
DTSTAMP:20260421T133214
CREATED:20260204T091627Z
LAST-MODIFIED:20260204T142450Z
UID:10862885-1792747800-1792755000@seniorocity.com.au
SUMMARY:English Conversation Group - Maylands Library
DESCRIPTION:English Conversation Group – Fluency\, Fun and Friendship
URL:https://seniorocity.com.au/whats-on-perth/english-conversation-group-maylands-library-37/
LOCATION:Maylands Public Library\, The RISE\, 28 Eighth Avenue\, Maylands\, WA\, 6051\, Australia
CATEGORIES:Language Class
ATTACH;FMTTYPE=image/jpeg:https://seniorocity.com.au/wp-content/uploads/2026/02/007c29eb8664b505b73d07efa56ec846.jpg
GEO:-31.9310445;115.8948571
X-APPLE-STRUCTURED-LOCATION;VALUE=URI;X-ADDRESS=Maylands Public Library The RISE 28 Eighth Avenue Maylands WA 6051 Australia;X-APPLE-RADIUS=500;X-TITLE=The RISE\, 28 Eighth Avenue:geo:115.8948571,-31.9310445
END:VEVENT
BEGIN:VEVENT
DTSTART;TZID=Australia/Perth:20261023T130000
DTEND;TZID=Australia/Perth:20261023T160000
DTSTAMP:20260421T133214
CREATED:20260203T083941Z
LAST-MODIFIED:20260203T084525Z
UID:10862634-1792760400-1792771200@seniorocity.com.au
SUMMARY:Loop to Loop - Bayswater Library (social group for adults)
DESCRIPTION:Do you like to knit or crochet and have a yarn with your mates?
URL:https://seniorocity.com.au/whats-on-perth/loop-to-loop-bayswater-library-social-group-for-adults-81/
LOCATION:Bayswater Library\, 25 King William Street\, Bayswater\, WA\, 6053\, Australia
CATEGORIES:Knitting
ATTACH;FMTTYPE=image/jpeg:https://seniorocity.com.au/wp-content/uploads/2024/01/3cc61f6e48a291815488a5e5848cddc2.jpg
END:VEVENT
BEGIN:VEVENT
DTSTART;TZID=Australia/Perth:20261027T100000
DTEND;TZID=Australia/Perth:20261027T120000
DTSTAMP:20260421T133214
CREATED:20260204T091431Z
LAST-MODIFIED:20260401T143713Z
UID:10862829-1793095200-1793102400@seniorocity.com.au
SUMMARY:Scrabble
DESCRIPTION:Hey word enthusiasts!  Come along to our Scrabble group.  Bring your friends or join to make new ones.
URL:https://seniorocity.com.au/whats-on-perth/scrabble-101/
LOCATION:Bayswater Library\, 25 King William Street\, Bayswater\, WA\, 6053\, Australia
CATEGORIES:Games
ATTACH;FMTTYPE=image/jpeg:https://seniorocity.com.au/wp-content/uploads/2023/12/395216af19fc80e3a7d31b811f79a441.jpg
END:VEVENT
BEGIN:VEVENT
DTSTART;TZID=Australia/Perth:20261029T093000
DTEND;TZID=Australia/Perth:20261029T120000
DTSTAMP:20260421T133214
CREATED:20260102T074823Z
LAST-MODIFIED:20260401T142947Z
UID:10857781-1793266200-1793275200@seniorocity.com.au
SUMMARY:Art for Art's Sake - Social Art Group for Adults
DESCRIPTION:Enjoy a relaxed\, welcoming space where you can work on your own projects alongside fellow artists.
URL:https://seniorocity.com.au/whats-on-perth/art-for-arts-sake-social-art-group-for-adults-53/
LOCATION:Maylands Public Library\, The RISE\, 28 Eighth Avenue\, Maylands\, WA\, 6051\, Australia
CATEGORIES:Free,Library Events
ATTACH;FMTTYPE=image/jpeg:https://seniorocity.com.au/wp-content/uploads/2025/10/403cde6a2174f39678d165fd948c9cc5.jpg
GEO:-31.9310445;115.8948571
X-APPLE-STRUCTURED-LOCATION;VALUE=URI;X-ADDRESS=Maylands Public Library The RISE 28 Eighth Avenue Maylands WA 6051 Australia;X-APPLE-RADIUS=500;X-TITLE=The RISE\, 28 Eighth Avenue:geo:115.8948571,-31.9310445
END:VEVENT
BEGIN:VEVENT
DTSTART;TZID=Australia/Perth:20261030T093000
DTEND;TZID=Australia/Perth:20261030T113000
DTSTAMP:20260421T133214
CREATED:20260204T091628Z
LAST-MODIFIED:20260204T142500Z
UID:10862886-1793352600-1793359800@seniorocity.com.au
SUMMARY:English Conversation Group - Maylands Library
DESCRIPTION:English Conversation Group – Fluency\, Fun and Friendship
URL:https://seniorocity.com.au/whats-on-perth/english-conversation-group-maylands-library-38/
LOCATION:Maylands Public Library\, The RISE\, 28 Eighth Avenue\, Maylands\, WA\, 6051\, Australia
CATEGORIES:Language Class
ATTACH;FMTTYPE=image/jpeg:https://seniorocity.com.au/wp-content/uploads/2026/02/007c29eb8664b505b73d07efa56ec846.jpg
GEO:-31.9310445;115.8948571
X-APPLE-STRUCTURED-LOCATION;VALUE=URI;X-ADDRESS=Maylands Public Library The RISE 28 Eighth Avenue Maylands WA 6051 Australia;X-APPLE-RADIUS=500;X-TITLE=The RISE\, 28 Eighth Avenue:geo:115.8948571,-31.9310445
END:VEVENT
BEGIN:VEVENT
DTSTART;TZID=Australia/Perth:20261030T130000
DTEND;TZID=Australia/Perth:20261030T160000
DTSTAMP:20260421T133214
CREATED:20260203T083941Z
LAST-MODIFIED:20260203T084536Z
UID:10862635-1793365200-1793376000@seniorocity.com.au
SUMMARY:Loop to Loop - Bayswater Library (social group for adults)
DESCRIPTION:Do you like to knit or crochet and have a yarn with your mates?
URL:https://seniorocity.com.au/whats-on-perth/loop-to-loop-bayswater-library-social-group-for-adults-82/
LOCATION:Bayswater Library\, 25 King William Street\, Bayswater\, WA\, 6053\, Australia
CATEGORIES:Knitting
ATTACH;FMTTYPE=image/jpeg:https://seniorocity.com.au/wp-content/uploads/2024/01/3cc61f6e48a291815488a5e5848cddc2.jpg
END:VEVENT
BEGIN:VEVENT
DTSTART;TZID=Australia/Perth:20261103T100000
DTEND;TZID=Australia/Perth:20261103T120000
DTSTAMP:20260421T133214
CREATED:20260204T091432Z
LAST-MODIFIED:20260401T143728Z
UID:10862830-1793700000-1793707200@seniorocity.com.au
SUMMARY:Scrabble
DESCRIPTION:Hey word enthusiasts!  Come along to our Scrabble group.  Bring your friends or join to make new ones.
URL:https://seniorocity.com.au/whats-on-perth/scrabble-102/
LOCATION:Bayswater Library\, 25 King William Street\, Bayswater\, WA\, 6053\, Australia
CATEGORIES:Games
ATTACH;FMTTYPE=image/jpeg:https://seniorocity.com.au/wp-content/uploads/2023/12/395216af19fc80e3a7d31b811f79a441.jpg
END:VEVENT
BEGIN:VEVENT
DTSTART;TZID=Australia/Perth:20261103T174500
DTEND;TZID=Australia/Perth:20261103T190000
DTSTAMP:20260421T133214
CREATED:20260204T091930Z
LAST-MODIFIED:20260401T145402Z
UID:10862971-1793727900-1793732400@seniorocity.com.au
SUMMARY:Tuesday Night Book Club - Maylands Library - A Book Club With a Difference
DESCRIPTION:Discover a book club that is as flexible as your reading tastes!
URL:https://seniorocity.com.au/whats-on-perth/tuesday-night-book-club-maylands-library-a-book-club-with-a-difference-11/
LOCATION:Maylands Library\, 28 Eighth Avenue\, Maylands\, WA\, 6051\, Australia
CATEGORIES:Club
ATTACH;FMTTYPE=image/jpeg:https://seniorocity.com.au/wp-content/uploads/2025/10/5bf4b167f588bc820add8c0be5cb741a.jpg
END:VEVENT
BEGIN:VEVENT
DTSTART;TZID=Australia/Perth:20261105T093000
DTEND;TZID=Australia/Perth:20261105T120000
DTSTAMP:20260421T133214
CREATED:20260102T074823Z
LAST-MODIFIED:20260401T143000Z
UID:10857782-1793871000-1793880000@seniorocity.com.au
SUMMARY:Art for Art's Sake - Social Art Group for Adults
DESCRIPTION:Enjoy a relaxed\, welcoming space where you can work on your own projects alongside fellow artists.
URL:https://seniorocity.com.au/whats-on-perth/art-for-arts-sake-social-art-group-for-adults-54/
LOCATION:Maylands Public Library\, The RISE\, 28 Eighth Avenue\, Maylands\, WA\, 6051\, Australia
CATEGORIES:Free,Library Events
ATTACH;FMTTYPE=image/jpeg:https://seniorocity.com.au/wp-content/uploads/2025/10/403cde6a2174f39678d165fd948c9cc5.jpg
GEO:-31.9310445;115.8948571
X-APPLE-STRUCTURED-LOCATION;VALUE=URI;X-ADDRESS=Maylands Public Library The RISE 28 Eighth Avenue Maylands WA 6051 Australia;X-APPLE-RADIUS=500;X-TITLE=The RISE\, 28 Eighth Avenue:geo:115.8948571,-31.9310445
END:VEVENT
BEGIN:VEVENT
DTSTART;TZID=Australia/Perth:20261106T093000
DTEND;TZID=Australia/Perth:20261106T113000
DTSTAMP:20260421T133214
CREATED:20260204T091628Z
LAST-MODIFIED:20260204T142513Z
UID:10862887-1793957400-1793964600@seniorocity.com.au
SUMMARY:English Conversation Group - Maylands Library
DESCRIPTION:English Conversation Group – Fluency\, Fun and Friendship
URL:https://seniorocity.com.au/whats-on-perth/english-conversation-group-maylands-library-39/
LOCATION:Maylands Public Library\, The RISE\, 28 Eighth Avenue\, Maylands\, WA\, 6051\, Australia
CATEGORIES:Language Class
ATTACH;FMTTYPE=image/jpeg:https://seniorocity.com.au/wp-content/uploads/2026/02/007c29eb8664b505b73d07efa56ec846.jpg
GEO:-31.9310445;115.8948571
X-APPLE-STRUCTURED-LOCATION;VALUE=URI;X-ADDRESS=Maylands Public Library The RISE 28 Eighth Avenue Maylands WA 6051 Australia;X-APPLE-RADIUS=500;X-TITLE=The RISE\, 28 Eighth Avenue:geo:115.8948571,-31.9310445
END:VEVENT
END:VCALENDAR