BEGIN:VCALENDAR
VERSION:2.0
PRODID:-//Seniorocity - Seniors / Over 55&#039;s Guide to Perth - ECPv6.15.11//NONSGML v1.0//EN
CALSCALE:GREGORIAN
METHOD:PUBLISH
X-ORIGINAL-URL:https://seniorocity.com.au
X-WR-CALDESC:Events for Seniorocity - Seniors / Over 55&#039;s Guide to Perth
REFRESH-INTERVAL;VALUE=DURATION:PT1H
X-Robots-Tag:noindex
X-PUBLISHED-TTL:PT1H
BEGIN:VTIMEZONE
TZID:Australia/Perth
BEGIN:STANDARD
TZOFFSETFROM:+0800
TZOFFSETTO:+0800
TZNAME:AWST
DTSTART:20250101T000000
END:STANDARD
END:VTIMEZONE
BEGIN:VEVENT
DTSTART;TZID=Australia/Perth:20260421T133000
DTEND;TZID=Australia/Perth:20260421T140000
DTSTAMP:20260422T055603
CREATED:20260401T144959Z
LAST-MODIFIED:20260401T145012Z
UID:10865178-1776778200-1776780000@seniorocity.com.au
SUMMARY:Tech Help @ Girrawheen Library
DESCRIPTION:Book in for a one-on-one session to go over whatever tech help you need.
URL:https://seniorocity.com.au/whats-on-perth/tech-help-girrawheen-library-36/
LOCATION:6 Patrick Ct\, 6 Patrick Court\, Girrawheen\, WA\, 6064\, Australia
CATEGORIES:Tech
ATTACH;FMTTYPE=image/jpeg:https://seniorocity.com.au/wp-content/uploads/2026/02/5e7fa4a1fcdd23cce7739d6be450808b.jpg
END:VEVENT
BEGIN:VEVENT
DTSTART;TZID=Australia/Perth:20260421T130000
DTEND;TZID=Australia/Perth:20260421T133000
DTSTAMP:20260422T055603
CREATED:20260401T144958Z
LAST-MODIFIED:20260401T145006Z
UID:10865177-1776776400-1776778200@seniorocity.com.au
SUMMARY:Tech Help @ Girrawheen Library
DESCRIPTION:Book in for a one-on-one session to go over whatever tech help you need.
URL:https://seniorocity.com.au/whats-on-perth/tech-help-girrawheen-library-35/
LOCATION:6 Patrick Ct\, 6 Patrick Court\, Girrawheen\, WA\, 6064\, Australia
CATEGORIES:Tech
ATTACH;FMTTYPE=image/jpeg:https://seniorocity.com.au/wp-content/uploads/2026/02/5e7fa4a1fcdd23cce7739d6be450808b.jpg
END:VEVENT
BEGIN:VEVENT
DTSTART;TZID=Australia/Perth:20260421T123000
DTEND;TZID=Australia/Perth:20260421T130000
DTSTAMP:20260422T055603
CREATED:20260401T144957Z
LAST-MODIFIED:20260401T145000Z
UID:10865176-1776774600-1776776400@seniorocity.com.au
SUMMARY:Tech Help @ Girrawheen Library
DESCRIPTION:Book in for a one-on-one session to go over whatever tech help you need.
URL:https://seniorocity.com.au/whats-on-perth/tech-help-girrawheen-library-34/
LOCATION:6 Patrick Ct\, 6 Patrick Court\, Girrawheen\, WA\, 6064\, Australia
CATEGORIES:Tech
ATTACH;FMTTYPE=image/jpeg:https://seniorocity.com.au/wp-content/uploads/2026/02/5e7fa4a1fcdd23cce7739d6be450808b.jpg
END:VEVENT
BEGIN:VEVENT
DTSTART;TZID=Australia/Perth:20260421T120000
DTEND;TZID=Australia/Perth:20260421T123000
DTSTAMP:20260422T055603
CREATED:20260401T144956Z
LAST-MODIFIED:20260401T144958Z
UID:10865175-1776772800-1776774600@seniorocity.com.au
SUMMARY:Tech Help @ Girrawheen Library
DESCRIPTION:Book in for a one-on-one session to go over whatever tech help you need.
URL:https://seniorocity.com.au/whats-on-perth/tech-help-girrawheen-library-33/
LOCATION:6 Patrick Ct\, 6 Patrick Court\, Girrawheen\, WA\, 6064\, Australia
CATEGORIES:Tech
ATTACH;FMTTYPE=image/jpeg:https://seniorocity.com.au/wp-content/uploads/2026/02/5e7fa4a1fcdd23cce7739d6be450808b.jpg
END:VEVENT
BEGIN:VEVENT
DTSTART;TZID=Australia/Perth:20260420T153000
DTEND;TZID=Australia/Perth:20260420T160000
DTSTAMP:20260422T055603
CREATED:20260203T090501Z
LAST-MODIFIED:20260203T090501Z
UID:10862706-1776699000-1776700800@seniorocity.com.au
SUMMARY:Tech Help @ Wanneroo Library (Monday)
DESCRIPTION:Book in for a one-on-one session to go over whatever tech help you need.
URL:https://seniorocity.com.au/whats-on-perth/tech-help-wanneroo-library-monday-139/
LOCATION:Wanneroo Library\, 3 Rocca Way\, Wanneroo\, WA\, 6065\, Australia
CATEGORIES:Tech
ATTACH;FMTTYPE=image/jpeg:https://seniorocity.com.au/wp-content/uploads/2025/04/1846f0357c7a791a8fd4ed3d29e5a0ba.jpg
GEO:-31.750643;115.805954
X-APPLE-STRUCTURED-LOCATION;VALUE=URI;X-ADDRESS=Wanneroo Library 3 Rocca Way Wanneroo WA 6065 Australia;X-APPLE-RADIUS=500;X-TITLE=3 Rocca Way:geo:115.805954,-31.750643
END:VEVENT
BEGIN:VEVENT
DTSTART;TZID=Australia/Perth:20260420T150000
DTEND;TZID=Australia/Perth:20260420T153000
DTSTAMP:20260422T055603
CREATED:20260203T090500Z
LAST-MODIFIED:20260203T090500Z
UID:10862705-1776697200-1776699000@seniorocity.com.au
SUMMARY:Tech Help @ Wanneroo Library (Monday)
DESCRIPTION:Book in for a one-on-one session to go over whatever tech help you need.
URL:https://seniorocity.com.au/whats-on-perth/tech-help-wanneroo-library-monday-138/
LOCATION:Wanneroo Library\, 3 Rocca Way\, Wanneroo\, WA\, 6065\, Australia
CATEGORIES:Tech
ATTACH;FMTTYPE=image/jpeg:https://seniorocity.com.au/wp-content/uploads/2025/04/1846f0357c7a791a8fd4ed3d29e5a0ba.jpg
GEO:-31.750643;115.805954
X-APPLE-STRUCTURED-LOCATION;VALUE=URI;X-ADDRESS=Wanneroo Library 3 Rocca Way Wanneroo WA 6065 Australia;X-APPLE-RADIUS=500;X-TITLE=3 Rocca Way:geo:115.805954,-31.750643
END:VEVENT
BEGIN:VEVENT
DTSTART;TZID=Australia/Perth:20260420T143000
DTEND;TZID=Australia/Perth:20260420T150000
DTSTAMP:20260422T055603
CREATED:20260203T090500Z
LAST-MODIFIED:20260203T090500Z
UID:10862704-1776695400-1776697200@seniorocity.com.au
SUMMARY:Tech Help @ Wanneroo Library (Monday)
DESCRIPTION:Book in for a one-on-one session to go over whatever tech help you need.
URL:https://seniorocity.com.au/whats-on-perth/tech-help-wanneroo-library-monday-137/
LOCATION:Wanneroo Library\, 3 Rocca Way\, Wanneroo\, WA\, 6065\, Australia
CATEGORIES:Tech
ATTACH;FMTTYPE=image/jpeg:https://seniorocity.com.au/wp-content/uploads/2025/04/1846f0357c7a791a8fd4ed3d29e5a0ba.jpg
GEO:-31.750643;115.805954
X-APPLE-STRUCTURED-LOCATION;VALUE=URI;X-ADDRESS=Wanneroo Library 3 Rocca Way Wanneroo WA 6065 Australia;X-APPLE-RADIUS=500;X-TITLE=3 Rocca Way:geo:115.805954,-31.750643
END:VEVENT
BEGIN:VEVENT
DTSTART;TZID=Australia/Perth:20260420T140000
DTEND;TZID=Australia/Perth:20260420T143000
DTSTAMP:20260422T055603
CREATED:20260203T090459Z
LAST-MODIFIED:20260203T090459Z
UID:10862703-1776693600-1776695400@seniorocity.com.au
SUMMARY:Tech Help @ Wanneroo Library (Monday)
DESCRIPTION:Book in for a one-on-one session to go over whatever tech help you need.
URL:https://seniorocity.com.au/whats-on-perth/tech-help-wanneroo-library-monday-136/
LOCATION:Wanneroo Library\, 3 Rocca Way\, Wanneroo\, WA\, 6065\, Australia
CATEGORIES:Tech
ATTACH;FMTTYPE=image/jpeg:https://seniorocity.com.au/wp-content/uploads/2025/04/1846f0357c7a791a8fd4ed3d29e5a0ba.jpg
GEO:-31.750643;115.805954
X-APPLE-STRUCTURED-LOCATION;VALUE=URI;X-ADDRESS=Wanneroo Library 3 Rocca Way Wanneroo WA 6065 Australia;X-APPLE-RADIUS=500;X-TITLE=3 Rocca Way:geo:115.805954,-31.750643
END:VEVENT
BEGIN:VEVENT
DTSTART;TZID=Australia/Perth:20260418T100000
DTEND;TZID=Australia/Perth:20260418T120000
DTSTAMP:20260422T055603
CREATED:20260204T143250Z
LAST-MODIFIED:20260204T143423Z
UID:10863000-1776506400-1776513600@seniorocity.com.au
SUMMARY:Meditation and Inner Wellbeing @ Dordaak Kepup Library
DESCRIPTION:Enjoy a calming guided meditation session and class focused on developing your inner wellbeing.
URL:https://seniorocity.com.au/whats-on-perth/meditation-and-inner-wellbeing-dordaak-kepup-library-11/
LOCATION:Dordaak Kepup – Library and Youth Innovation Hub\, 15 The Broadview\, Landsdale\, WA\, 6065\, Australia
CATEGORIES:Health
ATTACH;FMTTYPE=image/jpeg:https://seniorocity.com.au/wp-content/uploads/2026/02/7da9656409d210d9c863746c44cab656.jpg
END:VEVENT
BEGIN:VEVENT
DTSTART;TZID=Australia/Perth:20260416T093000
DTEND;TZID=Australia/Perth:20260416T103000
DTSTAMP:20260422T055603
CREATED:20260102T080304Z
LAST-MODIFIED:20260401T150308Z
UID:10858081-1776331800-1776335400@seniorocity.com.au
SUMMARY:Tech Connect @ Wanneroo Library
DESCRIPTION:FREE weekly morning tea to connect with others and get more comfortable with technology.
URL:https://seniorocity.com.au/whats-on-perth/tech-connect-wanneroo-library-15/
LOCATION:Wanneroo Library and Cultural Centre\, 3 Rocca Way\, Wanneroo\, WA\, 6065\, Australia
CATEGORIES:Tech
ATTACH;FMTTYPE=image/jpeg:https://seniorocity.com.au/wp-content/uploads/2026/01/0cf7f50887955559e3bbd40a37b621a8.jpg
END:VEVENT
BEGIN:VEVENT
DTSTART;TZID=Australia/Perth:20260415T093000
DTEND;TZID=Australia/Perth:20260415T110000
DTSTAMP:20260422T055603
CREATED:20260401T142700Z
LAST-MODIFIED:20260401T143137Z
UID:10865170-1776245400-1776250800@seniorocity.com.au
SUMMARY:Biscuits & Blooms-  A Plant Swap Morning Tea @ Girrawheen Library
DESCRIPTION:Join us @ Girrawheen Library with our monthly Plant Swap Morning Tea.
URL:https://seniorocity.com.au/whats-on-perth/biscuits-blooms-a-plant-swap-morning-tea-girrawheen-library/
LOCATION:Girrawheen Public Library\, 6 Patrick Court\, Girrawheen\, WA\, 6064\, Australia
CATEGORIES:Morning Tea
ATTACH;FMTTYPE=image/jpeg:https://seniorocity.com.au/wp-content/uploads/2026/04/0dddd384591c839dfcac13974fa0ce10.jpg
END:VEVENT
BEGIN:VEVENT
DTSTART;TZID=Australia/Perth:20260413T153000
DTEND;TZID=Australia/Perth:20260413T160000
DTSTAMP:20260422T055603
CREATED:20260203T090458Z
LAST-MODIFIED:20260203T090458Z
UID:10862702-1776094200-1776096000@seniorocity.com.au
SUMMARY:Tech Help @ Wanneroo Library (Monday)
DESCRIPTION:Book in for a one-on-one session to go over whatever tech help you need.
URL:https://seniorocity.com.au/whats-on-perth/tech-help-wanneroo-library-monday-135/
LOCATION:Wanneroo Library\, 3 Rocca Way\, Wanneroo\, WA\, 6065\, Australia
CATEGORIES:Tech
ATTACH;FMTTYPE=image/jpeg:https://seniorocity.com.au/wp-content/uploads/2025/04/1846f0357c7a791a8fd4ed3d29e5a0ba.jpg
GEO:-31.750643;115.805954
X-APPLE-STRUCTURED-LOCATION;VALUE=URI;X-ADDRESS=Wanneroo Library 3 Rocca Way Wanneroo WA 6065 Australia;X-APPLE-RADIUS=500;X-TITLE=3 Rocca Way:geo:115.805954,-31.750643
END:VEVENT
BEGIN:VEVENT
DTSTART;TZID=Australia/Perth:20260413T150000
DTEND;TZID=Australia/Perth:20260413T153000
DTSTAMP:20260422T055603
CREATED:20260203T090458Z
LAST-MODIFIED:20260203T090458Z
UID:10862701-1776092400-1776094200@seniorocity.com.au
SUMMARY:Tech Help @ Wanneroo Library (Monday)
DESCRIPTION:Book in for a one-on-one session to go over whatever tech help you need.
URL:https://seniorocity.com.au/whats-on-perth/tech-help-wanneroo-library-monday-134/
LOCATION:Wanneroo Library\, 3 Rocca Way\, Wanneroo\, WA\, 6065\, Australia
CATEGORIES:Tech
ATTACH;FMTTYPE=image/jpeg:https://seniorocity.com.au/wp-content/uploads/2025/04/1846f0357c7a791a8fd4ed3d29e5a0ba.jpg
GEO:-31.750643;115.805954
X-APPLE-STRUCTURED-LOCATION;VALUE=URI;X-ADDRESS=Wanneroo Library 3 Rocca Way Wanneroo WA 6065 Australia;X-APPLE-RADIUS=500;X-TITLE=3 Rocca Way:geo:115.805954,-31.750643
END:VEVENT
BEGIN:VEVENT
DTSTART;TZID=Australia/Perth:20260413T143000
DTEND;TZID=Australia/Perth:20260413T150000
DTSTAMP:20260422T055603
CREATED:20260203T090429Z
LAST-MODIFIED:20260203T090429Z
UID:10862700-1776090600-1776092400@seniorocity.com.au
SUMMARY:Tech Help @ Wanneroo Library (Monday)
DESCRIPTION:Book in for a one-on-one session to go over whatever tech help you need.
URL:https://seniorocity.com.au/whats-on-perth/tech-help-wanneroo-library-monday-133/
LOCATION:Wanneroo Library\, 3 Rocca Way\, Wanneroo\, WA\, 6065\, Australia
CATEGORIES:Tech
ATTACH;FMTTYPE=image/jpeg:https://seniorocity.com.au/wp-content/uploads/2025/04/1846f0357c7a791a8fd4ed3d29e5a0ba.jpg
GEO:-31.750643;115.805954
X-APPLE-STRUCTURED-LOCATION;VALUE=URI;X-ADDRESS=Wanneroo Library 3 Rocca Way Wanneroo WA 6065 Australia;X-APPLE-RADIUS=500;X-TITLE=3 Rocca Way:geo:115.805954,-31.750643
END:VEVENT
BEGIN:VEVENT
DTSTART;TZID=Australia/Perth:20260413T140000
DTEND;TZID=Australia/Perth:20260413T143000
DTSTAMP:20260422T055603
CREATED:20260203T090428Z
LAST-MODIFIED:20260203T090428Z
UID:10862699-1776088800-1776090600@seniorocity.com.au
SUMMARY:Tech Help @ Wanneroo Library (Monday)
DESCRIPTION:Book in for a one-on-one session to go over whatever tech help you need.
URL:https://seniorocity.com.au/whats-on-perth/tech-help-wanneroo-library-monday-132/
LOCATION:Wanneroo Library\, 3 Rocca Way\, Wanneroo\, WA\, 6065\, Australia
CATEGORIES:Tech
ATTACH;FMTTYPE=image/jpeg:https://seniorocity.com.au/wp-content/uploads/2025/04/1846f0357c7a791a8fd4ed3d29e5a0ba.jpg
GEO:-31.750643;115.805954
X-APPLE-STRUCTURED-LOCATION;VALUE=URI;X-ADDRESS=Wanneroo Library 3 Rocca Way Wanneroo WA 6065 Australia;X-APPLE-RADIUS=500;X-TITLE=3 Rocca Way:geo:115.805954,-31.750643
END:VEVENT
BEGIN:VEVENT
DTSTART;TZID=Australia/Perth:20260411T100000
DTEND;TZID=Australia/Perth:20260411T120000
DTSTAMP:20260422T055603
CREATED:20260204T143222Z
LAST-MODIFIED:20260204T143412Z
UID:10862999-1775901600-1775908800@seniorocity.com.au
SUMMARY:Meditation and Inner Wellbeing @ Dordaak Kepup Library
DESCRIPTION:Enjoy a calming guided meditation session and class focused on developing your inner wellbeing.
URL:https://seniorocity.com.au/whats-on-perth/meditation-and-inner-wellbeing-dordaak-kepup-library-10/
LOCATION:Dordaak Kepup – Library and Youth Innovation Hub\, 15 The Broadview\, Landsdale\, WA\, 6065\, Australia
CATEGORIES:Health
ATTACH;FMTTYPE=image/jpeg:https://seniorocity.com.au/wp-content/uploads/2026/02/7da9656409d210d9c863746c44cab656.jpg
END:VEVENT
BEGIN:VEVENT
DTSTART;TZID=Australia/Perth:20260409T093000
DTEND;TZID=Australia/Perth:20260409T103000
DTSTAMP:20260422T055603
CREATED:20260102T080303Z
LAST-MODIFIED:20260401T150221Z
UID:10858080-1775727000-1775730600@seniorocity.com.au
SUMMARY:Tech Connect @ Wanneroo Library
DESCRIPTION:FREE weekly morning tea to connect with others and get more comfortable with technology.
URL:https://seniorocity.com.au/whats-on-perth/tech-connect-wanneroo-library-14/
LOCATION:Wanneroo Library and Cultural Centre\, 3 Rocca Way\, Wanneroo\, WA\, 6065\, Australia
CATEGORIES:Tech
ATTACH;FMTTYPE=image/jpeg:https://seniorocity.com.au/wp-content/uploads/2026/01/0cf7f50887955559e3bbd40a37b621a8.jpg
END:VEVENT
BEGIN:VEVENT
DTSTART;TZID=Australia/Perth:20260404T100000
DTEND;TZID=Australia/Perth:20260404T120000
DTSTAMP:20260422T055603
CREATED:20260204T143222Z
LAST-MODIFIED:20260204T143359Z
UID:10862998-1775296800-1775304000@seniorocity.com.au
SUMMARY:Meditation and Inner Wellbeing @ Dordaak Kepup Library
DESCRIPTION:Enjoy a calming guided meditation session and class focused on developing your inner wellbeing.
URL:https://seniorocity.com.au/whats-on-perth/meditation-and-inner-wellbeing-dordaak-kepup-library-9/
LOCATION:Dordaak Kepup – Library and Youth Innovation Hub\, 15 The Broadview\, Landsdale\, WA\, 6065\, Australia
CATEGORIES:Health
ATTACH;FMTTYPE=image/jpeg:https://seniorocity.com.au/wp-content/uploads/2026/02/7da9656409d210d9c863746c44cab656.jpg
END:VEVENT
BEGIN:VEVENT
DTSTART;TZID=Australia/Perth:20260402T093000
DTEND;TZID=Australia/Perth:20260402T103000
DTSTAMP:20260422T055603
CREATED:20260102T080302Z
LAST-MODIFIED:20260401T150205Z
UID:10858079-1775122200-1775125800@seniorocity.com.au
SUMMARY:Tech Connect @ Wanneroo Library
DESCRIPTION:FREE weekly morning tea to connect with others and get more comfortable with technology.
URL:https://seniorocity.com.au/whats-on-perth/tech-connect-wanneroo-library-13/
LOCATION:Wanneroo Library and Cultural Centre\, 3 Rocca Way\, Wanneroo\, WA\, 6065\, Australia
CATEGORIES:Tech
ATTACH;FMTTYPE=image/jpeg:https://seniorocity.com.au/wp-content/uploads/2026/01/0cf7f50887955559e3bbd40a37b621a8.jpg
END:VEVENT
BEGIN:VEVENT
DTSTART;TZID=Australia/Perth:20260331T133000
DTEND;TZID=Australia/Perth:20260331T140000
DTSTAMP:20260422T055603
CREATED:20260204T091908Z
LAST-MODIFIED:20260204T142929Z
UID:10862962-1774963800-1774965600@seniorocity.com.au
SUMMARY:Tech Help @ Girrawheen Library
DESCRIPTION:Book in for a one-on-one session to go over whatever tech help you need.
URL:https://seniorocity.com.au/whats-on-perth/tech-help-girrawheen-library-32/
LOCATION:6 Patrick Ct\, 6 Patrick Court\, Girrawheen\, WA\, 6064\, Australia
CATEGORIES:Tech
ATTACH;FMTTYPE=image/jpeg:https://seniorocity.com.au/wp-content/uploads/2026/02/5e7fa4a1fcdd23cce7739d6be450808b.jpg
END:VEVENT
BEGIN:VEVENT
DTSTART;TZID=Australia/Perth:20260331T130000
DTEND;TZID=Australia/Perth:20260331T133000
DTSTAMP:20260422T055603
CREATED:20260204T091907Z
LAST-MODIFIED:20260204T142927Z
UID:10862961-1774962000-1774963800@seniorocity.com.au
SUMMARY:Tech Help @ Girrawheen Library
DESCRIPTION:Book in for a one-on-one session to go over whatever tech help you need.
URL:https://seniorocity.com.au/whats-on-perth/tech-help-girrawheen-library-31/
LOCATION:6 Patrick Ct\, 6 Patrick Court\, Girrawheen\, WA\, 6064\, Australia
CATEGORIES:Tech
ATTACH;FMTTYPE=image/jpeg:https://seniorocity.com.au/wp-content/uploads/2026/02/5e7fa4a1fcdd23cce7739d6be450808b.jpg
END:VEVENT
BEGIN:VEVENT
DTSTART;TZID=Australia/Perth:20260331T123000
DTEND;TZID=Australia/Perth:20260331T130000
DTSTAMP:20260422T055603
CREATED:20260204T091840Z
LAST-MODIFIED:20260204T142924Z
UID:10862960-1774960200-1774962000@seniorocity.com.au
SUMMARY:Tech Help @ Girrawheen Library
DESCRIPTION:Book in for a one-on-one session to go over whatever tech help you need.
URL:https://seniorocity.com.au/whats-on-perth/tech-help-girrawheen-library-30/
LOCATION:6 Patrick Ct\, 6 Patrick Court\, Girrawheen\, WA\, 6064\, Australia
CATEGORIES:Tech
ATTACH;FMTTYPE=image/jpeg:https://seniorocity.com.au/wp-content/uploads/2026/02/5e7fa4a1fcdd23cce7739d6be450808b.jpg
END:VEVENT
BEGIN:VEVENT
DTSTART;TZID=Australia/Perth:20260331T120000
DTEND;TZID=Australia/Perth:20260331T123000
DTSTAMP:20260422T055603
CREATED:20260204T091839Z
LAST-MODIFIED:20260204T142920Z
UID:10862959-1774958400-1774960200@seniorocity.com.au
SUMMARY:Tech Help @ Girrawheen Library
DESCRIPTION:Book in for a one-on-one session to go over whatever tech help you need.
URL:https://seniorocity.com.au/whats-on-perth/tech-help-girrawheen-library-29/
LOCATION:6 Patrick Ct\, 6 Patrick Court\, Girrawheen\, WA\, 6064\, Australia
CATEGORIES:Tech
ATTACH;FMTTYPE=image/jpeg:https://seniorocity.com.au/wp-content/uploads/2026/02/5e7fa4a1fcdd23cce7739d6be450808b.jpg
END:VEVENT
BEGIN:VEVENT
DTSTART;TZID=Australia/Perth:20260330T153000
DTEND;TZID=Australia/Perth:20260330T160000
DTSTAMP:20260422T055603
CREATED:20260203T090427Z
LAST-MODIFIED:20260203T090427Z
UID:10862698-1774884600-1774886400@seniorocity.com.au
SUMMARY:Tech Help @ Wanneroo Library (Monday)
DESCRIPTION:Book in for a one-on-one session to go over whatever tech help you need.
URL:https://seniorocity.com.au/whats-on-perth/tech-help-wanneroo-library-monday-131/
LOCATION:Wanneroo Library\, 3 Rocca Way\, Wanneroo\, WA\, 6065\, Australia
CATEGORIES:Tech
ATTACH;FMTTYPE=image/jpeg:https://seniorocity.com.au/wp-content/uploads/2025/04/1846f0357c7a791a8fd4ed3d29e5a0ba.jpg
GEO:-31.750643;115.805954
X-APPLE-STRUCTURED-LOCATION;VALUE=URI;X-ADDRESS=Wanneroo Library 3 Rocca Way Wanneroo WA 6065 Australia;X-APPLE-RADIUS=500;X-TITLE=3 Rocca Way:geo:115.805954,-31.750643
END:VEVENT
BEGIN:VEVENT
DTSTART;TZID=Australia/Perth:20260330T150000
DTEND;TZID=Australia/Perth:20260330T153000
DTSTAMP:20260422T055603
CREATED:20260203T090426Z
LAST-MODIFIED:20260203T090426Z
UID:10862697-1774882800-1774884600@seniorocity.com.au
SUMMARY:Tech Help @ Wanneroo Library (Monday)
DESCRIPTION:Book in for a one-on-one session to go over whatever tech help you need.
URL:https://seniorocity.com.au/whats-on-perth/tech-help-wanneroo-library-monday-130/
LOCATION:Wanneroo Library\, 3 Rocca Way\, Wanneroo\, WA\, 6065\, Australia
CATEGORIES:Tech
ATTACH;FMTTYPE=image/jpeg:https://seniorocity.com.au/wp-content/uploads/2025/04/1846f0357c7a791a8fd4ed3d29e5a0ba.jpg
GEO:-31.750643;115.805954
X-APPLE-STRUCTURED-LOCATION;VALUE=URI;X-ADDRESS=Wanneroo Library 3 Rocca Way Wanneroo WA 6065 Australia;X-APPLE-RADIUS=500;X-TITLE=3 Rocca Way:geo:115.805954,-31.750643
END:VEVENT
BEGIN:VEVENT
DTSTART;TZID=Australia/Perth:20260330T143000
DTEND;TZID=Australia/Perth:20260330T150000
DTSTAMP:20260422T055603
CREATED:20260203T090425Z
LAST-MODIFIED:20260203T090425Z
UID:10862696-1774881000-1774882800@seniorocity.com.au
SUMMARY:Tech Help @ Wanneroo Library (Monday)
DESCRIPTION:Book in for a one-on-one session to go over whatever tech help you need.
URL:https://seniorocity.com.au/whats-on-perth/tech-help-wanneroo-library-monday-129/
LOCATION:Wanneroo Library\, 3 Rocca Way\, Wanneroo\, WA\, 6065\, Australia
CATEGORIES:Tech
ATTACH;FMTTYPE=image/jpeg:https://seniorocity.com.au/wp-content/uploads/2025/04/1846f0357c7a791a8fd4ed3d29e5a0ba.jpg
GEO:-31.750643;115.805954
X-APPLE-STRUCTURED-LOCATION;VALUE=URI;X-ADDRESS=Wanneroo Library 3 Rocca Way Wanneroo WA 6065 Australia;X-APPLE-RADIUS=500;X-TITLE=3 Rocca Way:geo:115.805954,-31.750643
END:VEVENT
BEGIN:VEVENT
DTSTART;TZID=Australia/Perth:20260330T140000
DTEND;TZID=Australia/Perth:20260330T143000
DTSTAMP:20260422T055603
CREATED:20260203T090424Z
LAST-MODIFIED:20260203T090424Z
UID:10862695-1774879200-1774881000@seniorocity.com.au
SUMMARY:Tech Help @ Wanneroo Library (Monday)
DESCRIPTION:Book in for a one-on-one session to go over whatever tech help you need.
URL:https://seniorocity.com.au/whats-on-perth/tech-help-wanneroo-library-monday-128/
LOCATION:Wanneroo Library\, 3 Rocca Way\, Wanneroo\, WA\, 6065\, Australia
CATEGORIES:Tech
ATTACH;FMTTYPE=image/jpeg:https://seniorocity.com.au/wp-content/uploads/2025/04/1846f0357c7a791a8fd4ed3d29e5a0ba.jpg
GEO:-31.750643;115.805954
X-APPLE-STRUCTURED-LOCATION;VALUE=URI;X-ADDRESS=Wanneroo Library 3 Rocca Way Wanneroo WA 6065 Australia;X-APPLE-RADIUS=500;X-TITLE=3 Rocca Way:geo:115.805954,-31.750643
END:VEVENT
BEGIN:VEVENT
DTSTART;TZID=Australia/Perth:20260328T140000
DTEND;TZID=Australia/Perth:20260328T153000
DTSTAMP:20260422T055603
CREATED:20260206T154848Z
LAST-MODIFIED:20260206T154933Z
UID:10863170-1774706400-1774711800@seniorocity.com.au
SUMMARY:Create Small Gardens without the Big Cost\, Darren Senior @ Wanneroo Library
DESCRIPTION:Fun session on creating your own garden oasis without breaking the bank.\n\n\nStarting a new garden in a small space?  \nJoin us as we host Darren Senior for an inspiring workshop where we’ll show you how to make the most of limited areas using pots\, plants\, and clever design ideas. Learn practical tips for layout\, plant selection\, and creative container gardening—all without breaking the bank. Whether you’re working with a courtyard\, balcony\, or compact backyard\, this session will help you turn your space into a stunning retreat. \nAbout Darren Seinor – Garden Solutions \nDarren is a passionate horticulturist and garden designer with years of experience helping people create beautiful\, sustainable outdoor spaces. Known for his practical tips and creative approach\, Darren loves showing how simple ideas can make a big impact—especially in small gardens. \nIn collaboration with and supported by Strategic Land Use Planning & Environment. \nTarget audience: Adult / Home-owners \nFREE: bookings essential \nPlease cancel your tickets or advise one of our team if your plans change and you are unable to attend this event. \nDiscover other Library Activities
URL:https://seniorocity.com.au/whats-on-perth/create-small-gardens-without-the-big-cost-darren-senior-wanneroo-library/
LOCATION:Wanneroo Library and Cultural Centre\, 3 Rocca Way\, Wanneroo\, WA\, 6065\, Australia
CATEGORIES:Gardening & Environment
ATTACH;FMTTYPE=image/jpeg:https://seniorocity.com.au/wp-content/uploads/2026/02/1edc7d788831dfefc216ab7384610de5.jpg
END:VEVENT
BEGIN:VEVENT
DTSTART;TZID=Australia/Perth:20260328T100000
DTEND;TZID=Australia/Perth:20260328T120000
DTSTAMP:20260422T055603
CREATED:20260204T143221Z
LAST-MODIFIED:20260204T143348Z
UID:10862997-1774692000-1774699200@seniorocity.com.au
SUMMARY:Meditation and Inner Wellbeing @ Dordaak Kepup Library
DESCRIPTION:Enjoy a calming guided meditation session and class focused on developing your inner wellbeing.
URL:https://seniorocity.com.au/whats-on-perth/meditation-and-inner-wellbeing-dordaak-kepup-library-8/
LOCATION:Dordaak Kepup – Library and Youth Innovation Hub\, 15 The Broadview\, Landsdale\, WA\, 6065\, Australia
CATEGORIES:Health
ATTACH;FMTTYPE=image/jpeg:https://seniorocity.com.au/wp-content/uploads/2026/02/7da9656409d210d9c863746c44cab656.jpg
END:VEVENT
BEGIN:VEVENT
DTSTART;TZID=Australia/Perth:20260326T100000
DTEND;TZID=Australia/Perth:20260326T120000
DTSTAMP:20260422T055603
CREATED:20260204T145531Z
LAST-MODIFIED:20260204T145531Z
UID:10863072-1774519200-1774526400@seniorocity.com.au
SUMMARY:Forget-Me-Not Memory Cafe @ Wanneroo Library 2026
DESCRIPTION:Forget-Me-Not memory Café – dementia support\, gives those living with memory loss\, their carers and loved ones a supportive social network.
URL:https://seniorocity.com.au/whats-on-perth/forget-me-not-memory-cafe-wanneroo-library-2026-2/
LOCATION:Wanneroo Library and Cultural Centre\, 3 Rocca Way\, Wanneroo\, WA\, 6065\, Australia
CATEGORIES:Coffee Catchup
ATTACH;FMTTYPE=image/jpeg:https://seniorocity.com.au/wp-content/uploads/2026/02/a5e1447a223622c80720094767c99984.jpg
END:VEVENT
END:VCALENDAR