BEGIN:VCALENDAR
VERSION:2.0
PRODID:-//Seniorocity - Seniors / Over 55&#039;s Guide to Perth - ECPv6.15.11//NONSGML v1.0//EN
CALSCALE:GREGORIAN
METHOD:PUBLISH
X-WR-CALNAME:Seniorocity - Seniors / Over 55&#039;s Guide to Perth
X-ORIGINAL-URL:https://seniorocity.com.au
X-WR-CALDESC:Events for Seniorocity - Seniors / Over 55&#039;s Guide to Perth
REFRESH-INTERVAL;VALUE=DURATION:PT1H
X-Robots-Tag:noindex
X-PUBLISHED-TTL:PT1H
BEGIN:VTIMEZONE
TZID:Australia/Perth
BEGIN:STANDARD
TZOFFSETFROM:+0800
TZOFFSETTO:+0800
TZNAME:AWST
DTSTART:20250101T000000
END:STANDARD
END:VTIMEZONE
BEGIN:VEVENT
DTSTART;TZID=Australia/Perth:20260526T130000
DTEND;TZID=Australia/Perth:20260526T133000
DTSTAMP:20260422T041313
CREATED:20260401T145052Z
LAST-MODIFIED:20260401T145102Z
UID:10865197-1779800400-1779802200@seniorocity.com.au
SUMMARY:Tech Help @ Girrawheen Library
DESCRIPTION:Book in for a one-on-one session to go over whatever tech help you need.
URL:https://seniorocity.com.au/whats-on-perth/tech-help-girrawheen-library-55/
LOCATION:6 Patrick Ct\, 6 Patrick Court\, Girrawheen\, WA\, 6064\, Australia
CATEGORIES:Tech
ATTACH;FMTTYPE=image/jpeg:https://seniorocity.com.au/wp-content/uploads/2026/02/5e7fa4a1fcdd23cce7739d6be450808b.jpg
END:VEVENT
BEGIN:VEVENT
DTSTART;TZID=Australia/Perth:20260526T133000
DTEND;TZID=Australia/Perth:20260526T140000
DTSTAMP:20260422T041313
CREATED:20260401T145053Z
LAST-MODIFIED:20260401T145106Z
UID:10865198-1779802200-1779804000@seniorocity.com.au
SUMMARY:Tech Help @ Girrawheen Library
DESCRIPTION:Book in for a one-on-one session to go over whatever tech help you need.
URL:https://seniorocity.com.au/whats-on-perth/tech-help-girrawheen-library-56/
LOCATION:6 Patrick Ct\, 6 Patrick Court\, Girrawheen\, WA\, 6064\, Australia
CATEGORIES:Tech
ATTACH;FMTTYPE=image/jpeg:https://seniorocity.com.au/wp-content/uploads/2026/02/5e7fa4a1fcdd23cce7739d6be450808b.jpg
END:VEVENT
BEGIN:VEVENT
DTSTART;TZID=Australia/Perth:20260527T100000
DTEND;TZID=Australia/Perth:20260527T120000
DTSTAMP:20260422T041313
CREATED:20260404T142625Z
LAST-MODIFIED:20260404T142625Z
UID:10865342-1779876000-1779883200@seniorocity.com.au
SUMMARY:Deal Me In! Card Game Mornings @ Dordaak Kepup Library
DESCRIPTION:Step into lively mornings of cards\, connection and a little friendly competition!
URL:https://seniorocity.com.au/whats-on-perth/deal-me-in-card-game-mornings-dordaak-kepup-library-3/
LOCATION:Dordaak Kepup – Library and Youth Innovation Hub\, 15 The Broadview\, Landsdale\, WA\, 6065\, Australia
CATEGORIES:Games
ATTACH;FMTTYPE=image/jpeg:https://seniorocity.com.au/wp-content/uploads/2026/04/d9871fee6ce9aa67a914b6322ed6c62a.jpg
END:VEVENT
BEGIN:VEVENT
DTSTART;TZID=Australia/Perth:20260528T093000
DTEND;TZID=Australia/Perth:20260528T103000
DTSTAMP:20260422T041313
CREATED:20260102T080337Z
LAST-MODIFIED:20260401T150427Z
UID:10858087-1779960600-1779964200@seniorocity.com.au
SUMMARY:Tech Connect @ Wanneroo Library
DESCRIPTION:FREE weekly morning tea to connect with others and get more comfortable with technology.
URL:https://seniorocity.com.au/whats-on-perth/tech-connect-wanneroo-library-21/
LOCATION:Wanneroo Library and Cultural Centre\, 3 Rocca Way\, Wanneroo\, WA\, 6065\, Australia
CATEGORIES:Tech
ATTACH;FMTTYPE=image/jpeg:https://seniorocity.com.au/wp-content/uploads/2026/01/0cf7f50887955559e3bbd40a37b621a8.jpg
END:VEVENT
BEGIN:VEVENT
DTSTART;TZID=Australia/Perth:20260528T100000
DTEND;TZID=Australia/Perth:20260528T120000
DTSTAMP:20260422T041313
CREATED:20260204T145533Z
LAST-MODIFIED:20260401T150257Z
UID:10863074-1779962400-1779969600@seniorocity.com.au
SUMMARY:Forget-Me-Not Memory Cafe @ Wanneroo Library 2026
DESCRIPTION:Forget-Me-Not memory Café – dementia support\, gives those living with memory loss\, their carers and loved ones a supportive social network.
URL:https://seniorocity.com.au/whats-on-perth/forget-me-not-memory-cafe-wanneroo-library-2026-4/
LOCATION:Wanneroo Library and Cultural Centre\, 3 Rocca Way\, Wanneroo\, WA\, 6065\, Australia
CATEGORIES:Coffee Catchup
ATTACH;FMTTYPE=image/jpeg:https://seniorocity.com.au/wp-content/uploads/2026/02/a5e1447a223622c80720094767c99984.jpg
END:VEVENT
BEGIN:VEVENT
DTSTART;TZID=Australia/Perth:20260529T093000
DTEND;TZID=Australia/Perth:20260529T110000
DTSTAMP:20260422T041313
CREATED:20260402T155556Z
LAST-MODIFIED:20260402T155654Z
UID:10865316-1780047000-1780052400@seniorocity.com.au
SUMMARY:English Conversation Group @ Girrawheen Library
DESCRIPTION:Join us @ Girrawheen Library for our English Conversation Group—a relaxed and friendly space to practise your language skills.
URL:https://seniorocity.com.au/whats-on-perth/english-conversation-group-girrawheen-library-6/
LOCATION:Girrawheen Public Library\, 6 Patrick Court\, Girrawheen\, WA\, 6064\, Australia
CATEGORIES:Language Class
ATTACH;FMTTYPE=image/jpeg:https://seniorocity.com.au/wp-content/uploads/2026/04/d467cb59e057c4b7b345566d4af08a3d-1.jpg
END:VEVENT
BEGIN:VEVENT
DTSTART;TZID=Australia/Perth:20260530T100000
DTEND;TZID=Australia/Perth:20260530T120000
DTSTAMP:20260422T041313
CREATED:20260204T143256Z
LAST-MODIFIED:20260204T143531Z
UID:10863006-1780135200-1780142400@seniorocity.com.au
SUMMARY:Meditation and Inner Wellbeing @ Dordaak Kepup Library
DESCRIPTION:Enjoy a calming guided meditation session and class focused on developing your inner wellbeing.
URL:https://seniorocity.com.au/whats-on-perth/meditation-and-inner-wellbeing-dordaak-kepup-library-17/
LOCATION:Dordaak Kepup – Library and Youth Innovation Hub\, 15 The Broadview\, Landsdale\, WA\, 6065\, Australia
CATEGORIES:Health
ATTACH;FMTTYPE=image/jpeg:https://seniorocity.com.au/wp-content/uploads/2026/02/7da9656409d210d9c863746c44cab656.jpg
END:VEVENT
BEGIN:VEVENT
DTSTART;TZID=Australia/Perth:20260602T120000
DTEND;TZID=Australia/Perth:20260602T123000
DTSTAMP:20260422T041313
CREATED:20260401T145054Z
LAST-MODIFIED:20260401T145110Z
UID:10865199-1780401600-1780403400@seniorocity.com.au
SUMMARY:Tech Help @ Girrawheen Library
DESCRIPTION:Book in for a one-on-one session to go over whatever tech help you need.
URL:https://seniorocity.com.au/whats-on-perth/tech-help-girrawheen-library-57/
LOCATION:6 Patrick Ct\, 6 Patrick Court\, Girrawheen\, WA\, 6064\, Australia
CATEGORIES:Tech
ATTACH;FMTTYPE=image/jpeg:https://seniorocity.com.au/wp-content/uploads/2026/02/5e7fa4a1fcdd23cce7739d6be450808b.jpg
END:VEVENT
BEGIN:VEVENT
DTSTART;TZID=Australia/Perth:20260602T123000
DTEND;TZID=Australia/Perth:20260602T130000
DTSTAMP:20260422T041313
CREATED:20260401T145055Z
LAST-MODIFIED:20260401T145113Z
UID:10865200-1780403400-1780405200@seniorocity.com.au
SUMMARY:Tech Help @ Girrawheen Library
DESCRIPTION:Book in for a one-on-one session to go over whatever tech help you need.
URL:https://seniorocity.com.au/whats-on-perth/tech-help-girrawheen-library-58/
LOCATION:6 Patrick Ct\, 6 Patrick Court\, Girrawheen\, WA\, 6064\, Australia
CATEGORIES:Tech
ATTACH;FMTTYPE=image/jpeg:https://seniorocity.com.au/wp-content/uploads/2026/02/5e7fa4a1fcdd23cce7739d6be450808b.jpg
END:VEVENT
BEGIN:VEVENT
DTSTART;TZID=Australia/Perth:20260602T130000
DTEND;TZID=Australia/Perth:20260602T133000
DTSTAMP:20260422T041313
CREATED:20260401T145055Z
LAST-MODIFIED:20260401T145115Z
UID:10865201-1780405200-1780407000@seniorocity.com.au
SUMMARY:Tech Help @ Girrawheen Library
DESCRIPTION:Book in for a one-on-one session to go over whatever tech help you need.
URL:https://seniorocity.com.au/whats-on-perth/tech-help-girrawheen-library-59/
LOCATION:6 Patrick Ct\, 6 Patrick Court\, Girrawheen\, WA\, 6064\, Australia
CATEGORIES:Tech
ATTACH;FMTTYPE=image/jpeg:https://seniorocity.com.au/wp-content/uploads/2026/02/5e7fa4a1fcdd23cce7739d6be450808b.jpg
END:VEVENT
BEGIN:VEVENT
DTSTART;TZID=Australia/Perth:20260602T133000
DTEND;TZID=Australia/Perth:20260602T140000
DTSTAMP:20260422T041313
CREATED:20260401T145056Z
LAST-MODIFIED:20260401T145118Z
UID:10865202-1780407000-1780408800@seniorocity.com.au
SUMMARY:Tech Help @ Girrawheen Library
DESCRIPTION:Book in for a one-on-one session to go over whatever tech help you need.
URL:https://seniorocity.com.au/whats-on-perth/tech-help-girrawheen-library-60/
LOCATION:6 Patrick Ct\, 6 Patrick Court\, Girrawheen\, WA\, 6064\, Australia
CATEGORIES:Tech
ATTACH;FMTTYPE=image/jpeg:https://seniorocity.com.au/wp-content/uploads/2026/02/5e7fa4a1fcdd23cce7739d6be450808b.jpg
END:VEVENT
BEGIN:VEVENT
DTSTART;TZID=Australia/Perth:20260604T093000
DTEND;TZID=Australia/Perth:20260604T103000
DTSTAMP:20260422T041313
CREATED:20260102T080337Z
LAST-MODIFIED:20260401T150439Z
UID:10858088-1780565400-1780569000@seniorocity.com.au
SUMMARY:Tech Connect @ Wanneroo Library
DESCRIPTION:FREE weekly morning tea to connect with others and get more comfortable with technology.
URL:https://seniorocity.com.au/whats-on-perth/tech-connect-wanneroo-library-22/
LOCATION:Wanneroo Library and Cultural Centre\, 3 Rocca Way\, Wanneroo\, WA\, 6065\, Australia
CATEGORIES:Tech
ATTACH;FMTTYPE=image/jpeg:https://seniorocity.com.au/wp-content/uploads/2026/01/0cf7f50887955559e3bbd40a37b621a8.jpg
END:VEVENT
BEGIN:VEVENT
DTSTART;TZID=Australia/Perth:20260605T093000
DTEND;TZID=Australia/Perth:20260605T110000
DTSTAMP:20260422T041313
CREATED:20260402T155557Z
LAST-MODIFIED:20260402T155706Z
UID:10865317-1780651800-1780657200@seniorocity.com.au
SUMMARY:English Conversation Group @ Girrawheen Library
DESCRIPTION:Join us @ Girrawheen Library for our English Conversation Group—a relaxed and friendly space to practise your language skills.
URL:https://seniorocity.com.au/whats-on-perth/english-conversation-group-girrawheen-library-7/
LOCATION:Girrawheen Public Library\, 6 Patrick Court\, Girrawheen\, WA\, 6064\, Australia
CATEGORIES:Language Class
ATTACH;FMTTYPE=image/jpeg:https://seniorocity.com.au/wp-content/uploads/2026/04/d467cb59e057c4b7b345566d4af08a3d-1.jpg
END:VEVENT
BEGIN:VEVENT
DTSTART;TZID=Australia/Perth:20260606T100000
DTEND;TZID=Australia/Perth:20260606T120000
DTSTAMP:20260422T041313
CREATED:20260204T143256Z
LAST-MODIFIED:20260204T143541Z
UID:10863007-1780740000-1780747200@seniorocity.com.au
SUMMARY:Meditation and Inner Wellbeing @ Dordaak Kepup Library
DESCRIPTION:Enjoy a calming guided meditation session and class focused on developing your inner wellbeing.
URL:https://seniorocity.com.au/whats-on-perth/meditation-and-inner-wellbeing-dordaak-kepup-library-18/
LOCATION:Dordaak Kepup – Library and Youth Innovation Hub\, 15 The Broadview\, Landsdale\, WA\, 6065\, Australia
CATEGORIES:Health
ATTACH;FMTTYPE=image/jpeg:https://seniorocity.com.au/wp-content/uploads/2026/02/7da9656409d210d9c863746c44cab656.jpg
END:VEVENT
BEGIN:VEVENT
DTSTART;TZID=Australia/Perth:20260609T120000
DTEND;TZID=Australia/Perth:20260609T123000
DTSTAMP:20260422T041313
CREATED:20260401T145057Z
LAST-MODIFIED:20260401T145120Z
UID:10865203-1781006400-1781008200@seniorocity.com.au
SUMMARY:Tech Help @ Girrawheen Library
DESCRIPTION:Book in for a one-on-one session to go over whatever tech help you need.
URL:https://seniorocity.com.au/whats-on-perth/tech-help-girrawheen-library-61/
LOCATION:6 Patrick Ct\, 6 Patrick Court\, Girrawheen\, WA\, 6064\, Australia
CATEGORIES:Tech
ATTACH;FMTTYPE=image/jpeg:https://seniorocity.com.au/wp-content/uploads/2026/02/5e7fa4a1fcdd23cce7739d6be450808b.jpg
END:VEVENT
BEGIN:VEVENT
DTSTART;TZID=Australia/Perth:20260609T123000
DTEND;TZID=Australia/Perth:20260609T130000
DTSTAMP:20260422T041313
CREATED:20260401T145058Z
LAST-MODIFIED:20260401T145123Z
UID:10865204-1781008200-1781010000@seniorocity.com.au
SUMMARY:Tech Help @ Girrawheen Library
DESCRIPTION:Book in for a one-on-one session to go over whatever tech help you need.
URL:https://seniorocity.com.au/whats-on-perth/tech-help-girrawheen-library-62/
LOCATION:6 Patrick Ct\, 6 Patrick Court\, Girrawheen\, WA\, 6064\, Australia
CATEGORIES:Tech
ATTACH;FMTTYPE=image/jpeg:https://seniorocity.com.au/wp-content/uploads/2026/02/5e7fa4a1fcdd23cce7739d6be450808b.jpg
END:VEVENT
BEGIN:VEVENT
DTSTART;TZID=Australia/Perth:20260609T130000
DTEND;TZID=Australia/Perth:20260609T133000
DTSTAMP:20260422T041313
CREATED:20260401T145113Z
LAST-MODIFIED:20260401T145126Z
UID:10865205-1781010000-1781011800@seniorocity.com.au
SUMMARY:Tech Help @ Girrawheen Library
DESCRIPTION:Book in for a one-on-one session to go over whatever tech help you need.
URL:https://seniorocity.com.au/whats-on-perth/tech-help-girrawheen-library-63/
LOCATION:6 Patrick Ct\, 6 Patrick Court\, Girrawheen\, WA\, 6064\, Australia
CATEGORIES:Tech
ATTACH;FMTTYPE=image/jpeg:https://seniorocity.com.au/wp-content/uploads/2026/02/5e7fa4a1fcdd23cce7739d6be450808b.jpg
END:VEVENT
BEGIN:VEVENT
DTSTART;TZID=Australia/Perth:20260609T133000
DTEND;TZID=Australia/Perth:20260609T140000
DTSTAMP:20260422T041313
CREATED:20260401T145114Z
LAST-MODIFIED:20260401T145128Z
UID:10865206-1781011800-1781013600@seniorocity.com.au
SUMMARY:Tech Help @ Girrawheen Library
DESCRIPTION:Book in for a one-on-one session to go over whatever tech help you need.
URL:https://seniorocity.com.au/whats-on-perth/tech-help-girrawheen-library-64/
LOCATION:6 Patrick Ct\, 6 Patrick Court\, Girrawheen\, WA\, 6064\, Australia
CATEGORIES:Tech
ATTACH;FMTTYPE=image/jpeg:https://seniorocity.com.au/wp-content/uploads/2026/02/5e7fa4a1fcdd23cce7739d6be450808b.jpg
END:VEVENT
BEGIN:VEVENT
DTSTART;TZID=Australia/Perth:20260611T093000
DTEND;TZID=Australia/Perth:20260611T103000
DTSTAMP:20260422T041313
CREATED:20260102T080338Z
LAST-MODIFIED:20260401T150451Z
UID:10858089-1781170200-1781173800@seniorocity.com.au
SUMMARY:Tech Connect @ Wanneroo Library
DESCRIPTION:FREE weekly morning tea to connect with others and get more comfortable with technology.
URL:https://seniorocity.com.au/whats-on-perth/tech-connect-wanneroo-library-23/
LOCATION:Wanneroo Library and Cultural Centre\, 3 Rocca Way\, Wanneroo\, WA\, 6065\, Australia
CATEGORIES:Tech
ATTACH;FMTTYPE=image/jpeg:https://seniorocity.com.au/wp-content/uploads/2026/01/0cf7f50887955559e3bbd40a37b621a8.jpg
END:VEVENT
BEGIN:VEVENT
DTSTART;TZID=Australia/Perth:20260612T093000
DTEND;TZID=Australia/Perth:20260612T110000
DTSTAMP:20260422T041313
CREATED:20260402T155557Z
LAST-MODIFIED:20260402T155718Z
UID:10865318-1781256600-1781262000@seniorocity.com.au
SUMMARY:English Conversation Group @ Girrawheen Library
DESCRIPTION:Join us @ Girrawheen Library for our English Conversation Group—a relaxed and friendly space to practise your language skills.
URL:https://seniorocity.com.au/whats-on-perth/english-conversation-group-girrawheen-library-8/
LOCATION:Girrawheen Public Library\, 6 Patrick Court\, Girrawheen\, WA\, 6064\, Australia
CATEGORIES:Language Class
ATTACH;FMTTYPE=image/jpeg:https://seniorocity.com.au/wp-content/uploads/2026/04/d467cb59e057c4b7b345566d4af08a3d-1.jpg
END:VEVENT
BEGIN:VEVENT
DTSTART;TZID=Australia/Perth:20260613T100000
DTEND;TZID=Australia/Perth:20260613T120000
DTSTAMP:20260422T041313
CREATED:20260204T143257Z
LAST-MODIFIED:20260204T143549Z
UID:10863008-1781344800-1781352000@seniorocity.com.au
SUMMARY:Meditation and Inner Wellbeing @ Dordaak Kepup Library
DESCRIPTION:Enjoy a calming guided meditation session and class focused on developing your inner wellbeing.
URL:https://seniorocity.com.au/whats-on-perth/meditation-and-inner-wellbeing-dordaak-kepup-library-19/
LOCATION:Dordaak Kepup – Library and Youth Innovation Hub\, 15 The Broadview\, Landsdale\, WA\, 6065\, Australia
CATEGORIES:Health
ATTACH;FMTTYPE=image/jpeg:https://seniorocity.com.au/wp-content/uploads/2026/02/7da9656409d210d9c863746c44cab656.jpg
END:VEVENT
BEGIN:VEVENT
DTSTART;TZID=Australia/Perth:20260616T120000
DTEND;TZID=Australia/Perth:20260616T123000
DTSTAMP:20260422T041313
CREATED:20260401T145115Z
LAST-MODIFIED:20260401T145131Z
UID:10865207-1781611200-1781613000@seniorocity.com.au
SUMMARY:Tech Help @ Girrawheen Library
DESCRIPTION:Book in for a one-on-one session to go over whatever tech help you need.
URL:https://seniorocity.com.au/whats-on-perth/tech-help-girrawheen-library-65/
LOCATION:6 Patrick Ct\, 6 Patrick Court\, Girrawheen\, WA\, 6064\, Australia
CATEGORIES:Tech
ATTACH;FMTTYPE=image/jpeg:https://seniorocity.com.au/wp-content/uploads/2026/02/5e7fa4a1fcdd23cce7739d6be450808b.jpg
END:VEVENT
BEGIN:VEVENT
DTSTART;TZID=Australia/Perth:20260616T123000
DTEND;TZID=Australia/Perth:20260616T130000
DTSTAMP:20260422T041313
CREATED:20260401T145116Z
LAST-MODIFIED:20260401T145133Z
UID:10865208-1781613000-1781614800@seniorocity.com.au
SUMMARY:Tech Help @ Girrawheen Library
DESCRIPTION:Book in for a one-on-one session to go over whatever tech help you need.
URL:https://seniorocity.com.au/whats-on-perth/tech-help-girrawheen-library-66/
LOCATION:6 Patrick Ct\, 6 Patrick Court\, Girrawheen\, WA\, 6064\, Australia
CATEGORIES:Tech
ATTACH;FMTTYPE=image/jpeg:https://seniorocity.com.au/wp-content/uploads/2026/02/5e7fa4a1fcdd23cce7739d6be450808b.jpg
END:VEVENT
BEGIN:VEVENT
DTSTART;TZID=Australia/Perth:20260616T130000
DTEND;TZID=Australia/Perth:20260616T133000
DTSTAMP:20260422T041313
CREATED:20260401T145117Z
LAST-MODIFIED:20260401T145136Z
UID:10865209-1781614800-1781616600@seniorocity.com.au
SUMMARY:Tech Help @ Girrawheen Library
DESCRIPTION:Book in for a one-on-one session to go over whatever tech help you need.
URL:https://seniorocity.com.au/whats-on-perth/tech-help-girrawheen-library-67/
LOCATION:6 Patrick Ct\, 6 Patrick Court\, Girrawheen\, WA\, 6064\, Australia
CATEGORIES:Tech
ATTACH;FMTTYPE=image/jpeg:https://seniorocity.com.au/wp-content/uploads/2026/02/5e7fa4a1fcdd23cce7739d6be450808b.jpg
END:VEVENT
BEGIN:VEVENT
DTSTART;TZID=Australia/Perth:20260616T133000
DTEND;TZID=Australia/Perth:20260616T140000
DTSTAMP:20260422T041313
CREATED:20260401T145118Z
LAST-MODIFIED:20260401T145138Z
UID:10865210-1781616600-1781618400@seniorocity.com.au
SUMMARY:Tech Help @ Girrawheen Library
DESCRIPTION:Book in for a one-on-one session to go over whatever tech help you need.
URL:https://seniorocity.com.au/whats-on-perth/tech-help-girrawheen-library-68/
LOCATION:6 Patrick Ct\, 6 Patrick Court\, Girrawheen\, WA\, 6064\, Australia
CATEGORIES:Tech
ATTACH;FMTTYPE=image/jpeg:https://seniorocity.com.au/wp-content/uploads/2026/02/5e7fa4a1fcdd23cce7739d6be450808b.jpg
END:VEVENT
BEGIN:VEVENT
DTSTART;TZID=Australia/Perth:20260617T093000
DTEND;TZID=Australia/Perth:20260617T110000
DTSTAMP:20260422T041313
CREATED:20260401T142706Z
LAST-MODIFIED:20260401T143226Z
UID:10865172-1781688600-1781694000@seniorocity.com.au
SUMMARY:Biscuits & Blooms-  A Plant Swap Morning Tea @ Girrawheen Library
DESCRIPTION:Join us @ Girrawheen Library with our monthly Plant Swap Morning Tea.
URL:https://seniorocity.com.au/whats-on-perth/biscuits-blooms-a-plant-swap-morning-tea-girrawheen-library-3/
LOCATION:Girrawheen Public Library\, 6 Patrick Court\, Girrawheen\, WA\, 6064\, Australia
CATEGORIES:Morning Tea
ATTACH;FMTTYPE=image/jpeg:https://seniorocity.com.au/wp-content/uploads/2026/04/0dddd384591c839dfcac13974fa0ce10.jpg
END:VEVENT
BEGIN:VEVENT
DTSTART;TZID=Australia/Perth:20260618T093000
DTEND;TZID=Australia/Perth:20260618T103000
DTSTAMP:20260422T041313
CREATED:20260102T080339Z
LAST-MODIFIED:20260401T150502Z
UID:10858090-1781775000-1781778600@seniorocity.com.au
SUMMARY:Tech Connect @ Wanneroo Library
DESCRIPTION:FREE weekly morning tea to connect with others and get more comfortable with technology.
URL:https://seniorocity.com.au/whats-on-perth/tech-connect-wanneroo-library-24/
LOCATION:Wanneroo Library and Cultural Centre\, 3 Rocca Way\, Wanneroo\, WA\, 6065\, Australia
CATEGORIES:Tech
ATTACH;FMTTYPE=image/jpeg:https://seniorocity.com.au/wp-content/uploads/2026/01/0cf7f50887955559e3bbd40a37b621a8.jpg
END:VEVENT
BEGIN:VEVENT
DTSTART;TZID=Australia/Perth:20260619T093000
DTEND;TZID=Australia/Perth:20260619T110000
DTSTAMP:20260422T041313
CREATED:20260402T155558Z
LAST-MODIFIED:20260402T155730Z
UID:10865319-1781861400-1781866800@seniorocity.com.au
SUMMARY:English Conversation Group @ Girrawheen Library
DESCRIPTION:Join us @ Girrawheen Library for our English Conversation Group—a relaxed and friendly space to practise your language skills.
URL:https://seniorocity.com.au/whats-on-perth/english-conversation-group-girrawheen-library-9/
LOCATION:Girrawheen Public Library\, 6 Patrick Court\, Girrawheen\, WA\, 6064\, Australia
CATEGORIES:Language Class
ATTACH;FMTTYPE=image/jpeg:https://seniorocity.com.au/wp-content/uploads/2026/04/d467cb59e057c4b7b345566d4af08a3d-1.jpg
END:VEVENT
BEGIN:VEVENT
DTSTART;TZID=Australia/Perth:20260620T100000
DTEND;TZID=Australia/Perth:20260620T120000
DTSTAMP:20260422T041313
CREATED:20260204T143258Z
LAST-MODIFIED:20260204T143600Z
UID:10863009-1781949600-1781956800@seniorocity.com.au
SUMMARY:Meditation and Inner Wellbeing @ Dordaak Kepup Library
DESCRIPTION:Enjoy a calming guided meditation session and class focused on developing your inner wellbeing.
URL:https://seniorocity.com.au/whats-on-perth/meditation-and-inner-wellbeing-dordaak-kepup-library-20/
LOCATION:Dordaak Kepup – Library and Youth Innovation Hub\, 15 The Broadview\, Landsdale\, WA\, 6065\, Australia
CATEGORIES:Health
ATTACH;FMTTYPE=image/jpeg:https://seniorocity.com.au/wp-content/uploads/2026/02/7da9656409d210d9c863746c44cab656.jpg
END:VEVENT
BEGIN:VEVENT
DTSTART;TZID=Australia/Perth:20260623T120000
DTEND;TZID=Australia/Perth:20260623T123000
DTSTAMP:20260422T041313
CREATED:20260401T145119Z
LAST-MODIFIED:20260401T145141Z
UID:10865211-1782216000-1782217800@seniorocity.com.au
SUMMARY:Tech Help @ Girrawheen Library
DESCRIPTION:Book in for a one-on-one session to go over whatever tech help you need.
URL:https://seniorocity.com.au/whats-on-perth/tech-help-girrawheen-library-69/
LOCATION:6 Patrick Ct\, 6 Patrick Court\, Girrawheen\, WA\, 6064\, Australia
CATEGORIES:Tech
ATTACH;FMTTYPE=image/jpeg:https://seniorocity.com.au/wp-content/uploads/2026/02/5e7fa4a1fcdd23cce7739d6be450808b.jpg
END:VEVENT
END:VCALENDAR