BEGIN:VCALENDAR
VERSION:2.0
PRODID:-//Seniorocity - Seniors / Over 55&#039;s Guide to Perth - ECPv6.15.11//NONSGML v1.0//EN
CALSCALE:GREGORIAN
METHOD:PUBLISH
X-WR-CALNAME:Seniorocity - Seniors / Over 55&#039;s Guide to Perth
X-ORIGINAL-URL:https://seniorocity.com.au
X-WR-CALDESC:Events for Seniorocity - Seniors / Over 55&#039;s Guide to Perth
REFRESH-INTERVAL;VALUE=DURATION:PT1H
X-Robots-Tag:noindex
X-PUBLISHED-TTL:PT1H
BEGIN:VTIMEZONE
TZID:Australia/Perth
BEGIN:STANDARD
TZOFFSETFROM:+0800
TZOFFSETTO:+0800
TZNAME:AWST
DTSTART:20250101T000000
END:STANDARD
END:VTIMEZONE
BEGIN:VEVENT
DTSTART;TZID=Australia/Perth:20260623T123000
DTEND;TZID=Australia/Perth:20260623T130000
DTSTAMP:20260422T055743
CREATED:20260401T145120Z
LAST-MODIFIED:20260401T145143Z
UID:10865212-1782217800-1782219600@seniorocity.com.au
SUMMARY:Tech Help @ Girrawheen Library
DESCRIPTION:Book in for a one-on-one session to go over whatever tech help you need.
URL:https://seniorocity.com.au/whats-on-perth/tech-help-girrawheen-library-70/
LOCATION:6 Patrick Ct\, 6 Patrick Court\, Girrawheen\, WA\, 6064\, Australia
CATEGORIES:Tech
ATTACH;FMTTYPE=image/jpeg:https://seniorocity.com.au/wp-content/uploads/2026/02/5e7fa4a1fcdd23cce7739d6be450808b.jpg
END:VEVENT
BEGIN:VEVENT
DTSTART;TZID=Australia/Perth:20260623T130000
DTEND;TZID=Australia/Perth:20260623T133000
DTSTAMP:20260422T055743
CREATED:20260401T145121Z
LAST-MODIFIED:20260401T145146Z
UID:10865213-1782219600-1782221400@seniorocity.com.au
SUMMARY:Tech Help @ Girrawheen Library
DESCRIPTION:Book in for a one-on-one session to go over whatever tech help you need.
URL:https://seniorocity.com.au/whats-on-perth/tech-help-girrawheen-library-71/
LOCATION:6 Patrick Ct\, 6 Patrick Court\, Girrawheen\, WA\, 6064\, Australia
CATEGORIES:Tech
ATTACH;FMTTYPE=image/jpeg:https://seniorocity.com.au/wp-content/uploads/2026/02/5e7fa4a1fcdd23cce7739d6be450808b.jpg
END:VEVENT
BEGIN:VEVENT
DTSTART;TZID=Australia/Perth:20260623T133000
DTEND;TZID=Australia/Perth:20260623T140000
DTSTAMP:20260422T055743
CREATED:20260401T145122Z
LAST-MODIFIED:20260401T145148Z
UID:10865214-1782221400-1782223200@seniorocity.com.au
SUMMARY:Tech Help @ Girrawheen Library
DESCRIPTION:Book in for a one-on-one session to go over whatever tech help you need.
URL:https://seniorocity.com.au/whats-on-perth/tech-help-girrawheen-library-72/
LOCATION:6 Patrick Ct\, 6 Patrick Court\, Girrawheen\, WA\, 6064\, Australia
CATEGORIES:Tech
ATTACH;FMTTYPE=image/jpeg:https://seniorocity.com.au/wp-content/uploads/2026/02/5e7fa4a1fcdd23cce7739d6be450808b.jpg
END:VEVENT
BEGIN:VEVENT
DTSTART;TZID=Australia/Perth:20260625T093000
DTEND;TZID=Australia/Perth:20260625T103000
DTSTAMP:20260422T055743
CREATED:20260102T080339Z
LAST-MODIFIED:20260401T150517Z
UID:10858091-1782379800-1782383400@seniorocity.com.au
SUMMARY:Tech Connect @ Wanneroo Library
DESCRIPTION:FREE weekly morning tea to connect with others and get more comfortable with technology.
URL:https://seniorocity.com.au/whats-on-perth/tech-connect-wanneroo-library-25/
LOCATION:Wanneroo Library and Cultural Centre\, 3 Rocca Way\, Wanneroo\, WA\, 6065\, Australia
CATEGORIES:Tech
ATTACH;FMTTYPE=image/jpeg:https://seniorocity.com.au/wp-content/uploads/2026/01/0cf7f50887955559e3bbd40a37b621a8.jpg
END:VEVENT
BEGIN:VEVENT
DTSTART;TZID=Australia/Perth:20260625T100000
DTEND;TZID=Australia/Perth:20260625T120000
DTSTAMP:20260422T055743
CREATED:20260204T145534Z
LAST-MODIFIED:20260401T150258Z
UID:10863075-1782381600-1782388800@seniorocity.com.au
SUMMARY:Forget-Me-Not Memory Cafe @ Wanneroo Library 2026
DESCRIPTION:Forget-Me-Not memory Café – dementia support\, gives those living with memory loss\, their carers and loved ones a supportive social network.
URL:https://seniorocity.com.au/whats-on-perth/forget-me-not-memory-cafe-wanneroo-library-2026-5/
LOCATION:Wanneroo Library and Cultural Centre\, 3 Rocca Way\, Wanneroo\, WA\, 6065\, Australia
CATEGORIES:Coffee Catchup
ATTACH;FMTTYPE=image/jpeg:https://seniorocity.com.au/wp-content/uploads/2026/02/a5e1447a223622c80720094767c99984.jpg
END:VEVENT
BEGIN:VEVENT
DTSTART;TZID=Australia/Perth:20260626T093000
DTEND;TZID=Australia/Perth:20260626T110000
DTSTAMP:20260422T055743
CREATED:20260402T155559Z
LAST-MODIFIED:20260402T155741Z
UID:10865320-1782466200-1782471600@seniorocity.com.au
SUMMARY:English Conversation Group @ Girrawheen Library
DESCRIPTION:Join us @ Girrawheen Library for our English Conversation Group—a relaxed and friendly space to practise your language skills.
URL:https://seniorocity.com.au/whats-on-perth/english-conversation-group-girrawheen-library-10/
LOCATION:Girrawheen Public Library\, 6 Patrick Court\, Girrawheen\, WA\, 6064\, Australia
CATEGORIES:Language Class
ATTACH;FMTTYPE=image/jpeg:https://seniorocity.com.au/wp-content/uploads/2026/04/d467cb59e057c4b7b345566d4af08a3d-1.jpg
END:VEVENT
BEGIN:VEVENT
DTSTART;TZID=Australia/Perth:20260627T100000
DTEND;TZID=Australia/Perth:20260627T120000
DTSTAMP:20260422T055743
CREATED:20260204T143327Z
LAST-MODIFIED:20260204T143612Z
UID:10863010-1782554400-1782561600@seniorocity.com.au
SUMMARY:Meditation and Inner Wellbeing @ Dordaak Kepup Library
DESCRIPTION:Enjoy a calming guided meditation session and class focused on developing your inner wellbeing.
URL:https://seniorocity.com.au/whats-on-perth/meditation-and-inner-wellbeing-dordaak-kepup-library-21/
LOCATION:Dordaak Kepup – Library and Youth Innovation Hub\, 15 The Broadview\, Landsdale\, WA\, 6065\, Australia
CATEGORIES:Health
ATTACH;FMTTYPE=image/jpeg:https://seniorocity.com.au/wp-content/uploads/2026/02/7da9656409d210d9c863746c44cab656.jpg
END:VEVENT
BEGIN:VEVENT
DTSTART;TZID=Australia/Perth:20260630T120000
DTEND;TZID=Australia/Perth:20260630T123000
DTSTAMP:20260422T055743
CREATED:20260401T145138Z
LAST-MODIFIED:20260401T145151Z
UID:10865215-1782820800-1782822600@seniorocity.com.au
SUMMARY:Tech Help @ Girrawheen Library
DESCRIPTION:Book in for a one-on-one session to go over whatever tech help you need.
URL:https://seniorocity.com.au/whats-on-perth/tech-help-girrawheen-library-73/
LOCATION:6 Patrick Ct\, 6 Patrick Court\, Girrawheen\, WA\, 6064\, Australia
CATEGORIES:Tech
ATTACH;FMTTYPE=image/jpeg:https://seniorocity.com.au/wp-content/uploads/2026/02/5e7fa4a1fcdd23cce7739d6be450808b.jpg
END:VEVENT
BEGIN:VEVENT
DTSTART;TZID=Australia/Perth:20260630T123000
DTEND;TZID=Australia/Perth:20260630T130000
DTSTAMP:20260422T055743
CREATED:20260401T145139Z
LAST-MODIFIED:20260401T145154Z
UID:10865216-1782822600-1782824400@seniorocity.com.au
SUMMARY:Tech Help @ Girrawheen Library
DESCRIPTION:Book in for a one-on-one session to go over whatever tech help you need.
URL:https://seniorocity.com.au/whats-on-perth/tech-help-girrawheen-library-74/
LOCATION:6 Patrick Ct\, 6 Patrick Court\, Girrawheen\, WA\, 6064\, Australia
CATEGORIES:Tech
ATTACH;FMTTYPE=image/jpeg:https://seniorocity.com.au/wp-content/uploads/2026/02/5e7fa4a1fcdd23cce7739d6be450808b.jpg
END:VEVENT
BEGIN:VEVENT
DTSTART;TZID=Australia/Perth:20260630T130000
DTEND;TZID=Australia/Perth:20260630T133000
DTSTAMP:20260422T055743
CREATED:20260401T145139Z
LAST-MODIFIED:20260401T145156Z
UID:10865217-1782824400-1782826200@seniorocity.com.au
SUMMARY:Tech Help @ Girrawheen Library
DESCRIPTION:Book in for a one-on-one session to go over whatever tech help you need.
URL:https://seniorocity.com.au/whats-on-perth/tech-help-girrawheen-library-75/
LOCATION:6 Patrick Ct\, 6 Patrick Court\, Girrawheen\, WA\, 6064\, Australia
CATEGORIES:Tech
ATTACH;FMTTYPE=image/jpeg:https://seniorocity.com.au/wp-content/uploads/2026/02/5e7fa4a1fcdd23cce7739d6be450808b.jpg
END:VEVENT
BEGIN:VEVENT
DTSTART;TZID=Australia/Perth:20260630T133000
DTEND;TZID=Australia/Perth:20260630T140000
DTSTAMP:20260422T055744
CREATED:20260401T145140Z
LAST-MODIFIED:20260401T145158Z
UID:10865218-1782826200-1782828000@seniorocity.com.au
SUMMARY:Tech Help @ Girrawheen Library
DESCRIPTION:Book in for a one-on-one session to go over whatever tech help you need.
URL:https://seniorocity.com.au/whats-on-perth/tech-help-girrawheen-library-76/
LOCATION:6 Patrick Ct\, 6 Patrick Court\, Girrawheen\, WA\, 6064\, Australia
CATEGORIES:Tech
ATTACH;FMTTYPE=image/jpeg:https://seniorocity.com.au/wp-content/uploads/2026/02/5e7fa4a1fcdd23cce7739d6be450808b.jpg
END:VEVENT
BEGIN:VEVENT
DTSTART;TZID=Australia/Perth:20260702T093000
DTEND;TZID=Australia/Perth:20260702T103000
DTSTAMP:20260422T055744
CREATED:20260102T080340Z
LAST-MODIFIED:20260401T150530Z
UID:10858092-1782984600-1782988200@seniorocity.com.au
SUMMARY:Tech Connect @ Wanneroo Library
DESCRIPTION:FREE weekly morning tea to connect with others and get more comfortable with technology.
URL:https://seniorocity.com.au/whats-on-perth/tech-connect-wanneroo-library-26/
LOCATION:Wanneroo Library and Cultural Centre\, 3 Rocca Way\, Wanneroo\, WA\, 6065\, Australia
CATEGORIES:Tech
ATTACH;FMTTYPE=image/jpeg:https://seniorocity.com.au/wp-content/uploads/2026/01/0cf7f50887955559e3bbd40a37b621a8.jpg
END:VEVENT
BEGIN:VEVENT
DTSTART;TZID=Australia/Perth:20260704T100000
DTEND;TZID=Australia/Perth:20260704T120000
DTSTAMP:20260422T055744
CREATED:20260204T143327Z
LAST-MODIFIED:20260204T143625Z
UID:10863011-1783159200-1783166400@seniorocity.com.au
SUMMARY:Meditation and Inner Wellbeing @ Dordaak Kepup Library
DESCRIPTION:Enjoy a calming guided meditation session and class focused on developing your inner wellbeing.
URL:https://seniorocity.com.au/whats-on-perth/meditation-and-inner-wellbeing-dordaak-kepup-library-22/
LOCATION:Dordaak Kepup – Library and Youth Innovation Hub\, 15 The Broadview\, Landsdale\, WA\, 6065\, Australia
CATEGORIES:Health
ATTACH;FMTTYPE=image/jpeg:https://seniorocity.com.au/wp-content/uploads/2026/02/7da9656409d210d9c863746c44cab656.jpg
END:VEVENT
BEGIN:VEVENT
DTSTART;TZID=Australia/Perth:20260709T093000
DTEND;TZID=Australia/Perth:20260709T103000
DTSTAMP:20260422T055744
CREATED:20260102T080341Z
LAST-MODIFIED:20260401T150542Z
UID:10858093-1783589400-1783593000@seniorocity.com.au
SUMMARY:Tech Connect @ Wanneroo Library
DESCRIPTION:FREE weekly morning tea to connect with others and get more comfortable with technology.
URL:https://seniorocity.com.au/whats-on-perth/tech-connect-wanneroo-library-27/
LOCATION:Wanneroo Library and Cultural Centre\, 3 Rocca Way\, Wanneroo\, WA\, 6065\, Australia
CATEGORIES:Tech
ATTACH;FMTTYPE=image/jpeg:https://seniorocity.com.au/wp-content/uploads/2026/01/0cf7f50887955559e3bbd40a37b621a8.jpg
END:VEVENT
BEGIN:VEVENT
DTSTART;TZID=Australia/Perth:20260716T093000
DTEND;TZID=Australia/Perth:20260716T103000
DTSTAMP:20260422T055744
CREATED:20260102T080342Z
LAST-MODIFIED:20260401T150553Z
UID:10858094-1784194200-1784197800@seniorocity.com.au
SUMMARY:Tech Connect @ Wanneroo Library
DESCRIPTION:FREE weekly morning tea to connect with others and get more comfortable with technology.
URL:https://seniorocity.com.au/whats-on-perth/tech-connect-wanneroo-library-28/
LOCATION:Wanneroo Library and Cultural Centre\, 3 Rocca Way\, Wanneroo\, WA\, 6065\, Australia
CATEGORIES:Tech
ATTACH;FMTTYPE=image/jpeg:https://seniorocity.com.au/wp-content/uploads/2026/01/0cf7f50887955559e3bbd40a37b621a8.jpg
END:VEVENT
BEGIN:VEVENT
DTSTART;TZID=Australia/Perth:20260723T093000
DTEND;TZID=Australia/Perth:20260723T103000
DTSTAMP:20260422T055744
CREATED:20260102T080343Z
LAST-MODIFIED:20260401T150607Z
UID:10858095-1784799000-1784802600@seniorocity.com.au
SUMMARY:Tech Connect @ Wanneroo Library
DESCRIPTION:FREE weekly morning tea to connect with others and get more comfortable with technology.
URL:https://seniorocity.com.au/whats-on-perth/tech-connect-wanneroo-library-29/
LOCATION:Wanneroo Library and Cultural Centre\, 3 Rocca Way\, Wanneroo\, WA\, 6065\, Australia
CATEGORIES:Tech
ATTACH;FMTTYPE=image/jpeg:https://seniorocity.com.au/wp-content/uploads/2026/01/0cf7f50887955559e3bbd40a37b621a8.jpg
END:VEVENT
BEGIN:VEVENT
DTSTART;TZID=Australia/Perth:20260723T100000
DTEND;TZID=Australia/Perth:20260723T120000
DTSTAMP:20260422T055744
CREATED:20260204T145535Z
LAST-MODIFIED:20260401T150259Z
UID:10863076-1784800800-1784808000@seniorocity.com.au
SUMMARY:Forget-Me-Not Memory Cafe @ Wanneroo Library 2026
DESCRIPTION:Forget-Me-Not memory Café – dementia support\, gives those living with memory loss\, their carers and loved ones a supportive social network.
URL:https://seniorocity.com.au/whats-on-perth/forget-me-not-memory-cafe-wanneroo-library-2026-6/
LOCATION:Wanneroo Library and Cultural Centre\, 3 Rocca Way\, Wanneroo\, WA\, 6065\, Australia
CATEGORIES:Coffee Catchup
ATTACH;FMTTYPE=image/jpeg:https://seniorocity.com.au/wp-content/uploads/2026/02/a5e1447a223622c80720094767c99984.jpg
END:VEVENT
BEGIN:VEVENT
DTSTART;TZID=Australia/Perth:20260730T093000
DTEND;TZID=Australia/Perth:20260730T103000
DTSTAMP:20260422T055744
CREATED:20260102T080344Z
LAST-MODIFIED:20260401T150620Z
UID:10858096-1785403800-1785407400@seniorocity.com.au
SUMMARY:Tech Connect @ Wanneroo Library
DESCRIPTION:FREE weekly morning tea to connect with others and get more comfortable with technology.
URL:https://seniorocity.com.au/whats-on-perth/tech-connect-wanneroo-library-30/
LOCATION:Wanneroo Library and Cultural Centre\, 3 Rocca Way\, Wanneroo\, WA\, 6065\, Australia
CATEGORIES:Tech
ATTACH;FMTTYPE=image/jpeg:https://seniorocity.com.au/wp-content/uploads/2026/01/0cf7f50887955559e3bbd40a37b621a8.jpg
END:VEVENT
BEGIN:VEVENT
DTSTART;TZID=Australia/Perth:20260806T093000
DTEND;TZID=Australia/Perth:20260806T103000
DTSTAMP:20260422T055744
CREATED:20260102T080413Z
LAST-MODIFIED:20260401T150633Z
UID:10858098-1786008600-1786012200@seniorocity.com.au
SUMMARY:Tech Connect @ Wanneroo Library
DESCRIPTION:FREE weekly morning tea to connect with others and get more comfortable with technology.
URL:https://seniorocity.com.au/whats-on-perth/tech-connect-wanneroo-library-31/
LOCATION:Wanneroo Library and Cultural Centre\, 3 Rocca Way\, Wanneroo\, WA\, 6065\, Australia
CATEGORIES:Tech
ATTACH;FMTTYPE=image/jpeg:https://seniorocity.com.au/wp-content/uploads/2026/01/0cf7f50887955559e3bbd40a37b621a8.jpg
END:VEVENT
BEGIN:VEVENT
DTSTART;TZID=Australia/Perth:20260813T093000
DTEND;TZID=Australia/Perth:20260813T103000
DTSTAMP:20260422T055744
CREATED:20260102T080414Z
LAST-MODIFIED:20260401T150645Z
UID:10858099-1786613400-1786617000@seniorocity.com.au
SUMMARY:Tech Connect @ Wanneroo Library
DESCRIPTION:FREE weekly morning tea to connect with others and get more comfortable with technology.
URL:https://seniorocity.com.au/whats-on-perth/tech-connect-wanneroo-library-32/
LOCATION:Wanneroo Library and Cultural Centre\, 3 Rocca Way\, Wanneroo\, WA\, 6065\, Australia
CATEGORIES:Tech
ATTACH;FMTTYPE=image/jpeg:https://seniorocity.com.au/wp-content/uploads/2026/01/0cf7f50887955559e3bbd40a37b621a8.jpg
END:VEVENT
BEGIN:VEVENT
DTSTART;TZID=Australia/Perth:20260820T093000
DTEND;TZID=Australia/Perth:20260820T103000
DTSTAMP:20260422T055744
CREATED:20260102T080415Z
LAST-MODIFIED:20260401T150656Z
UID:10858100-1787218200-1787221800@seniorocity.com.au
SUMMARY:Tech Connect @ Wanneroo Library
DESCRIPTION:FREE weekly morning tea to connect with others and get more comfortable with technology.
URL:https://seniorocity.com.au/whats-on-perth/tech-connect-wanneroo-library-33/
LOCATION:Wanneroo Library and Cultural Centre\, 3 Rocca Way\, Wanneroo\, WA\, 6065\, Australia
CATEGORIES:Tech
ATTACH;FMTTYPE=image/jpeg:https://seniorocity.com.au/wp-content/uploads/2026/01/0cf7f50887955559e3bbd40a37b621a8.jpg
END:VEVENT
BEGIN:VEVENT
DTSTART;TZID=Australia/Perth:20260827T093000
DTEND;TZID=Australia/Perth:20260827T103000
DTSTAMP:20260422T055744
CREATED:20260102T080415Z
LAST-MODIFIED:20260401T150710Z
UID:10858101-1787823000-1787826600@seniorocity.com.au
SUMMARY:Tech Connect @ Wanneroo Library
DESCRIPTION:FREE weekly morning tea to connect with others and get more comfortable with technology.
URL:https://seniorocity.com.au/whats-on-perth/tech-connect-wanneroo-library-34/
LOCATION:Wanneroo Library and Cultural Centre\, 3 Rocca Way\, Wanneroo\, WA\, 6065\, Australia
CATEGORIES:Tech
ATTACH;FMTTYPE=image/jpeg:https://seniorocity.com.au/wp-content/uploads/2026/01/0cf7f50887955559e3bbd40a37b621a8.jpg
END:VEVENT
BEGIN:VEVENT
DTSTART;TZID=Australia/Perth:20260827T100000
DTEND;TZID=Australia/Perth:20260827T120000
DTSTAMP:20260422T055744
CREATED:20260204T145536Z
LAST-MODIFIED:20260401T150301Z
UID:10863077-1787824800-1787832000@seniorocity.com.au
SUMMARY:Forget-Me-Not Memory Cafe @ Wanneroo Library 2026
DESCRIPTION:Forget-Me-Not memory Café – dementia support\, gives those living with memory loss\, their carers and loved ones a supportive social network.
URL:https://seniorocity.com.au/whats-on-perth/forget-me-not-memory-cafe-wanneroo-library-2026-7/
LOCATION:Wanneroo Library and Cultural Centre\, 3 Rocca Way\, Wanneroo\, WA\, 6065\, Australia
CATEGORIES:Coffee Catchup
ATTACH;FMTTYPE=image/jpeg:https://seniorocity.com.au/wp-content/uploads/2026/02/a5e1447a223622c80720094767c99984.jpg
END:VEVENT
BEGIN:VEVENT
DTSTART;TZID=Australia/Perth:20260903T093000
DTEND;TZID=Australia/Perth:20260903T103000
DTSTAMP:20260422T055744
CREATED:20260102T080416Z
LAST-MODIFIED:20260401T150722Z
UID:10858102-1788427800-1788431400@seniorocity.com.au
SUMMARY:Tech Connect @ Wanneroo Library
DESCRIPTION:FREE weekly morning tea to connect with others and get more comfortable with technology.
URL:https://seniorocity.com.au/whats-on-perth/tech-connect-wanneroo-library-35/
LOCATION:Wanneroo Library and Cultural Centre\, 3 Rocca Way\, Wanneroo\, WA\, 6065\, Australia
CATEGORIES:Tech
ATTACH;FMTTYPE=image/jpeg:https://seniorocity.com.au/wp-content/uploads/2026/01/0cf7f50887955559e3bbd40a37b621a8.jpg
END:VEVENT
BEGIN:VEVENT
DTSTART;TZID=Australia/Perth:20260910T093000
DTEND;TZID=Australia/Perth:20260910T103000
DTSTAMP:20260422T055744
CREATED:20260102T080417Z
LAST-MODIFIED:20260401T150305Z
UID:10858103-1789032600-1789036200@seniorocity.com.au
SUMMARY:Tech Connect @ Wanneroo Library
DESCRIPTION:FREE weekly morning tea to connect with others and get more comfortable with technology.
URL:https://seniorocity.com.au/whats-on-perth/tech-connect-wanneroo-library-36/
LOCATION:Wanneroo Library and Cultural Centre\, 3 Rocca Way\, Wanneroo\, WA\, 6065\, Australia
CATEGORIES:Tech
ATTACH;FMTTYPE=image/jpeg:https://seniorocity.com.au/wp-content/uploads/2026/01/0cf7f50887955559e3bbd40a37b621a8.jpg
END:VEVENT
BEGIN:VEVENT
DTSTART;TZID=Australia/Perth:20260917T093000
DTEND;TZID=Australia/Perth:20260917T103000
DTSTAMP:20260422T055744
CREATED:20260102T080417Z
LAST-MODIFIED:20260401T150306Z
UID:10858104-1789637400-1789641000@seniorocity.com.au
SUMMARY:Tech Connect @ Wanneroo Library
DESCRIPTION:FREE weekly morning tea to connect with others and get more comfortable with technology.
URL:https://seniorocity.com.au/whats-on-perth/tech-connect-wanneroo-library-37/
LOCATION:Wanneroo Library and Cultural Centre\, 3 Rocca Way\, Wanneroo\, WA\, 6065\, Australia
CATEGORIES:Tech
ATTACH;FMTTYPE=image/jpeg:https://seniorocity.com.au/wp-content/uploads/2026/01/0cf7f50887955559e3bbd40a37b621a8.jpg
END:VEVENT
BEGIN:VEVENT
DTSTART;TZID=Australia/Perth:20260924T093000
DTEND;TZID=Australia/Perth:20260924T103000
DTSTAMP:20260422T055744
CREATED:20260102T080418Z
LAST-MODIFIED:20260401T150308Z
UID:10858105-1790242200-1790245800@seniorocity.com.au
SUMMARY:Tech Connect @ Wanneroo Library
DESCRIPTION:FREE weekly morning tea to connect with others and get more comfortable with technology.
URL:https://seniorocity.com.au/whats-on-perth/tech-connect-wanneroo-library-38/
LOCATION:Wanneroo Library and Cultural Centre\, 3 Rocca Way\, Wanneroo\, WA\, 6065\, Australia
CATEGORIES:Tech
ATTACH;FMTTYPE=image/jpeg:https://seniorocity.com.au/wp-content/uploads/2026/01/0cf7f50887955559e3bbd40a37b621a8.jpg
END:VEVENT
BEGIN:VEVENT
DTSTART;TZID=Australia/Perth:20260924T100000
DTEND;TZID=Australia/Perth:20260924T120000
DTSTAMP:20260422T055744
CREATED:20260204T145537Z
LAST-MODIFIED:20260401T150303Z
UID:10863078-1790244000-1790251200@seniorocity.com.au
SUMMARY:Forget-Me-Not Memory Cafe @ Wanneroo Library 2026
DESCRIPTION:Forget-Me-Not memory Café – dementia support\, gives those living with memory loss\, their carers and loved ones a supportive social network.
URL:https://seniorocity.com.au/whats-on-perth/forget-me-not-memory-cafe-wanneroo-library-2026-8/
LOCATION:Wanneroo Library and Cultural Centre\, 3 Rocca Way\, Wanneroo\, WA\, 6065\, Australia
CATEGORIES:Coffee Catchup
ATTACH;FMTTYPE=image/jpeg:https://seniorocity.com.au/wp-content/uploads/2026/02/a5e1447a223622c80720094767c99984.jpg
END:VEVENT
BEGIN:VEVENT
DTSTART;TZID=Australia/Perth:20261001T093000
DTEND;TZID=Australia/Perth:20261001T103000
DTSTAMP:20260422T055744
CREATED:20260102T080419Z
LAST-MODIFIED:20260401T150310Z
UID:10858106-1790847000-1790850600@seniorocity.com.au
SUMMARY:Tech Connect @ Wanneroo Library
DESCRIPTION:FREE weekly morning tea to connect with others and get more comfortable with technology.
URL:https://seniorocity.com.au/whats-on-perth/tech-connect-wanneroo-library-39/
LOCATION:Wanneroo Library and Cultural Centre\, 3 Rocca Way\, Wanneroo\, WA\, 6065\, Australia
CATEGORIES:Tech
ATTACH;FMTTYPE=image/jpeg:https://seniorocity.com.au/wp-content/uploads/2026/01/0cf7f50887955559e3bbd40a37b621a8.jpg
END:VEVENT
BEGIN:VEVENT
DTSTART;TZID=Australia/Perth:20261008T093000
DTEND;TZID=Australia/Perth:20261008T103000
DTSTAMP:20260422T055744
CREATED:20260102T080420Z
LAST-MODIFIED:20260401T150311Z
UID:10858107-1791451800-1791455400@seniorocity.com.au
SUMMARY:Tech Connect @ Wanneroo Library
DESCRIPTION:FREE weekly morning tea to connect with others and get more comfortable with technology.
URL:https://seniorocity.com.au/whats-on-perth/tech-connect-wanneroo-library-40/
LOCATION:Wanneroo Library and Cultural Centre\, 3 Rocca Way\, Wanneroo\, WA\, 6065\, Australia
CATEGORIES:Tech
ATTACH;FMTTYPE=image/jpeg:https://seniorocity.com.au/wp-content/uploads/2026/01/0cf7f50887955559e3bbd40a37b621a8.jpg
END:VEVENT
END:VCALENDAR