BEGIN:VCALENDAR
VERSION:2.0
PRODID:-//Seniorocity - Seniors / Over 55&#039;s Guide to Perth - ECPv6.15.11//NONSGML v1.0//EN
CALSCALE:GREGORIAN
METHOD:PUBLISH
X-WR-CALNAME:Seniorocity - Seniors / Over 55&#039;s Guide to Perth
X-ORIGINAL-URL:https://seniorocity.com.au
X-WR-CALDESC:Events for Seniorocity - Seniors / Over 55&#039;s Guide to Perth
REFRESH-INTERVAL;VALUE=DURATION:PT1H
X-Robots-Tag:noindex
X-PUBLISHED-TTL:PT1H
BEGIN:VTIMEZONE
TZID:Australia/Perth
BEGIN:STANDARD
TZOFFSETFROM:+0800
TZOFFSETTO:+0800
TZNAME:AWST
DTSTART:20250101T000000
END:STANDARD
END:VTIMEZONE
BEGIN:VEVENT
DTSTART;TZID=Australia/Perth:20260416T093000
DTEND;TZID=Australia/Perth:20260416T110000
DTSTAMP:20260421T125143
CREATED:20260204T092756Z
LAST-MODIFIED:20260204T092756Z
UID:10862980-1776331800-1776337200@seniorocity.com.au
SUMMARY:Mental Health Carer Peer Support Group | Hillarys
DESCRIPTION:Come and spend time with a support group of like-minded peers\, sharing their journeys as mental health carers.
URL:https://seniorocity.com.au/whats-on-perth/mental-health-carer-peer-support-group-hillarys-6/
LOCATION:6/32 Endeavour Rd\, Hillarys WA 6025\, 6/32 Endeavour Rd\, Hillarys\, WA\, 6025\, Australia
CATEGORIES:Health
ATTACH;FMTTYPE=image/jpeg:https://seniorocity.com.au/wp-content/uploads/2026/02/824494fc5df388816bee3d41db877250.jpg
END:VEVENT
BEGIN:VEVENT
DTSTART;TZID=Australia/Perth:20260415T090000
DTEND;TZID=Australia/Perth:20260415T120000
DTSTAMP:20260421T125144
CREATED:20260405T122201Z
LAST-MODIFIED:20260405T122201Z
UID:10865357-1776243600-1776254400@seniorocity.com.au
SUMMARY:Expressive Therapies: Exploring Collage for Mental Health Carers
DESCRIPTION:Join us for a supportive self-care group learning about mindfulness and how it can be incorporated into your life to positively support.
URL:https://seniorocity.com.au/whats-on-perth/expressive-therapies-exploring-collage-for-mental-health-carers/
LOCATION:Joondalup Lotteries House\, 70 Davidson Terrace\, Joondalup\, WA\, 6027\, Australia
CATEGORIES:Health
ATTACH;FMTTYPE=image/jpeg:https://seniorocity.com.au/wp-content/uploads/2026/04/c7401ac29d07d55635f5e048c31684e7.jpg
END:VEVENT
BEGIN:VEVENT
DTSTART;TZID=Australia/Perth:20260409T100000
DTEND;TZID=Australia/Perth:20260409T120000
DTSTAMP:20260421T125144
CREATED:20260204T144310Z
LAST-MODIFIED:20260206T152657Z
UID:10863061-1775728800-1775736000@seniorocity.com.au
SUMMARY:Coffee and Craft | Midland
DESCRIPTION:Coffee and Craft is a therapeutic group program designed for adult Mental Health Carers aged 18+.
URL:https://seniorocity.com.au/whats-on-perth/coffee-and-craft-midland-3/
LOCATION:1A Sayer St\, 1A Sayer Street\, Midland\, WA\, 6056\, Australia
CATEGORIES:Craft
ATTACH;FMTTYPE=image/jpeg:https://seniorocity.com.au/wp-content/uploads/2026/02/a1a2cff9524413c0bebe060092ad1c35-1.jpg
END:VEVENT
BEGIN:VEVENT
DTSTART;TZID=Australia/Perth:20260408T090000
DTEND;TZID=Australia/Perth:20260408T110000
DTSTAMP:20260421T125144
CREATED:20260203T085152Z
LAST-MODIFIED:20260203T085258Z
UID:10862650-1775638800-1775646000@seniorocity.com.au
SUMMARY:Caring for the Mental Health Carer: Mind and Body Balance | City Beach
DESCRIPTION:Caring for the Mental Health Carer is a therapeutic group program designed for adult Mental Health Carers aged 18+.
URL:https://seniorocity.com.au/whats-on-perth/caring-for-the-mental-health-carer-mind-and-body-balance-city-beach-5/
LOCATION:Jubilee Crescent\, Jubilee Crescent\, City Beach\, WA\, 6015\, Australia
CATEGORIES:Health
ATTACH;FMTTYPE=image/jpeg:https://seniorocity.com.au/wp-content/uploads/2026/02/91a4ee0bd29c911dd44ce60eff2da8e0.jpg
END:VEVENT
BEGIN:VEVENT
DTSTART;TZID=Australia/Perth:20260407T093000
DTEND;TZID=Australia/Perth:20260407T113000
DTSTAMP:20260421T125144
CREATED:20260206T145812Z
LAST-MODIFIED:20260206T145812Z
UID:10863157-1775554200-1775561400@seniorocity.com.au
SUMMARY:Mental Health Carer Walking Group | Heirisson Island
DESCRIPTION:Our Walking Group provides a caring environment for individuals to come together for some gentle exercise and share their experiences.
URL:https://seniorocity.com.au/whats-on-perth/mental-health-carer-walking-group-heirisson-island-3/
LOCATION:Heirisson Island Kangaroo Sanctuary\, Heirisson Island\, East Perth\, WA\, 6004\, Australia
CATEGORIES:Walks
ATTACH;FMTTYPE=image/jpeg:https://seniorocity.com.au/wp-content/uploads/2025/09/ee2298371b47b24d03515d1243b9d776.jpg
END:VEVENT
BEGIN:VEVENT
DTSTART;TZID=Australia/Perth:20260401T170000
DTEND;TZID=Australia/Perth:20260401T190000
DTSTAMP:20260421T125144
CREATED:20260204T144650Z
LAST-MODIFIED:20260204T144725Z
UID:10863067-1775062800-1775070000@seniorocity.com.au
SUMMARY:Skills for Mental Health Carers | Self Compassion Workshop | Midland
DESCRIPTION:Skills for Mental Health Carers  is a therapeutic group program designed for adult Mental Health Carers aged 18+.
URL:https://seniorocity.com.au/whats-on-perth/skills-for-mental-health-carers-self-compassion-workshop-midland-4/
LOCATION:1A Sayer St\, 1A Sayer Street\, Midland\, WA\, 6056\, Australia
CATEGORIES:Health
ATTACH;FMTTYPE=image/jpeg:https://seniorocity.com.au/wp-content/uploads/2026/02/102f8710be5f88540b218768f59181bd-1.jpg
END:VEVENT
BEGIN:VEVENT
DTSTART;TZID=Australia/Perth:20260401T090000
DTEND;TZID=Australia/Perth:20260401T120000
DTSTAMP:20260421T125144
CREATED:20260204T092513Z
LAST-MODIFIED:20260204T143218Z
UID:10862975-1775034000-1775044800@seniorocity.com.au
SUMMARY:Caring for the Mental Health Carer: Creative Writing | Hillarys
DESCRIPTION:Caring for the Mental Health Carer is a therapeutic group program designed for adult Mental Health Carers aged 18+.
URL:https://seniorocity.com.au/whats-on-perth/caring-for-the-mental-health-carer-creative-writing-hillarys-3/
LOCATION:6/32 Endeavour Rd\, Hillarys WA 6025\, 6/32 Endeavour Rd\, Hillarys\, WA\, 6025\, Australia
CATEGORIES:Health
ATTACH;FMTTYPE=image/jpeg:https://seniorocity.com.au/wp-content/uploads/2026/02/4aa1e8a1e74bd01fbe765f3b09d53746.jpg
END:VEVENT
BEGIN:VEVENT
DTSTART;TZID=Australia/Perth:20260325T090000
DTEND;TZID=Australia/Perth:20260325T110000
DTSTAMP:20260421T125144
CREATED:20260203T085151Z
LAST-MODIFIED:20260203T085256Z
UID:10862649-1774429200-1774436400@seniorocity.com.au
SUMMARY:Caring for the Mental Health Carer: Mind and Body Balance | City Beach
DESCRIPTION:Caring for the Mental Health Carer is a therapeutic group program designed for adult Mental Health Carers aged 18+.
URL:https://seniorocity.com.au/whats-on-perth/caring-for-the-mental-health-carer-mind-and-body-balance-city-beach-4/
LOCATION:Jubilee Crescent\, Jubilee Crescent\, City Beach\, WA\, 6015\, Australia
CATEGORIES:Health
ATTACH;FMTTYPE=image/jpeg:https://seniorocity.com.au/wp-content/uploads/2026/02/91a4ee0bd29c911dd44ce60eff2da8e0.jpg
END:VEVENT
BEGIN:VEVENT
DTSTART;TZID=Australia/Perth:20260319T090000
DTEND;TZID=Australia/Perth:20260319T110000
DTSTAMP:20260421T125144
CREATED:20260204T092755Z
LAST-MODIFIED:20260204T092755Z
UID:10862979-1773910800-1773918000@seniorocity.com.au
SUMMARY:Mental Health Carer Peer Support Group | Hillarys
DESCRIPTION:Come and spend time with a support group of like-minded peers\, sharing their journeys as mental health carers.
URL:https://seniorocity.com.au/whats-on-perth/mental-health-carer-peer-support-group-hillarys-5/
LOCATION:6/32 Endeavour Rd\, Hillarys WA 6025\, 6/32 Endeavour Rd\, Hillarys\, WA\, 6025\, Australia
CATEGORIES:Health
ATTACH;FMTTYPE=image/jpeg:https://seniorocity.com.au/wp-content/uploads/2026/02/824494fc5df388816bee3d41db877250.jpg
END:VEVENT
BEGIN:VEVENT
DTSTART;TZID=Australia/Perth:20260318T170000
DTEND;TZID=Australia/Perth:20260318T190000
DTSTAMP:20260421T125144
CREATED:20260204T144649Z
LAST-MODIFIED:20260204T144713Z
UID:10863066-1773853200-1773860400@seniorocity.com.au
SUMMARY:Skills for Mental Health Carers | Self Compassion Workshop | Midland
DESCRIPTION:Skills for Mental Health Carers  is a therapeutic group program designed for adult Mental Health Carers aged 18+.
URL:https://seniorocity.com.au/whats-on-perth/skills-for-mental-health-carers-self-compassion-workshop-midland-3/
LOCATION:1A Sayer St\, 1A Sayer Street\, Midland\, WA\, 6056\, Australia
CATEGORIES:Health
ATTACH;FMTTYPE=image/jpeg:https://seniorocity.com.au/wp-content/uploads/2026/02/102f8710be5f88540b218768f59181bd-1.jpg
END:VEVENT
BEGIN:VEVENT
DTSTART;TZID=Australia/Perth:20260318T100000
DTEND;TZID=Australia/Perth:20260318T113000
DTSTAMP:20260421T125144
CREATED:20260204T090400Z
LAST-MODIFIED:20260204T090423Z
UID:10862735-1773828000-1773833400@seniorocity.com.au
SUMMARY:Mindfulness and Stretch | Bassendean
DESCRIPTION:Come and join us for a morning of Mindfulness and Movement in the beautiful surroundings of nature.
URL:https://seniorocity.com.au/whats-on-perth/mindfulness-and-stretch-bassendean-2/
LOCATION:Sandy Beach Reserve\, 203 West Road\, Bassendean\, WA\, 6054\, Australia
CATEGORIES:Health
ATTACH;FMTTYPE=image/jpeg:https://seniorocity.com.au/wp-content/uploads/2026/02/204e39748e72039a55c5a90d218569e5.jpg
GEO:-31.921352386475;115.95030975342
X-APPLE-STRUCTURED-LOCATION;VALUE=URI;X-ADDRESS=Sandy Beach Reserve 203 West Road Bassendean WA 6054 Australia;X-APPLE-RADIUS=500;X-TITLE=203 West Road:geo:115.95030975342,-31.921352386475
END:VEVENT
BEGIN:VEVENT
DTSTART;TZID=Australia/Perth:20260318T090000
DTEND;TZID=Australia/Perth:20260318T120000
DTSTAMP:20260421T125144
CREATED:20260204T092512Z
LAST-MODIFIED:20260204T143216Z
UID:10862974-1773824400-1773835200@seniorocity.com.au
SUMMARY:Caring for the Mental Health Carer: Creative Writing | Hillarys
DESCRIPTION:Caring for the Mental Health Carer is a therapeutic group program designed for adult Mental Health Carers aged 18+.
URL:https://seniorocity.com.au/whats-on-perth/caring-for-the-mental-health-carer-creative-writing-hillarys-2/
LOCATION:6/32 Endeavour Rd\, Hillarys WA 6025\, 6/32 Endeavour Rd\, Hillarys\, WA\, 6025\, Australia
CATEGORIES:Health
ATTACH;FMTTYPE=image/jpeg:https://seniorocity.com.au/wp-content/uploads/2026/02/4aa1e8a1e74bd01fbe765f3b09d53746.jpg
END:VEVENT
BEGIN:VEVENT
DTSTART;TZID=Australia/Perth:20260312T100000
DTEND;TZID=Australia/Perth:20260312T120000
DTSTAMP:20260421T125144
CREATED:20260204T144310Z
LAST-MODIFIED:20260206T152646Z
UID:10863060-1773309600-1773316800@seniorocity.com.au
SUMMARY:Coffee and Craft | Midland
DESCRIPTION:Coffee and Craft is a therapeutic group program designed for adult Mental Health Carers aged 18+.
URL:https://seniorocity.com.au/whats-on-perth/coffee-and-craft-midland-2/
LOCATION:1A Sayer St\, 1A Sayer Street\, Midland\, WA\, 6056\, Australia
CATEGORIES:Craft
ATTACH;FMTTYPE=image/jpeg:https://seniorocity.com.au/wp-content/uploads/2026/02/a1a2cff9524413c0bebe060092ad1c35-1.jpg
END:VEVENT
BEGIN:VEVENT
DTSTART;TZID=Australia/Perth:20260311T090000
DTEND;TZID=Australia/Perth:20260311T110000
DTSTAMP:20260421T125144
CREATED:20260203T085151Z
LAST-MODIFIED:20260203T085253Z
UID:10862648-1773219600-1773226800@seniorocity.com.au
SUMMARY:Caring for the Mental Health Carer: Mind and Body Balance | City Beach
DESCRIPTION:Caring for the Mental Health Carer is a therapeutic group program designed for adult Mental Health Carers aged 18+.
URL:https://seniorocity.com.au/whats-on-perth/caring-for-the-mental-health-carer-mind-and-body-balance-city-beach-3/
LOCATION:Jubilee Crescent\, Jubilee Crescent\, City Beach\, WA\, 6015\, Australia
CATEGORIES:Health
ATTACH;FMTTYPE=image/jpeg:https://seniorocity.com.au/wp-content/uploads/2026/02/91a4ee0bd29c911dd44ce60eff2da8e0.jpg
END:VEVENT
BEGIN:VEVENT
DTSTART;TZID=Australia/Perth:20260310T093000
DTEND;TZID=Australia/Perth:20260310T113000
DTSTAMP:20260421T125144
CREATED:20260206T145811Z
LAST-MODIFIED:20260206T145811Z
UID:10863156-1773135000-1773142200@seniorocity.com.au
SUMMARY:Mental Health Carer Walking Group | Heirisson Island
DESCRIPTION:Our Walking Group provides a caring environment for individuals to come together for some gentle exercise and share their experiences.
URL:https://seniorocity.com.au/whats-on-perth/mental-health-carer-walking-group-heirisson-island-2/
LOCATION:Heirisson Island Kangaroo Sanctuary\, Heirisson Island\, East Perth\, WA\, 6004\, Australia
CATEGORIES:Walks
ATTACH;FMTTYPE=image/jpeg:https://seniorocity.com.au/wp-content/uploads/2025/09/ee2298371b47b24d03515d1243b9d776.jpg
END:VEVENT
BEGIN:VEVENT
DTSTART;TZID=Australia/Perth:20260304T170000
DTEND;TZID=Australia/Perth:20260304T190000
DTSTAMP:20260421T125144
CREATED:20260204T144648Z
LAST-MODIFIED:20260204T144701Z
UID:10863065-1772643600-1772650800@seniorocity.com.au
SUMMARY:Skills for Mental Health Carers | Self Compassion Workshop | Midland
DESCRIPTION:Skills for Mental Health Carers  is a therapeutic group program designed for adult Mental Health Carers aged 18+.
URL:https://seniorocity.com.au/whats-on-perth/skills-for-mental-health-carers-self-compassion-workshop-midland-2/
LOCATION:1A Sayer St\, 1A Sayer Street\, Midland\, WA\, 6056\, Australia
CATEGORIES:Health
ATTACH;FMTTYPE=image/jpeg:https://seniorocity.com.au/wp-content/uploads/2026/02/102f8710be5f88540b218768f59181bd-1.jpg
END:VEVENT
BEGIN:VEVENT
DTSTART;TZID=Australia/Perth:20260226T120000
DTEND;TZID=Australia/Perth:20260226T150000
DTSTAMP:20260421T125144
CREATED:20260204T092508Z
LAST-MODIFIED:20260204T143215Z
UID:10862973-1772107200-1772118000@seniorocity.com.au
SUMMARY:Caring for the Mental Health Carer: Creative Writing | Hillarys
DESCRIPTION:Caring for the Mental Health Carer is a therapeutic group program designed for adult Mental Health Carers aged 18+.
URL:https://seniorocity.com.au/whats-on-perth/caring-for-the-mental-health-carer-creative-writing-hillarys/
LOCATION:6/32 Endeavour Rd\, Hillarys WA 6025\, 6/32 Endeavour Rd\, Hillarys\, WA\, 6025\, Australia
CATEGORIES:Health
ATTACH;FMTTYPE=image/jpeg:https://seniorocity.com.au/wp-content/uploads/2026/02/4aa1e8a1e74bd01fbe765f3b09d53746.jpg
END:VEVENT
BEGIN:VEVENT
DTSTART;TZID=Australia/Perth:20260225T090000
DTEND;TZID=Australia/Perth:20260225T110000
DTSTAMP:20260421T125144
CREATED:20260203T085150Z
LAST-MODIFIED:20260203T085251Z
UID:10862647-1772010000-1772017200@seniorocity.com.au
SUMMARY:Caring for the Mental Health Carer: Mind and Body Balance | City Beach
DESCRIPTION:Caring for the Mental Health Carer is a therapeutic group program designed for adult Mental Health Carers aged 18+.
URL:https://seniorocity.com.au/whats-on-perth/caring-for-the-mental-health-carer-mind-and-body-balance-city-beach-2/
LOCATION:Jubilee Crescent\, Jubilee Crescent\, City Beach\, WA\, 6015\, Australia
CATEGORIES:Health
ATTACH;FMTTYPE=image/jpeg:https://seniorocity.com.au/wp-content/uploads/2026/02/91a4ee0bd29c911dd44ce60eff2da8e0.jpg
END:VEVENT
BEGIN:VEVENT
DTSTART;TZID=Australia/Perth:20260219T093000
DTEND;TZID=Australia/Perth:20260219T110000
DTSTAMP:20260421T125144
CREATED:20260204T092753Z
LAST-MODIFIED:20260204T092753Z
UID:10862978-1771493400-1771498800@seniorocity.com.au
SUMMARY:Mental Health Carer Peer Support Group | Hillarys
DESCRIPTION:Come and spend time with a support group of like-minded peers\, sharing their journeys as mental health carers.
URL:https://seniorocity.com.au/whats-on-perth/mental-health-carer-peer-support-group-hillarys-4/
LOCATION:6/32 Endeavour Rd\, Hillarys WA 6025\, 6/32 Endeavour Rd\, Hillarys\, WA\, 6025\, Australia
CATEGORIES:Health
ATTACH;FMTTYPE=image/jpeg:https://seniorocity.com.au/wp-content/uploads/2026/02/824494fc5df388816bee3d41db877250.jpg
END:VEVENT
BEGIN:VEVENT
DTSTART;TZID=Australia/Perth:20260218T170000
DTEND;TZID=Australia/Perth:20260218T190000
DTSTAMP:20260421T125144
CREATED:20260204T144645Z
LAST-MODIFIED:20260204T144647Z
UID:10863064-1771434000-1771441200@seniorocity.com.au
SUMMARY:Skills for Mental Health Carers | Self Compassion Workshop | Midland
DESCRIPTION:Skills for Mental Health Carers  is a therapeutic group program designed for adult Mental Health Carers aged 18+.
URL:https://seniorocity.com.au/whats-on-perth/skills-for-mental-health-carers-self-compassion-workshop-midland/
LOCATION:1A Sayer St\, 1A Sayer Street\, Midland\, WA\, 6056\, Australia
CATEGORIES:Health
ATTACH;FMTTYPE=image/jpeg:https://seniorocity.com.au/wp-content/uploads/2026/02/102f8710be5f88540b218768f59181bd-1.jpg
END:VEVENT
BEGIN:VEVENT
DTSTART;TZID=Australia/Perth:20260218T100000
DTEND;TZID=Australia/Perth:20260218T113000
DTSTAMP:20260421T125144
CREATED:20260204T090357Z
LAST-MODIFIED:20260204T090410Z
UID:10862734-1771408800-1771414200@seniorocity.com.au
SUMMARY:Mindfulness and Stretch | Bassendean
DESCRIPTION:Come and join us for a morning of Mindfulness and Movement in the beautiful surroundings of nature.
URL:https://seniorocity.com.au/whats-on-perth/mindfulness-and-stretch-bassendean/
LOCATION:Sandy Beach Reserve\, 203 West Road\, Bassendean\, WA\, 6054\, Australia
CATEGORIES:Health
ATTACH;FMTTYPE=image/jpeg:https://seniorocity.com.au/wp-content/uploads/2026/02/204e39748e72039a55c5a90d218569e5.jpg
GEO:-31.921352386475;115.95030975342
X-APPLE-STRUCTURED-LOCATION;VALUE=URI;X-ADDRESS=Sandy Beach Reserve 203 West Road Bassendean WA 6054 Australia;X-APPLE-RADIUS=500;X-TITLE=203 West Road:geo:115.95030975342,-31.921352386475
END:VEVENT
BEGIN:VEVENT
DTSTART;TZID=Australia/Perth:20260212T100000
DTEND;TZID=Australia/Perth:20260212T120000
DTSTAMP:20260421T125144
CREATED:20260204T144306Z
LAST-MODIFIED:20260206T152635Z
UID:10863059-1770890400-1770897600@seniorocity.com.au
SUMMARY:Coffee and Craft | Midland
DESCRIPTION:Coffee and Craft is a therapeutic group program designed for adult Mental Health Carers aged 18+.
URL:https://seniorocity.com.au/whats-on-perth/coffee-and-craft-midland/
LOCATION:1A Sayer St\, 1A Sayer Street\, Midland\, WA\, 6056\, Australia
CATEGORIES:Craft
ATTACH;FMTTYPE=image/jpeg:https://seniorocity.com.au/wp-content/uploads/2026/02/a1a2cff9524413c0bebe060092ad1c35-1.jpg
END:VEVENT
BEGIN:VEVENT
DTSTART;TZID=Australia/Perth:20260211T090000
DTEND;TZID=Australia/Perth:20260211T110000
DTSTAMP:20260421T125144
CREATED:20260203T085147Z
LAST-MODIFIED:20260203T085248Z
UID:10862646-1770800400-1770807600@seniorocity.com.au
SUMMARY:Caring for the Mental Health Carer: Mind and Body Balance | City Beach
DESCRIPTION:Caring for the Mental Health Carer is a therapeutic group program designed for adult Mental Health Carers aged 18+.
URL:https://seniorocity.com.au/whats-on-perth/caring-for-the-mental-health-carer-mind-and-body-balance-city-beach/
LOCATION:Jubilee Crescent\, Jubilee Crescent\, City Beach\, WA\, 6015\, Australia
CATEGORIES:Health
ATTACH;FMTTYPE=image/jpeg:https://seniorocity.com.au/wp-content/uploads/2026/02/91a4ee0bd29c911dd44ce60eff2da8e0.jpg
END:VEVENT
BEGIN:VEVENT
DTSTART;TZID=Australia/Perth:20260210T093000
DTEND;TZID=Australia/Perth:20260210T113000
DTSTAMP:20260421T125144
CREATED:20260206T145810Z
LAST-MODIFIED:20260206T145810Z
UID:10863155-1770715800-1770723000@seniorocity.com.au
SUMMARY:Mental Health Carer Walking Group | Heirisson Island
DESCRIPTION:Our Walking Group provides a caring environment for individuals to come together for some gentle exercise and share their experiences.
URL:https://seniorocity.com.au/whats-on-perth/mental-health-carer-walking-group-heirisson-island/
LOCATION:Heirisson Island Kangaroo Sanctuary\, Heirisson Island\, East Perth\, WA\, 6004\, Australia
CATEGORIES:Walks
ATTACH;FMTTYPE=image/jpeg:https://seniorocity.com.au/wp-content/uploads/2025/09/ee2298371b47b24d03515d1243b9d776.jpg
END:VEVENT
END:VCALENDAR