BEGIN:VCALENDAR
VERSION:2.0
PRODID:-//Seniorocity - Seniors / Over 55&#039;s Guide to Perth - ECPv6.15.11//NONSGML v1.0//EN
CALSCALE:GREGORIAN
METHOD:PUBLISH
X-WR-CALNAME:Seniorocity - Seniors / Over 55&#039;s Guide to Perth
X-ORIGINAL-URL:https://seniorocity.com.au
X-WR-CALDESC:Events for Seniorocity - Seniors / Over 55&#039;s Guide to Perth
REFRESH-INTERVAL;VALUE=DURATION:PT1H
X-Robots-Tag:noindex
X-PUBLISHED-TTL:PT1H
BEGIN:VTIMEZONE
TZID:Australia/Perth
BEGIN:STANDARD
TZOFFSETFROM:+0800
TZOFFSETTO:+0800
TZNAME:AWST
DTSTART:20250101T000000
END:STANDARD
END:VTIMEZONE
BEGIN:VEVENT
DTSTART;TZID=Australia/Perth:20260508T100000
DTEND;TZID=Australia/Perth:20260508T113000
DTSTAMP:20260423T070105
CREATED:20260422T120303Z
LAST-MODIFIED:20260422T120450Z
UID:10866069-1778234400-1778239800@seniorocity.com.au
SUMMARY:Mother's Day Paint and Sip
DESCRIPTION:Join us for a special morning celebrating all our wonderful mum’s!\n\n\n🌸 Join Us for a Sweet Celebration! 🌸 \nWe’re thrilled to invite all families to our Mother’s Day Paint & Sip community event on Friday\, 8th May from 10:00 AM to 11:30 AM at 24 Korovin Drive\, Milestones Early Learning Ashby. \nThis special morning is all about celebrating mums and creating beautiful memories together. Enjoy a relaxed and joyful atmosphere filled with laughter\, creativity\, and connection as you paint alongside your little ones. Sip on smoothies\, nibble on delicious treats\, and let your imagination bloom with shades of colour and love. \n🎨 What to Expect: \n-A fun\, spontaneous painting activity suitable for all ages \n-A cozy morning tea with sweet and savory delights \n-Time to bond with your children through art and play \n-A warm\, welcoming community environment \n💖 Benefits of Joining: \n-Strengthen the bond between mothers and children through shared creativity \n-Encourage self-expression and confidence in your little ones \n-Meet other families and build lasting friendships \n-Take home your own painted masterpiece as a keepsake of the day \nThis event is designed to be fun\, sweet\, and memorable — a perfect way to celebrate the love and joy of motherhood. Bring your smiles\, your creativity\, and your little loves for a morning filled with art\, smoothies\, and togetherness.
URL:https://seniorocity.com.au/whats-on-perth/mothers-day-paint-and-sip/
LOCATION:24 Korovin Dr\, 24 Korovin Drive\, Ashby\, WA\, 6065\, Australia
CATEGORIES:Mother's Day
ATTACH;FMTTYPE=image/jpeg:https://seniorocity.com.au/wp-content/uploads/2026/04/833624af29113dac2273eb6055a08a95.jpg
END:VEVENT
END:VCALENDAR