BEGIN:VCALENDAR
VERSION:2.0
PRODID:-//Seniorocity - Seniors / Over 55&#039;s Guide to Perth - ECPv6.15.11//NONSGML v1.0//EN
CALSCALE:GREGORIAN
METHOD:PUBLISH
X-ORIGINAL-URL:https://seniorocity.com.au
X-WR-CALDESC:Events for Seniorocity - Seniors / Over 55&#039;s Guide to Perth
REFRESH-INTERVAL;VALUE=DURATION:PT1H
X-Robots-Tag:noindex
X-PUBLISHED-TTL:PT1H
BEGIN:VTIMEZONE
TZID:Australia/Perth
BEGIN:STANDARD
TZOFFSETFROM:+0800
TZOFFSETTO:+0800
TZNAME:AWST
DTSTART:20250101T000000
END:STANDARD
END:VTIMEZONE
BEGIN:VEVENT
DTSTART;TZID=Australia/Perth:20260417T130000
DTEND;TZID=Australia/Perth:20260417T150000
DTSTAMP:20260422T032340
CREATED:20260204T143611Z
LAST-MODIFIED:20260204T143706Z
UID:10863022-1776430800-1776438000@seniorocity.com.au
SUMMARY:Feed It Forward Community Day
DESCRIPTION:Milestones Swan View welcomes the local community into the Center every Friday from 1pm – 3pm for fresh fruit\, vegetables and bakery items f
URL:https://seniorocity.com.au/whats-on-perth/feed-it-forward-community-day-11/
LOCATION:31 Balfour Rd\, 31 Balfour Road\, Swan View\, WA\, 6056\, Australia
CATEGORIES:Community Event
ATTACH;FMTTYPE=image/jpeg:https://seniorocity.com.au/wp-content/uploads/2026/02/50587b64d7b300a4fef5967808c9560c.jpg
END:VEVENT
BEGIN:VEVENT
DTSTART;TZID=Australia/Perth:20260410T130000
DTEND;TZID=Australia/Perth:20260410T150000
DTSTAMP:20260422T032340
CREATED:20260204T143545Z
LAST-MODIFIED:20260204T143654Z
UID:10863021-1775826000-1775833200@seniorocity.com.au
SUMMARY:Feed It Forward Community Day
DESCRIPTION:Milestones Swan View welcomes the local community into the Center every Friday from 1pm – 3pm for fresh fruit\, vegetables and bakery items f
URL:https://seniorocity.com.au/whats-on-perth/feed-it-forward-community-day-10/
LOCATION:31 Balfour Rd\, 31 Balfour Road\, Swan View\, WA\, 6056\, Australia
CATEGORIES:Community Event
ATTACH;FMTTYPE=image/jpeg:https://seniorocity.com.au/wp-content/uploads/2026/02/50587b64d7b300a4fef5967808c9560c.jpg
END:VEVENT
BEGIN:VEVENT
DTSTART;TZID=Australia/Perth:20260403T130000
DTEND;TZID=Australia/Perth:20260403T150000
DTSTAMP:20260422T032340
CREATED:20260204T143544Z
LAST-MODIFIED:20260204T143652Z
UID:10863020-1775221200-1775228400@seniorocity.com.au
SUMMARY:Feed It Forward Community Day
DESCRIPTION:Milestones Swan View welcomes the local community into the Center every Friday from 1pm – 3pm for fresh fruit\, vegetables and bakery items f
URL:https://seniorocity.com.au/whats-on-perth/feed-it-forward-community-day-9/
LOCATION:31 Balfour Rd\, 31 Balfour Road\, Swan View\, WA\, 6056\, Australia
CATEGORIES:Community Event
ATTACH;FMTTYPE=image/jpeg:https://seniorocity.com.au/wp-content/uploads/2026/02/50587b64d7b300a4fef5967808c9560c.jpg
END:VEVENT
BEGIN:VEVENT
DTSTART;TZID=Australia/Perth:20260327T130000
DTEND;TZID=Australia/Perth:20260327T150000
DTSTAMP:20260422T032340
CREATED:20260204T143544Z
LAST-MODIFIED:20260204T143650Z
UID:10863019-1774616400-1774623600@seniorocity.com.au
SUMMARY:Feed It Forward Community Day
DESCRIPTION:Milestones Swan View welcomes the local community into the Center every Friday from 1pm – 3pm for fresh fruit\, vegetables and bakery items f
URL:https://seniorocity.com.au/whats-on-perth/feed-it-forward-community-day-8/
LOCATION:31 Balfour Rd\, 31 Balfour Road\, Swan View\, WA\, 6056\, Australia
CATEGORIES:Community Event
ATTACH;FMTTYPE=image/jpeg:https://seniorocity.com.au/wp-content/uploads/2026/02/50587b64d7b300a4fef5967808c9560c.jpg
END:VEVENT
BEGIN:VEVENT
DTSTART;TZID=Australia/Perth:20260320T130000
DTEND;TZID=Australia/Perth:20260320T150000
DTSTAMP:20260422T032340
CREATED:20260204T143543Z
LAST-MODIFIED:20260204T143647Z
UID:10863018-1774011600-1774018800@seniorocity.com.au
SUMMARY:Feed It Forward Community Day
DESCRIPTION:Milestones Swan View welcomes the local community into the Center every Friday from 1pm – 3pm for fresh fruit\, vegetables and bakery items f
URL:https://seniorocity.com.au/whats-on-perth/feed-it-forward-community-day-7/
LOCATION:31 Balfour Rd\, 31 Balfour Road\, Swan View\, WA\, 6056\, Australia
CATEGORIES:Community Event
ATTACH;FMTTYPE=image/jpeg:https://seniorocity.com.au/wp-content/uploads/2026/02/50587b64d7b300a4fef5967808c9560c.jpg
END:VEVENT
BEGIN:VEVENT
DTSTART;TZID=Australia/Perth:20260313T130000
DTEND;TZID=Australia/Perth:20260313T150000
DTSTAMP:20260422T032340
CREATED:20260204T143543Z
LAST-MODIFIED:20260204T143641Z
UID:10863017-1773406800-1773414000@seniorocity.com.au
SUMMARY:Feed It Forward Community Day
DESCRIPTION:Milestones Swan View welcomes the local community into the Center every Friday from 1pm – 3pm for fresh fruit\, vegetables and bakery items f
URL:https://seniorocity.com.au/whats-on-perth/feed-it-forward-community-day-6/
LOCATION:31 Balfour Rd\, 31 Balfour Road\, Swan View\, WA\, 6056\, Australia
CATEGORIES:Community Event
ATTACH;FMTTYPE=image/jpeg:https://seniorocity.com.au/wp-content/uploads/2026/02/50587b64d7b300a4fef5967808c9560c.jpg
END:VEVENT
BEGIN:VEVENT
DTSTART;TZID=Australia/Perth:20260306T130000
DTEND;TZID=Australia/Perth:20260306T150000
DTSTAMP:20260422T032340
CREATED:20260204T143542Z
LAST-MODIFIED:20260204T143639Z
UID:10863016-1772802000-1772809200@seniorocity.com.au
SUMMARY:Feed It Forward Community Day
DESCRIPTION:Milestones Swan View welcomes the local community into the Center every Friday from 1pm – 3pm for fresh fruit\, vegetables and bakery items f
URL:https://seniorocity.com.au/whats-on-perth/feed-it-forward-community-day-5/
LOCATION:31 Balfour Rd\, 31 Balfour Road\, Swan View\, WA\, 6056\, Australia
CATEGORIES:Community Event
ATTACH;FMTTYPE=image/jpeg:https://seniorocity.com.au/wp-content/uploads/2026/02/50587b64d7b300a4fef5967808c9560c.jpg
END:VEVENT
BEGIN:VEVENT
DTSTART;TZID=Australia/Perth:20260227T130000
DTEND;TZID=Australia/Perth:20260227T150000
DTSTAMP:20260422T032340
CREATED:20260204T143541Z
LAST-MODIFIED:20260204T143636Z
UID:10863015-1772197200-1772204400@seniorocity.com.au
SUMMARY:Feed It Forward Community Day
DESCRIPTION:Milestones Swan View welcomes the local community into the Center every Friday from 1pm – 3pm for fresh fruit\, vegetables and bakery items f
URL:https://seniorocity.com.au/whats-on-perth/feed-it-forward-community-day-4/
LOCATION:31 Balfour Rd\, 31 Balfour Road\, Swan View\, WA\, 6056\, Australia
CATEGORIES:Community Event
ATTACH;FMTTYPE=image/jpeg:https://seniorocity.com.au/wp-content/uploads/2026/02/50587b64d7b300a4fef5967808c9560c.jpg
END:VEVENT
BEGIN:VEVENT
DTSTART;TZID=Australia/Perth:20260220T130000
DTEND;TZID=Australia/Perth:20260220T150000
DTSTAMP:20260422T032340
CREATED:20260204T143540Z
LAST-MODIFIED:20260204T143633Z
UID:10863014-1771592400-1771599600@seniorocity.com.au
SUMMARY:Feed It Forward Community Day
DESCRIPTION:Milestones Swan View welcomes the local community into the Center every Friday from 1pm – 3pm for fresh fruit\, vegetables and bakery items f
URL:https://seniorocity.com.au/whats-on-perth/feed-it-forward-community-day-3/
LOCATION:31 Balfour Rd\, 31 Balfour Road\, Swan View\, WA\, 6056\, Australia
CATEGORIES:Community Event
ATTACH;FMTTYPE=image/jpeg:https://seniorocity.com.au/wp-content/uploads/2026/02/50587b64d7b300a4fef5967808c9560c.jpg
END:VEVENT
BEGIN:VEVENT
DTSTART;TZID=Australia/Perth:20260213T130000
DTEND;TZID=Australia/Perth:20260213T150000
DTSTAMP:20260422T032340
CREATED:20260204T143539Z
LAST-MODIFIED:20260204T143631Z
UID:10863013-1770987600-1770994800@seniorocity.com.au
SUMMARY:Feed It Forward Community Day
DESCRIPTION:Milestones Swan View welcomes the local community into the Center every Friday from 1pm – 3pm for fresh fruit\, vegetables and bakery items f
URL:https://seniorocity.com.au/whats-on-perth/feed-it-forward-community-day-2/
LOCATION:31 Balfour Rd\, 31 Balfour Road\, Swan View\, WA\, 6056\, Australia
CATEGORIES:Community Event
ATTACH;FMTTYPE=image/jpeg:https://seniorocity.com.au/wp-content/uploads/2026/02/50587b64d7b300a4fef5967808c9560c.jpg
END:VEVENT
BEGIN:VEVENT
DTSTART;TZID=Australia/Perth:20260206T130000
DTEND;TZID=Australia/Perth:20260206T150000
DTSTAMP:20260422T032340
CREATED:20260204T143537Z
LAST-MODIFIED:20260204T143628Z
UID:10863012-1770382800-1770390000@seniorocity.com.au
SUMMARY:Feed It Forward Community Day
DESCRIPTION:Milestones Swan View welcomes the local community into the Center every Friday from 1pm – 3pm for fresh fruit\, vegetables and bakery items f
URL:https://seniorocity.com.au/whats-on-perth/feed-it-forward-community-day/
LOCATION:31 Balfour Rd\, 31 Balfour Road\, Swan View\, WA\, 6056\, Australia
CATEGORIES:Community Event
ATTACH;FMTTYPE=image/jpeg:https://seniorocity.com.au/wp-content/uploads/2026/02/50587b64d7b300a4fef5967808c9560c.jpg
END:VEVENT
END:VCALENDAR