BEGIN:VCALENDAR
VERSION:2.0
PRODID:-//Seniorocity - Seniors / Over 55&#039;s Guide to Perth - ECPv6.15.11//NONSGML v1.0//EN
CALSCALE:GREGORIAN
METHOD:PUBLISH
X-ORIGINAL-URL:https://seniorocity.com.au
X-WR-CALDESC:Events for Seniorocity - Seniors / Over 55&#039;s Guide to Perth
REFRESH-INTERVAL;VALUE=DURATION:PT1H
X-Robots-Tag:noindex
X-PUBLISHED-TTL:PT1H
BEGIN:VTIMEZONE
TZID:Australia/Perth
BEGIN:STANDARD
TZOFFSETFROM:+0800
TZOFFSETTO:+0800
TZNAME:AWST
DTSTART:20250101T000000
END:STANDARD
END:VTIMEZONE
BEGIN:VEVENT
DTSTART;TZID=Australia/Perth:20260424T130000
DTEND;TZID=Australia/Perth:20260424T150000
DTSTAMP:20260421T211839
CREATED:20260204T143612Z
LAST-MODIFIED:20260204T143712Z
UID:10863023-1777035600-1777042800@seniorocity.com.au
SUMMARY:Feed It Forward Community Day
DESCRIPTION:Milestones Swan View welcomes the local community into the Center every Friday from 1pm – 3pm for fresh fruit\, vegetables and bakery items f
URL:https://seniorocity.com.au/whats-on-perth/feed-it-forward-community-day-12/
LOCATION:31 Balfour Rd\, 31 Balfour Road\, Swan View\, WA\, 6056\, Australia
CATEGORIES:Community Event
ATTACH;FMTTYPE=image/jpeg:https://seniorocity.com.au/wp-content/uploads/2026/02/50587b64d7b300a4fef5967808c9560c.jpg
END:VEVENT
BEGIN:VEVENT
DTSTART;TZID=Australia/Perth:20260501T130000
DTEND;TZID=Australia/Perth:20260501T150000
DTSTAMP:20260421T211839
CREATED:20260204T143613Z
LAST-MODIFIED:20260204T143715Z
UID:10863024-1777640400-1777647600@seniorocity.com.au
SUMMARY:Feed It Forward Community Day
DESCRIPTION:Milestones Swan View welcomes the local community into the Center every Friday from 1pm – 3pm for fresh fruit\, vegetables and bakery items f
URL:https://seniorocity.com.au/whats-on-perth/feed-it-forward-community-day-13/
LOCATION:31 Balfour Rd\, 31 Balfour Road\, Swan View\, WA\, 6056\, Australia
CATEGORIES:Community Event
ATTACH;FMTTYPE=image/jpeg:https://seniorocity.com.au/wp-content/uploads/2026/02/50587b64d7b300a4fef5967808c9560c.jpg
END:VEVENT
BEGIN:VEVENT
DTSTART;TZID=Australia/Perth:20260508T130000
DTEND;TZID=Australia/Perth:20260508T150000
DTSTAMP:20260421T211839
CREATED:20260204T143614Z
LAST-MODIFIED:20260204T143717Z
UID:10863025-1778245200-1778252400@seniorocity.com.au
SUMMARY:Feed It Forward Community Day
DESCRIPTION:Milestones Swan View welcomes the local community into the Center every Friday from 1pm – 3pm for fresh fruit\, vegetables and bakery items f
URL:https://seniorocity.com.au/whats-on-perth/feed-it-forward-community-day-14/
LOCATION:31 Balfour Rd\, 31 Balfour Road\, Swan View\, WA\, 6056\, Australia
CATEGORIES:Community Event
ATTACH;FMTTYPE=image/jpeg:https://seniorocity.com.au/wp-content/uploads/2026/02/50587b64d7b300a4fef5967808c9560c.jpg
END:VEVENT
BEGIN:VEVENT
DTSTART;TZID=Australia/Perth:20260515T130000
DTEND;TZID=Australia/Perth:20260515T150000
DTSTAMP:20260421T211839
CREATED:20260204T143615Z
LAST-MODIFIED:20260204T143720Z
UID:10863026-1778850000-1778857200@seniorocity.com.au
SUMMARY:Feed It Forward Community Day
DESCRIPTION:Milestones Swan View welcomes the local community into the Center every Friday from 1pm – 3pm for fresh fruit\, vegetables and bakery items f
URL:https://seniorocity.com.au/whats-on-perth/feed-it-forward-community-day-15/
LOCATION:31 Balfour Rd\, 31 Balfour Road\, Swan View\, WA\, 6056\, Australia
CATEGORIES:Community Event
ATTACH;FMTTYPE=image/jpeg:https://seniorocity.com.au/wp-content/uploads/2026/02/50587b64d7b300a4fef5967808c9560c.jpg
END:VEVENT
BEGIN:VEVENT
DTSTART;TZID=Australia/Perth:20260522T130000
DTEND;TZID=Australia/Perth:20260522T150000
DTSTAMP:20260421T211839
CREATED:20260204T143616Z
LAST-MODIFIED:20260204T143722Z
UID:10863027-1779454800-1779462000@seniorocity.com.au
SUMMARY:Feed It Forward Community Day
DESCRIPTION:Milestones Swan View welcomes the local community into the Center every Friday from 1pm – 3pm for fresh fruit\, vegetables and bakery items f
URL:https://seniorocity.com.au/whats-on-perth/feed-it-forward-community-day-16/
LOCATION:31 Balfour Rd\, 31 Balfour Road\, Swan View\, WA\, 6056\, Australia
CATEGORIES:Community Event
ATTACH;FMTTYPE=image/jpeg:https://seniorocity.com.au/wp-content/uploads/2026/02/50587b64d7b300a4fef5967808c9560c.jpg
END:VEVENT
BEGIN:VEVENT
DTSTART;TZID=Australia/Perth:20260529T130000
DTEND;TZID=Australia/Perth:20260529T150000
DTSTAMP:20260421T211839
CREATED:20260204T143617Z
LAST-MODIFIED:20260204T143724Z
UID:10863028-1780059600-1780066800@seniorocity.com.au
SUMMARY:Feed It Forward Community Day
DESCRIPTION:Milestones Swan View welcomes the local community into the Center every Friday from 1pm – 3pm for fresh fruit\, vegetables and bakery items f
URL:https://seniorocity.com.au/whats-on-perth/feed-it-forward-community-day-17/
LOCATION:31 Balfour Rd\, 31 Balfour Road\, Swan View\, WA\, 6056\, Australia
CATEGORIES:Community Event
ATTACH;FMTTYPE=image/jpeg:https://seniorocity.com.au/wp-content/uploads/2026/02/50587b64d7b300a4fef5967808c9560c.jpg
END:VEVENT
BEGIN:VEVENT
DTSTART;TZID=Australia/Perth:20260605T130000
DTEND;TZID=Australia/Perth:20260605T150000
DTSTAMP:20260421T211839
CREATED:20260204T143618Z
LAST-MODIFIED:20260204T143726Z
UID:10863029-1780664400-1780671600@seniorocity.com.au
SUMMARY:Feed It Forward Community Day
DESCRIPTION:Milestones Swan View welcomes the local community into the Center every Friday from 1pm – 3pm for fresh fruit\, vegetables and bakery items f
URL:https://seniorocity.com.au/whats-on-perth/feed-it-forward-community-day-18/
LOCATION:31 Balfour Rd\, 31 Balfour Road\, Swan View\, WA\, 6056\, Australia
CATEGORIES:Community Event
ATTACH;FMTTYPE=image/jpeg:https://seniorocity.com.au/wp-content/uploads/2026/02/50587b64d7b300a4fef5967808c9560c.jpg
END:VEVENT
BEGIN:VEVENT
DTSTART;TZID=Australia/Perth:20260612T130000
DTEND;TZID=Australia/Perth:20260612T150000
DTSTAMP:20260421T211839
CREATED:20260204T143619Z
LAST-MODIFIED:20260204T143729Z
UID:10863030-1781269200-1781276400@seniorocity.com.au
SUMMARY:Feed It Forward Community Day
DESCRIPTION:Milestones Swan View welcomes the local community into the Center every Friday from 1pm – 3pm for fresh fruit\, vegetables and bakery items f
URL:https://seniorocity.com.au/whats-on-perth/feed-it-forward-community-day-19/
LOCATION:31 Balfour Rd\, 31 Balfour Road\, Swan View\, WA\, 6056\, Australia
CATEGORIES:Community Event
ATTACH;FMTTYPE=image/jpeg:https://seniorocity.com.au/wp-content/uploads/2026/02/50587b64d7b300a4fef5967808c9560c.jpg
END:VEVENT
BEGIN:VEVENT
DTSTART;TZID=Australia/Perth:20260619T130000
DTEND;TZID=Australia/Perth:20260619T150000
DTSTAMP:20260421T211839
CREATED:20260204T143620Z
LAST-MODIFIED:20260204T143732Z
UID:10863031-1781874000-1781881200@seniorocity.com.au
SUMMARY:Feed It Forward Community Day
DESCRIPTION:Milestones Swan View welcomes the local community into the Center every Friday from 1pm – 3pm for fresh fruit\, vegetables and bakery items f
URL:https://seniorocity.com.au/whats-on-perth/feed-it-forward-community-day-20/
LOCATION:31 Balfour Rd\, 31 Balfour Road\, Swan View\, WA\, 6056\, Australia
CATEGORIES:Community Event
ATTACH;FMTTYPE=image/jpeg:https://seniorocity.com.au/wp-content/uploads/2026/02/50587b64d7b300a4fef5967808c9560c.jpg
END:VEVENT
BEGIN:VEVENT
DTSTART;TZID=Australia/Perth:20260626T130000
DTEND;TZID=Australia/Perth:20260626T150000
DTSTAMP:20260421T211839
CREATED:20260204T143647Z
LAST-MODIFIED:20260204T143734Z
UID:10863032-1782478800-1782486000@seniorocity.com.au
SUMMARY:Feed It Forward Community Day
DESCRIPTION:Milestones Swan View welcomes the local community into the Center every Friday from 1pm – 3pm for fresh fruit\, vegetables and bakery items f
URL:https://seniorocity.com.au/whats-on-perth/feed-it-forward-community-day-21/
LOCATION:31 Balfour Rd\, 31 Balfour Road\, Swan View\, WA\, 6056\, Australia
CATEGORIES:Community Event
ATTACH;FMTTYPE=image/jpeg:https://seniorocity.com.au/wp-content/uploads/2026/02/50587b64d7b300a4fef5967808c9560c.jpg
END:VEVENT
BEGIN:VEVENT
DTSTART;TZID=Australia/Perth:20260703T130000
DTEND;TZID=Australia/Perth:20260703T150000
DTSTAMP:20260421T211839
CREATED:20260204T143649Z
LAST-MODIFIED:20260204T143737Z
UID:10863033-1783083600-1783090800@seniorocity.com.au
SUMMARY:Feed It Forward Community Day
DESCRIPTION:Milestones Swan View welcomes the local community into the Center every Friday from 1pm – 3pm for fresh fruit\, vegetables and bakery items f
URL:https://seniorocity.com.au/whats-on-perth/feed-it-forward-community-day-22/
LOCATION:31 Balfour Rd\, 31 Balfour Road\, Swan View\, WA\, 6056\, Australia
CATEGORIES:Community Event
ATTACH;FMTTYPE=image/jpeg:https://seniorocity.com.au/wp-content/uploads/2026/02/50587b64d7b300a4fef5967808c9560c.jpg
END:VEVENT
BEGIN:VEVENT
DTSTART;TZID=Australia/Perth:20260710T130000
DTEND;TZID=Australia/Perth:20260710T150000
DTSTAMP:20260421T211839
CREATED:20260204T143649Z
LAST-MODIFIED:20260204T143739Z
UID:10863034-1783688400-1783695600@seniorocity.com.au
SUMMARY:Feed It Forward Community Day
DESCRIPTION:Milestones Swan View welcomes the local community into the Center every Friday from 1pm – 3pm for fresh fruit\, vegetables and bakery items f
URL:https://seniorocity.com.au/whats-on-perth/feed-it-forward-community-day-23/
LOCATION:31 Balfour Rd\, 31 Balfour Road\, Swan View\, WA\, 6056\, Australia
CATEGORIES:Community Event
ATTACH;FMTTYPE=image/jpeg:https://seniorocity.com.au/wp-content/uploads/2026/02/50587b64d7b300a4fef5967808c9560c.jpg
END:VEVENT
BEGIN:VEVENT
DTSTART;TZID=Australia/Perth:20260717T130000
DTEND;TZID=Australia/Perth:20260717T150000
DTSTAMP:20260421T211839
CREATED:20260204T143650Z
LAST-MODIFIED:20260204T143744Z
UID:10863035-1784293200-1784300400@seniorocity.com.au
SUMMARY:Feed It Forward Community Day
DESCRIPTION:Milestones Swan View welcomes the local community into the Center every Friday from 1pm – 3pm for fresh fruit\, vegetables and bakery items f
URL:https://seniorocity.com.au/whats-on-perth/feed-it-forward-community-day-24/
LOCATION:31 Balfour Rd\, 31 Balfour Road\, Swan View\, WA\, 6056\, Australia
CATEGORIES:Community Event
ATTACH;FMTTYPE=image/jpeg:https://seniorocity.com.au/wp-content/uploads/2026/02/50587b64d7b300a4fef5967808c9560c.jpg
END:VEVENT
BEGIN:VEVENT
DTSTART;TZID=Australia/Perth:20260724T130000
DTEND;TZID=Australia/Perth:20260724T150000
DTSTAMP:20260421T211839
CREATED:20260204T143651Z
LAST-MODIFIED:20260204T143746Z
UID:10863036-1784898000-1784905200@seniorocity.com.au
SUMMARY:Feed It Forward Community Day
DESCRIPTION:Milestones Swan View welcomes the local community into the Center every Friday from 1pm – 3pm for fresh fruit\, vegetables and bakery items f
URL:https://seniorocity.com.au/whats-on-perth/feed-it-forward-community-day-25/
LOCATION:31 Balfour Rd\, 31 Balfour Road\, Swan View\, WA\, 6056\, Australia
CATEGORIES:Community Event
ATTACH;FMTTYPE=image/jpeg:https://seniorocity.com.au/wp-content/uploads/2026/02/50587b64d7b300a4fef5967808c9560c.jpg
END:VEVENT
BEGIN:VEVENT
DTSTART;TZID=Australia/Perth:20260731T130000
DTEND;TZID=Australia/Perth:20260731T150000
DTSTAMP:20260421T211839
CREATED:20260204T143652Z
LAST-MODIFIED:20260204T143749Z
UID:10863037-1785502800-1785510000@seniorocity.com.au
SUMMARY:Feed It Forward Community Day
DESCRIPTION:Milestones Swan View welcomes the local community into the Center every Friday from 1pm – 3pm for fresh fruit\, vegetables and bakery items f
URL:https://seniorocity.com.au/whats-on-perth/feed-it-forward-community-day-26/
LOCATION:31 Balfour Rd\, 31 Balfour Road\, Swan View\, WA\, 6056\, Australia
CATEGORIES:Community Event
ATTACH;FMTTYPE=image/jpeg:https://seniorocity.com.au/wp-content/uploads/2026/02/50587b64d7b300a4fef5967808c9560c.jpg
END:VEVENT
BEGIN:VEVENT
DTSTART;TZID=Australia/Perth:20260807T130000
DTEND;TZID=Australia/Perth:20260807T150000
DTSTAMP:20260421T211839
CREATED:20260204T143652Z
LAST-MODIFIED:20260204T143752Z
UID:10863038-1786107600-1786114800@seniorocity.com.au
SUMMARY:Feed It Forward Community Day
DESCRIPTION:Milestones Swan View welcomes the local community into the Center every Friday from 1pm – 3pm for fresh fruit\, vegetables and bakery items f
URL:https://seniorocity.com.au/whats-on-perth/feed-it-forward-community-day-27/
LOCATION:31 Balfour Rd\, 31 Balfour Road\, Swan View\, WA\, 6056\, Australia
CATEGORIES:Community Event
ATTACH;FMTTYPE=image/jpeg:https://seniorocity.com.au/wp-content/uploads/2026/02/50587b64d7b300a4fef5967808c9560c.jpg
END:VEVENT
BEGIN:VEVENT
DTSTART;TZID=Australia/Perth:20260814T130000
DTEND;TZID=Australia/Perth:20260814T150000
DTSTAMP:20260421T211839
CREATED:20260204T143654Z
LAST-MODIFIED:20260204T143755Z
UID:10863039-1786712400-1786719600@seniorocity.com.au
SUMMARY:Feed It Forward Community Day
DESCRIPTION:Milestones Swan View welcomes the local community into the Center every Friday from 1pm – 3pm for fresh fruit\, vegetables and bakery items f
URL:https://seniorocity.com.au/whats-on-perth/feed-it-forward-community-day-28/
LOCATION:31 Balfour Rd\, 31 Balfour Road\, Swan View\, WA\, 6056\, Australia
CATEGORIES:Community Event
ATTACH;FMTTYPE=image/jpeg:https://seniorocity.com.au/wp-content/uploads/2026/02/50587b64d7b300a4fef5967808c9560c.jpg
END:VEVENT
BEGIN:VEVENT
DTSTART;TZID=Australia/Perth:20260821T130000
DTEND;TZID=Australia/Perth:20260821T150000
DTSTAMP:20260421T211839
CREATED:20260204T143654Z
LAST-MODIFIED:20260204T143757Z
UID:10863040-1787317200-1787324400@seniorocity.com.au
SUMMARY:Feed It Forward Community Day
DESCRIPTION:Milestones Swan View welcomes the local community into the Center every Friday from 1pm – 3pm for fresh fruit\, vegetables and bakery items f
URL:https://seniorocity.com.au/whats-on-perth/feed-it-forward-community-day-29/
LOCATION:31 Balfour Rd\, 31 Balfour Road\, Swan View\, WA\, 6056\, Australia
CATEGORIES:Community Event
ATTACH;FMTTYPE=image/jpeg:https://seniorocity.com.au/wp-content/uploads/2026/02/50587b64d7b300a4fef5967808c9560c.jpg
END:VEVENT
BEGIN:VEVENT
DTSTART;TZID=Australia/Perth:20260828T130000
DTEND;TZID=Australia/Perth:20260828T150000
DTSTAMP:20260421T211839
CREATED:20260204T143655Z
LAST-MODIFIED:20260204T143800Z
UID:10863041-1787922000-1787929200@seniorocity.com.au
SUMMARY:Feed It Forward Community Day
DESCRIPTION:Milestones Swan View welcomes the local community into the Center every Friday from 1pm – 3pm for fresh fruit\, vegetables and bakery items f
URL:https://seniorocity.com.au/whats-on-perth/feed-it-forward-community-day-30/
LOCATION:31 Balfour Rd\, 31 Balfour Road\, Swan View\, WA\, 6056\, Australia
CATEGORIES:Community Event
ATTACH;FMTTYPE=image/jpeg:https://seniorocity.com.au/wp-content/uploads/2026/02/50587b64d7b300a4fef5967808c9560c.jpg
END:VEVENT
BEGIN:VEVENT
DTSTART;TZID=Australia/Perth:20260904T130000
DTEND;TZID=Australia/Perth:20260904T150000
DTSTAMP:20260421T211839
CREATED:20260204T143724Z
LAST-MODIFIED:20260204T143803Z
UID:10863042-1788526800-1788534000@seniorocity.com.au
SUMMARY:Feed It Forward Community Day
DESCRIPTION:Milestones Swan View welcomes the local community into the Center every Friday from 1pm – 3pm for fresh fruit\, vegetables and bakery items f
URL:https://seniorocity.com.au/whats-on-perth/feed-it-forward-community-day-31/
LOCATION:31 Balfour Rd\, 31 Balfour Road\, Swan View\, WA\, 6056\, Australia
CATEGORIES:Community Event
ATTACH;FMTTYPE=image/jpeg:https://seniorocity.com.au/wp-content/uploads/2026/02/50587b64d7b300a4fef5967808c9560c.jpg
END:VEVENT
BEGIN:VEVENT
DTSTART;TZID=Australia/Perth:20260911T130000
DTEND;TZID=Australia/Perth:20260911T150000
DTSTAMP:20260421T211839
CREATED:20260204T143724Z
LAST-MODIFIED:20260204T143807Z
UID:10863043-1789131600-1789138800@seniorocity.com.au
SUMMARY:Feed It Forward Community Day
DESCRIPTION:Milestones Swan View welcomes the local community into the Center every Friday from 1pm – 3pm for fresh fruit\, vegetables and bakery items f
URL:https://seniorocity.com.au/whats-on-perth/feed-it-forward-community-day-32/
LOCATION:31 Balfour Rd\, 31 Balfour Road\, Swan View\, WA\, 6056\, Australia
CATEGORIES:Community Event
ATTACH;FMTTYPE=image/jpeg:https://seniorocity.com.au/wp-content/uploads/2026/02/50587b64d7b300a4fef5967808c9560c.jpg
END:VEVENT
BEGIN:VEVENT
DTSTART;TZID=Australia/Perth:20260918T130000
DTEND;TZID=Australia/Perth:20260918T150000
DTSTAMP:20260421T211839
CREATED:20260204T143725Z
LAST-MODIFIED:20260204T143812Z
UID:10863044-1789736400-1789743600@seniorocity.com.au
SUMMARY:Feed It Forward Community Day
DESCRIPTION:Milestones Swan View welcomes the local community into the Center every Friday from 1pm – 3pm for fresh fruit\, vegetables and bakery items f
URL:https://seniorocity.com.au/whats-on-perth/feed-it-forward-community-day-33/
LOCATION:31 Balfour Rd\, 31 Balfour Road\, Swan View\, WA\, 6056\, Australia
CATEGORIES:Community Event
ATTACH;FMTTYPE=image/jpeg:https://seniorocity.com.au/wp-content/uploads/2026/02/50587b64d7b300a4fef5967808c9560c.jpg
END:VEVENT
BEGIN:VEVENT
DTSTART;TZID=Australia/Perth:20260925T130000
DTEND;TZID=Australia/Perth:20260925T150000
DTSTAMP:20260421T211839
CREATED:20260204T143726Z
LAST-MODIFIED:20260204T143819Z
UID:10863045-1790341200-1790348400@seniorocity.com.au
SUMMARY:Feed It Forward Community Day
DESCRIPTION:Milestones Swan View welcomes the local community into the Center every Friday from 1pm – 3pm for fresh fruit\, vegetables and bakery items f
URL:https://seniorocity.com.au/whats-on-perth/feed-it-forward-community-day-34/
LOCATION:31 Balfour Rd\, 31 Balfour Road\, Swan View\, WA\, 6056\, Australia
CATEGORIES:Community Event
ATTACH;FMTTYPE=image/jpeg:https://seniorocity.com.au/wp-content/uploads/2026/02/50587b64d7b300a4fef5967808c9560c.jpg
END:VEVENT
BEGIN:VEVENT
DTSTART;TZID=Australia/Perth:20261002T130000
DTEND;TZID=Australia/Perth:20261002T150000
DTSTAMP:20260421T211839
CREATED:20260204T143727Z
LAST-MODIFIED:20260204T143821Z
UID:10863046-1790946000-1790953200@seniorocity.com.au
SUMMARY:Feed It Forward Community Day
DESCRIPTION:Milestones Swan View welcomes the local community into the Center every Friday from 1pm – 3pm for fresh fruit\, vegetables and bakery items f
URL:https://seniorocity.com.au/whats-on-perth/feed-it-forward-community-day-35/
LOCATION:31 Balfour Rd\, 31 Balfour Road\, Swan View\, WA\, 6056\, Australia
CATEGORIES:Community Event
ATTACH;FMTTYPE=image/jpeg:https://seniorocity.com.au/wp-content/uploads/2026/02/50587b64d7b300a4fef5967808c9560c.jpg
END:VEVENT
BEGIN:VEVENT
DTSTART;TZID=Australia/Perth:20261009T130000
DTEND;TZID=Australia/Perth:20261009T150000
DTSTAMP:20260421T211839
CREATED:20260204T143728Z
LAST-MODIFIED:20260204T143824Z
UID:10863047-1791550800-1791558000@seniorocity.com.au
SUMMARY:Feed It Forward Community Day
DESCRIPTION:Milestones Swan View welcomes the local community into the Center every Friday from 1pm – 3pm for fresh fruit\, vegetables and bakery items f
URL:https://seniorocity.com.au/whats-on-perth/feed-it-forward-community-day-36/
LOCATION:31 Balfour Rd\, 31 Balfour Road\, Swan View\, WA\, 6056\, Australia
CATEGORIES:Community Event
ATTACH;FMTTYPE=image/jpeg:https://seniorocity.com.au/wp-content/uploads/2026/02/50587b64d7b300a4fef5967808c9560c.jpg
END:VEVENT
BEGIN:VEVENT
DTSTART;TZID=Australia/Perth:20261016T130000
DTEND;TZID=Australia/Perth:20261016T150000
DTSTAMP:20260421T211839
CREATED:20260204T143729Z
LAST-MODIFIED:20260204T143826Z
UID:10863048-1792155600-1792162800@seniorocity.com.au
SUMMARY:Feed It Forward Community Day
DESCRIPTION:Milestones Swan View welcomes the local community into the Center every Friday from 1pm – 3pm for fresh fruit\, vegetables and bakery items f
URL:https://seniorocity.com.au/whats-on-perth/feed-it-forward-community-day-37/
LOCATION:31 Balfour Rd\, 31 Balfour Road\, Swan View\, WA\, 6056\, Australia
CATEGORIES:Community Event
ATTACH;FMTTYPE=image/jpeg:https://seniorocity.com.au/wp-content/uploads/2026/02/50587b64d7b300a4fef5967808c9560c.jpg
END:VEVENT
BEGIN:VEVENT
DTSTART;TZID=Australia/Perth:20261023T130000
DTEND;TZID=Australia/Perth:20261023T150000
DTSTAMP:20260421T211839
CREATED:20260204T143730Z
LAST-MODIFIED:20260204T143829Z
UID:10863049-1792760400-1792767600@seniorocity.com.au
SUMMARY:Feed It Forward Community Day
DESCRIPTION:Milestones Swan View welcomes the local community into the Center every Friday from 1pm – 3pm for fresh fruit\, vegetables and bakery items f
URL:https://seniorocity.com.au/whats-on-perth/feed-it-forward-community-day-38/
LOCATION:31 Balfour Rd\, 31 Balfour Road\, Swan View\, WA\, 6056\, Australia
CATEGORIES:Community Event
ATTACH;FMTTYPE=image/jpeg:https://seniorocity.com.au/wp-content/uploads/2026/02/50587b64d7b300a4fef5967808c9560c.jpg
END:VEVENT
BEGIN:VEVENT
DTSTART;TZID=Australia/Perth:20261030T130000
DTEND;TZID=Australia/Perth:20261030T150000
DTSTAMP:20260421T211839
CREATED:20260204T143731Z
LAST-MODIFIED:20260204T143831Z
UID:10863050-1793365200-1793372400@seniorocity.com.au
SUMMARY:Feed It Forward Community Day
DESCRIPTION:Milestones Swan View welcomes the local community into the Center every Friday from 1pm – 3pm for fresh fruit\, vegetables and bakery items f
URL:https://seniorocity.com.au/whats-on-perth/feed-it-forward-community-day-39/
LOCATION:31 Balfour Rd\, 31 Balfour Road\, Swan View\, WA\, 6056\, Australia
CATEGORIES:Community Event
ATTACH;FMTTYPE=image/jpeg:https://seniorocity.com.au/wp-content/uploads/2026/02/50587b64d7b300a4fef5967808c9560c.jpg
END:VEVENT
BEGIN:VEVENT
DTSTART;TZID=Australia/Perth:20261106T130000
DTEND;TZID=Australia/Perth:20261106T150000
DTSTAMP:20260421T211839
CREATED:20260204T143732Z
LAST-MODIFIED:20260204T143834Z
UID:10863051-1793970000-1793977200@seniorocity.com.au
SUMMARY:Feed It Forward Community Day
DESCRIPTION:Milestones Swan View welcomes the local community into the Center every Friday from 1pm – 3pm for fresh fruit\, vegetables and bakery items f
URL:https://seniorocity.com.au/whats-on-perth/feed-it-forward-community-day-40/
LOCATION:31 Balfour Rd\, 31 Balfour Road\, Swan View\, WA\, 6056\, Australia
CATEGORIES:Community Event
ATTACH;FMTTYPE=image/jpeg:https://seniorocity.com.au/wp-content/uploads/2026/02/50587b64d7b300a4fef5967808c9560c.jpg
END:VEVENT
BEGIN:VEVENT
DTSTART;TZID=Australia/Perth:20261113T130000
DTEND;TZID=Australia/Perth:20261113T150000
DTSTAMP:20260421T211839
CREATED:20260204T143801Z
LAST-MODIFIED:20260204T143836Z
UID:10863052-1794574800-1794582000@seniorocity.com.au
SUMMARY:Feed It Forward Community Day
DESCRIPTION:Milestones Swan View welcomes the local community into the Center every Friday from 1pm – 3pm for fresh fruit\, vegetables and bakery items f
URL:https://seniorocity.com.au/whats-on-perth/feed-it-forward-community-day-41/
LOCATION:31 Balfour Rd\, 31 Balfour Road\, Swan View\, WA\, 6056\, Australia
CATEGORIES:Community Event
ATTACH;FMTTYPE=image/jpeg:https://seniorocity.com.au/wp-content/uploads/2026/02/50587b64d7b300a4fef5967808c9560c.jpg
END:VEVENT
END:VCALENDAR