BEGIN:VCALENDAR
VERSION:2.0
PRODID:-//Seniorocity - Seniors / Over 55&#039;s Guide to Perth - ECPv6.15.11//NONSGML v1.0//EN
CALSCALE:GREGORIAN
METHOD:PUBLISH
X-ORIGINAL-URL:https://seniorocity.com.au
X-WR-CALDESC:Events for Seniorocity - Seniors / Over 55&#039;s Guide to Perth
REFRESH-INTERVAL;VALUE=DURATION:PT1H
X-Robots-Tag:noindex
X-PUBLISHED-TTL:PT1H
BEGIN:VTIMEZONE
TZID:Australia/Perth
BEGIN:STANDARD
TZOFFSETFROM:+0800
TZOFFSETTO:+0800
TZNAME:AWST
DTSTART:20250101T000000
END:STANDARD
END:VTIMEZONE
BEGIN:VEVENT
DTSTART;TZID=Australia/Perth:20260516T160000
DTEND;TZID=Australia/Perth:20260516T210000
DTSTAMP:20260424T045941
CREATED:20260402T155817Z
LAST-MODIFIED:20260402T155820Z
UID:10865322-1778947200-1778965200@seniorocity.com.au
SUMMARY:Perth Makers Market - New Moon Twilight Market
DESCRIPTION:Twilight vibes at Perth Makers Market ✨ Shop local\, enjoy food\, music & family fun at Burswood Park\, 4–9pm.\n\n\nPerth Makers Market invites you to a delightful Twilight Market at Burswood Park\, celebrating the wonderful artisans of Western Australia! \n \nSpend the evening browsing through local stalls\, each offering handmade treasures. With delicious food\, live music\, family-friendly activities\, and special moments\, it’s the ideal way to celebrate together. \n \nJoin us at Burswood Park between 4pm and 9pm for a night of creativity\, community\, and the chance to find unique gifts crafted with care by our talented stallholders.
URL:https://seniorocity.com.au/whats-on-perth/perth-makers-market-new-moon-twilight-market/
LOCATION:Burswood Park\, Resort Drive\, Burswood\, WA\, 6100\, Australia
CATEGORIES:Markets
ATTACH;FMTTYPE=image/jpeg:https://seniorocity.com.au/wp-content/uploads/2026/04/9bb97ebd074698c328382d492051456a-1.jpg
GEO:-31.958971;115.89099
X-APPLE-STRUCTURED-LOCATION;VALUE=URI;X-ADDRESS=Burswood Park Resort Drive Burswood WA 6100 Australia;X-APPLE-RADIUS=500;X-TITLE=Resort Drive:geo:115.89099,-31.958971
END:VEVENT
END:VCALENDAR