BEGIN:VCALENDAR
VERSION:2.0
PRODID:-//Seniorocity - Seniors / Over 55&#039;s Guide to Perth - ECPv6.15.11//NONSGML v1.0//EN
CALSCALE:GREGORIAN
METHOD:PUBLISH
X-WR-CALNAME:Seniorocity - Seniors / Over 55&#039;s Guide to Perth
X-ORIGINAL-URL:https://seniorocity.com.au
X-WR-CALDESC:Events for Seniorocity - Seniors / Over 55&#039;s Guide to Perth
REFRESH-INTERVAL;VALUE=DURATION:PT1H
X-Robots-Tag:noindex
X-PUBLISHED-TTL:PT1H
BEGIN:VTIMEZONE
TZID:Australia/Perth
BEGIN:STANDARD
TZOFFSETFROM:+0800
TZOFFSETTO:+0800
TZNAME:AWST
DTSTART:20250101T000000
END:STANDARD
END:VTIMEZONE
BEGIN:VEVENT
DTSTART;TZID=Australia/Perth:20260510T150000
DTEND;TZID=Australia/Perth:20260510T170000
DTSTAMP:20260423T102119
CREATED:20260422T115100Z
LAST-MODIFIED:20260422T115103Z
UID:10866065-1778425200-1778432400@seniorocity.com.au
SUMMARY:Mother's Day Paint ‘n’ Sip
DESCRIPTION:Celebrate Mother’s Day with a relaxed and creative Paint ‘n’ Sip in the beautiful gardens of Ellis House Art Centre –\nCreate memories
URL:https://seniorocity.com.au/whats-on-perth/mothers-day-paint-n-sip/
LOCATION:Ellis House Art Centre\, 116 Milne Street\, Bayswater\, WA\, 6053\, Australia
CATEGORIES:Mother's Day
ATTACH;FMTTYPE=image/jpeg:https://seniorocity.com.au/wp-content/uploads/2026/04/adfa9ec0feee41d583c701e90876f86e-1.jpg
END:VEVENT
END:VCALENDAR