BEGIN:VCALENDAR
VERSION:2.0
PRODID:-//Seniorocity - Seniors / Over 55&#039;s Guide to Perth - ECPv6.15.11//NONSGML v1.0//EN
CALSCALE:GREGORIAN
METHOD:PUBLISH
X-ORIGINAL-URL:https://seniorocity.com.au
X-WR-CALDESC:Events for Seniorocity - Seniors / Over 55&#039;s Guide to Perth
REFRESH-INTERVAL;VALUE=DURATION:PT1H
X-Robots-Tag:noindex
X-PUBLISHED-TTL:PT1H
BEGIN:VTIMEZONE
TZID:Australia/Perth
BEGIN:STANDARD
TZOFFSETFROM:+0800
TZOFFSETTO:+0800
TZNAME:AWST
DTSTART:20250101T000000
END:STANDARD
END:VTIMEZONE
BEGIN:VEVENT
DTSTART;TZID=Australia/Perth:20260509T090000
DTEND;TZID=Australia/Perth:20260509T110000
DTSTAMP:20260423T053459
CREATED:20260422T123715Z
LAST-MODIFIED:20260422T123718Z
UID:10866078-1778317200-1778324400@seniorocity.com.au
SUMMARY:Mother’s Day High Tea + Floral Arranging (Ceramic Jug)
DESCRIPTION:Remote Society is excited to bring this Mothers Day High Tea + Floral Workshop to York\n\n\nLooking for a beautiful way to celebrate the incredible women in your life? Gather your girlfriends\, mums\, sisters\, nannas or aunts and join us for a morning of flowers\, creativity and connection in the heart of the Wheatbelt 💐 \n \n🗓 Saturday 9th May⏰ 9–11am📍 The Flour Mill Café\, York – Upper Veranda (VIP section 😉)👒 Dress to delight – think garden party chic! Bright colours\, florals and high tea elegance \n \nWe’re celebrating Mother’s Day with a heartfelt floral workshop hosted by Kirsty Doig. Each guest will create a stunning arrangement in a beautiful ceramic white jug- a keepsake to treasure or a meaningful gift for someone special. \n \nUsing fresh\, locally grown blooms from Kirsty’s garden\, along with soft cottage garden accents\, you’ll be guided step-by-step to design your own unique piece- filled with love and intention 🌷 \n \n🌿 What to expect:✨ A table overflowing with seasonal flowers✨ A guided ceramic jug arrangement workshop✨ Delicious high tea by Karen✨ Tea\, coffee or juice✨ Laughter\, creativity and connection✨ A heartfelt\, handmade piece to take home \n \n🎁 Perfect gift idea: Surprise someone special with a ticket- an experience to share\, a memory to cherish\, and a gift made from the heart 💝 \n**If you have any food related allergies\, can you please email Shannae at remotesociety22@gmail.com at the time of ticket purchase.  \n \nSpots are limited\, so gather your favourite ladies and join us for a magical garden party celebration 💕
URL:https://seniorocity.com.au/whats-on-perth/mothers-day-high-tea-floral-arranging-ceramic-jug/
LOCATION:The Flour Mill Cafe\, 10 Henrietta Street\, York\, WA\, 6302\, Australia
CATEGORIES:Mother's Day
ATTACH;FMTTYPE=image/jpeg:https://seniorocity.com.au/wp-content/uploads/2026/04/13b563102a1b6e43c47694fcda14ccf4.jpg
END:VEVENT
END:VCALENDAR