BEGIN:VCALENDAR
VERSION:2.0
PRODID:-//Seniorocity - Seniors / Over 55&#039;s Guide to Perth - ECPv6.15.11//NONSGML v1.0//EN
CALSCALE:GREGORIAN
METHOD:PUBLISH
X-WR-CALNAME:Seniorocity - Seniors / Over 55&#039;s Guide to Perth
X-ORIGINAL-URL:https://seniorocity.com.au
X-WR-CALDESC:Events for Seniorocity - Seniors / Over 55&#039;s Guide to Perth
REFRESH-INTERVAL;VALUE=DURATION:PT1H
X-Robots-Tag:noindex
X-PUBLISHED-TTL:PT1H
BEGIN:VTIMEZONE
TZID:Australia/Perth
BEGIN:STANDARD
TZOFFSETFROM:+0800
TZOFFSETTO:+0800
TZNAME:AWST
DTSTART:20250101T000000
END:STANDARD
END:VTIMEZONE
BEGIN:VEVENT
DTSTART;TZID=Australia/Perth:20260510T170000
DTEND;TZID=Australia/Perth:20260510T210000
DTSTAMP:20260423T133422
CREATED:20260422T123439Z
LAST-MODIFIED:20260422T123443Z
UID:10866076-1778432400-1778446800@seniorocity.com.au
SUMMARY:Mothers Day  Movies and Markets 2026
DESCRIPTION:Celebrate Mother’s Day with a relaxed evening out at the Bernard Park Soundshell for the Movie and Markets Community Event\n\n\nCelebrate Mother’s Day with a relaxed evening out at the Bernard Park Soundshell for the Mother’s Day Movie and Markets Community Event hosted by the Shire of Northam. \nBring along a picnic blanket\, camper chairs\, foam couches or bean bags—whatever makes you (and most importantly Mum!) comfortable—and enjoy two fantastic films under the stars. \n🎬 Movie Line-Up: \n• Ladies in Black  (PG) \n• A League of Their Own (M) \nWhile you’re there\, browse the local markets and pick up something special for Mum—or treat yourself! \n🍦 Food & Treats Available: \n• Ice cream and popcorn from Amore Mio \n• Coffee and cupcakes from Yvette’s Coffee & Cupcakes \n☕ Special Mother’s Day Treat: \nIf you secure your FREE ticket through Eventbrite\, Mum will receive a complimentary coffee and cupcake to enjoy during the movie.\nThis is the perfect free community event for families to come together\, relax\, and spoil Mum this Mother’s Day.
URL:https://seniorocity.com.au/whats-on-perth/mothers-day-movies-and-markets-2026/
LOCATION:Bernard Park\, 2 Grey Street\, Northam\, WA\, 6401\, Australia
CATEGORIES:Mother's Day
ATTACH;FMTTYPE=image/jpeg:https://seniorocity.com.au/wp-content/uploads/2026/04/766de6b5de64399dadec4dcba400ce34-1.jpg
END:VEVENT
END:VCALENDAR