BEGIN:VCALENDAR
VERSION:2.0
PRODID:-//Seniorocity - Seniors / Over 55&#039;s Guide to Perth - ECPv6.15.11//NONSGML v1.0//EN
CALSCALE:GREGORIAN
METHOD:PUBLISH
X-ORIGINAL-URL:https://seniorocity.com.au
X-WR-CALDESC:Events for Seniorocity - Seniors / Over 55&#039;s Guide to Perth
REFRESH-INTERVAL;VALUE=DURATION:PT1H
X-Robots-Tag:noindex
X-PUBLISHED-TTL:PT1H
BEGIN:VTIMEZONE
TZID:Australia/Perth
BEGIN:STANDARD
TZOFFSETFROM:+0800
TZOFFSETTO:+0800
TZNAME:AWST
DTSTART:20250101T000000
END:STANDARD
END:VTIMEZONE
BEGIN:VEVENT
DTSTART;TZID=Australia/Perth:20260508T180000
DTEND;TZID=Australia/Perth:20260508T193000
DTSTAMP:20260423T083134
CREATED:20260422T115704Z
LAST-MODIFIED:20260422T115708Z
UID:10866067-1778263200-1778268600@seniorocity.com.au
SUMMARY:Mother's day Candle Decorating Evening
DESCRIPTION:Celebrate Mother’s Day with The House of Honey—pour and decorate your own beautiful beeswax candles for Mum.\n\n\nMother’s Day Candle-Making Evening – Swan Valley 🌸✨ \nCelebrate Mum in a truly special way at The House of Honey\, nestled in the heart of the Swan Valley’s beloved honey shop and bee farm. \nJoin us for a creative\, hands-on evening where you’ll craft three beautiful beeswax candles — a pillar\, votive\, and tealights — guided by our expert candle maker. Discover the art of candle making\, then personalise your creations with elegant decorations\, soft colours\, and a touch of floral charm perfect for Mother’s Day. \nSip on refreshing honey-inspired drinks and enjoy a selection of sweet treats as you unwind in a warm\, welcoming setting. Plus\, enjoy an exclusive 10% in-store discount on the night. \nA bee-autiful experience to share with Mum\, friends\, or as a thoughtful treat for yourself. \n💐 Tickets are limited — book your spot today and make this Mother’s Day glow!
URL:https://seniorocity.com.au/whats-on-perth/mothers-day-candle-decorating-evening/
LOCATION:The House of Honey & The Sticky Spoon Cafe\, 867 Great Northern Highway\, Herne Hill\, WA\, 6056\, Australia
CATEGORIES:Mother's Day
ATTACH;FMTTYPE=image/jpeg:https://seniorocity.com.au/wp-content/uploads/2026/04/84756900f9b9bac1946340c1fd99be26.jpg
END:VEVENT
END:VCALENDAR