BEGIN:VCALENDAR
VERSION:2.0
PRODID:-//Seniorocity - Seniors / Over 55&#039;s Guide to Perth - ECPv6.15.11//NONSGML v1.0//EN
CALSCALE:GREGORIAN
METHOD:PUBLISH
X-WR-CALNAME:Seniorocity - Seniors / Over 55&#039;s Guide to Perth
X-ORIGINAL-URL:https://seniorocity.com.au
X-WR-CALDESC:Events for Seniorocity - Seniors / Over 55&#039;s Guide to Perth
REFRESH-INTERVAL;VALUE=DURATION:PT1H
X-Robots-Tag:noindex
X-PUBLISHED-TTL:PT1H
BEGIN:VTIMEZONE
TZID:Australia/Perth
BEGIN:STANDARD
TZOFFSETFROM:+0800
TZOFFSETTO:+0800
TZNAME:AWST
DTSTART:20250101T000000
END:STANDARD
END:VTIMEZONE
BEGIN:VEVENT
DTSTART;TZID=Australia/Perth:20260416T183000
DTEND;TZID=Australia/Perth:20260416T213000
DTSTAMP:20260423T015550
CREATED:20260102T081233Z
LAST-MODIFIED:20260102T081233Z
UID:10858206-1776364200-1776375000@seniorocity.com.au
SUMMARY:Quiz Night - Palace Arcade Northbridge
DESCRIPTION:A night of laughs\, banter and head scratching questions. Every Thursday at Palace Arcade. Book at thepalacearcade.com.au or just walk in!
URL:https://seniorocity.com.au/whats-on-perth/quiz-night-palace-arcade-northbridge-15/
LOCATION:The Palace Arcade\, 84 Beaufort Street\, Perth\, WA\, 6000\, Australia
CATEGORIES:Games
ATTACH;FMTTYPE=image/jpeg:https://seniorocity.com.au/wp-content/uploads/2026/01/c5e68d32a2985bec0bbcdbd687286ed5.jpg
END:VEVENT
BEGIN:VEVENT
DTSTART;TZID=Australia/Perth:20260409T183000
DTEND;TZID=Australia/Perth:20260409T213000
DTSTAMP:20260423T015550
CREATED:20260102T081232Z
LAST-MODIFIED:20260102T081232Z
UID:10858205-1775759400-1775770200@seniorocity.com.au
SUMMARY:Quiz Night - Palace Arcade Northbridge
DESCRIPTION:A night of laughs\, banter and head scratching questions. Every Thursday at Palace Arcade. Book at thepalacearcade.com.au or just walk in!
URL:https://seniorocity.com.au/whats-on-perth/quiz-night-palace-arcade-northbridge-14/
LOCATION:The Palace Arcade\, 84 Beaufort Street\, Perth\, WA\, 6000\, Australia
CATEGORIES:Games
ATTACH;FMTTYPE=image/jpeg:https://seniorocity.com.au/wp-content/uploads/2026/01/c5e68d32a2985bec0bbcdbd687286ed5.jpg
END:VEVENT
BEGIN:VEVENT
DTSTART;TZID=Australia/Perth:20260402T183000
DTEND;TZID=Australia/Perth:20260402T213000
DTSTAMP:20260423T015550
CREATED:20260102T081232Z
LAST-MODIFIED:20260102T081232Z
UID:10858204-1775154600-1775165400@seniorocity.com.au
SUMMARY:Quiz Night - Palace Arcade Northbridge
DESCRIPTION:A night of laughs\, banter and head scratching questions. Every Thursday at Palace Arcade. Book at thepalacearcade.com.au or just walk in!
URL:https://seniorocity.com.au/whats-on-perth/quiz-night-palace-arcade-northbridge-13/
LOCATION:The Palace Arcade\, 84 Beaufort Street\, Perth\, WA\, 6000\, Australia
CATEGORIES:Games
ATTACH;FMTTYPE=image/jpeg:https://seniorocity.com.au/wp-content/uploads/2026/01/c5e68d32a2985bec0bbcdbd687286ed5.jpg
END:VEVENT
BEGIN:VEVENT
DTSTART;TZID=Australia/Perth:20260326T183000
DTEND;TZID=Australia/Perth:20260326T213000
DTSTAMP:20260423T015550
CREATED:20260102T081231Z
LAST-MODIFIED:20260102T081231Z
UID:10858203-1774549800-1774560600@seniorocity.com.au
SUMMARY:Quiz Night - Palace Arcade Northbridge
DESCRIPTION:A night of laughs\, banter and head scratching questions. Every Thursday at Palace Arcade. Book at thepalacearcade.com.au or just walk in!
URL:https://seniorocity.com.au/whats-on-perth/quiz-night-palace-arcade-northbridge-12/
LOCATION:The Palace Arcade\, 84 Beaufort Street\, Perth\, WA\, 6000\, Australia
CATEGORIES:Games
ATTACH;FMTTYPE=image/jpeg:https://seniorocity.com.au/wp-content/uploads/2026/01/c5e68d32a2985bec0bbcdbd687286ed5.jpg
END:VEVENT
BEGIN:VEVENT
DTSTART;TZID=Australia/Perth:20260319T183000
DTEND;TZID=Australia/Perth:20260319T213000
DTSTAMP:20260423T015550
CREATED:20260102T081230Z
LAST-MODIFIED:20260102T081230Z
UID:10858202-1773945000-1773955800@seniorocity.com.au
SUMMARY:Quiz Night - Palace Arcade Northbridge
DESCRIPTION:A night of laughs\, banter and head scratching questions. Every Thursday at Palace Arcade. Book at thepalacearcade.com.au or just walk in!
URL:https://seniorocity.com.au/whats-on-perth/quiz-night-palace-arcade-northbridge-11/
LOCATION:The Palace Arcade\, 84 Beaufort Street\, Perth\, WA\, 6000\, Australia
CATEGORIES:Games
ATTACH;FMTTYPE=image/jpeg:https://seniorocity.com.au/wp-content/uploads/2026/01/c5e68d32a2985bec0bbcdbd687286ed5.jpg
END:VEVENT
BEGIN:VEVENT
DTSTART;TZID=Australia/Perth:20260312T183000
DTEND;TZID=Australia/Perth:20260312T213000
DTSTAMP:20260423T015550
CREATED:20260102T081201Z
LAST-MODIFIED:20260102T081201Z
UID:10858200-1773340200-1773351000@seniorocity.com.au
SUMMARY:Quiz Night - Palace Arcade Northbridge
DESCRIPTION:A night of laughs\, banter and head scratching questions. Every Thursday at Palace Arcade. Book at thepalacearcade.com.au or just walk in!
URL:https://seniorocity.com.au/whats-on-perth/quiz-night-palace-arcade-northbridge-10/
LOCATION:The Palace Arcade\, 84 Beaufort Street\, Perth\, WA\, 6000\, Australia
CATEGORIES:Games
ATTACH;FMTTYPE=image/jpeg:https://seniorocity.com.au/wp-content/uploads/2026/01/c5e68d32a2985bec0bbcdbd687286ed5.jpg
END:VEVENT
BEGIN:VEVENT
DTSTART;TZID=Australia/Perth:20260305T183000
DTEND;TZID=Australia/Perth:20260305T213000
DTSTAMP:20260423T015550
CREATED:20260102T081200Z
LAST-MODIFIED:20260102T081200Z
UID:10858199-1772735400-1772746200@seniorocity.com.au
SUMMARY:Quiz Night - Palace Arcade Northbridge
DESCRIPTION:A night of laughs\, banter and head scratching questions. Every Thursday at Palace Arcade. Book at thepalacearcade.com.au or just walk in!
URL:https://seniorocity.com.au/whats-on-perth/quiz-night-palace-arcade-northbridge-9/
LOCATION:The Palace Arcade\, 84 Beaufort Street\, Perth\, WA\, 6000\, Australia
CATEGORIES:Games
ATTACH;FMTTYPE=image/jpeg:https://seniorocity.com.au/wp-content/uploads/2026/01/c5e68d32a2985bec0bbcdbd687286ed5.jpg
END:VEVENT
BEGIN:VEVENT
DTSTART;TZID=Australia/Perth:20260226T183000
DTEND;TZID=Australia/Perth:20260226T213000
DTSTAMP:20260423T015550
CREATED:20260102T081200Z
LAST-MODIFIED:20260102T081200Z
UID:10858198-1772130600-1772141400@seniorocity.com.au
SUMMARY:Quiz Night - Palace Arcade Northbridge
DESCRIPTION:A night of laughs\, banter and head scratching questions. Every Thursday at Palace Arcade. Book at thepalacearcade.com.au or just walk in!
URL:https://seniorocity.com.au/whats-on-perth/quiz-night-palace-arcade-northbridge-8/
LOCATION:The Palace Arcade\, 84 Beaufort Street\, Perth\, WA\, 6000\, Australia
CATEGORIES:Games
ATTACH;FMTTYPE=image/jpeg:https://seniorocity.com.au/wp-content/uploads/2026/01/c5e68d32a2985bec0bbcdbd687286ed5.jpg
END:VEVENT
BEGIN:VEVENT
DTSTART;TZID=Australia/Perth:20260219T183000
DTEND;TZID=Australia/Perth:20260219T213000
DTSTAMP:20260423T015550
CREATED:20260102T081159Z
LAST-MODIFIED:20260102T081159Z
UID:10858197-1771525800-1771536600@seniorocity.com.au
SUMMARY:Quiz Night - Palace Arcade Northbridge
DESCRIPTION:A night of laughs\, banter and head scratching questions. Every Thursday at Palace Arcade. Book at thepalacearcade.com.au or just walk in!
URL:https://seniorocity.com.au/whats-on-perth/quiz-night-palace-arcade-northbridge-7/
LOCATION:The Palace Arcade\, 84 Beaufort Street\, Perth\, WA\, 6000\, Australia
CATEGORIES:Games
ATTACH;FMTTYPE=image/jpeg:https://seniorocity.com.au/wp-content/uploads/2026/01/c5e68d32a2985bec0bbcdbd687286ed5.jpg
END:VEVENT
BEGIN:VEVENT
DTSTART;TZID=Australia/Perth:20260212T183000
DTEND;TZID=Australia/Perth:20260212T213000
DTSTAMP:20260423T015550
CREATED:20260102T081158Z
LAST-MODIFIED:20260102T081158Z
UID:10858196-1770921000-1770931800@seniorocity.com.au
SUMMARY:Quiz Night - Palace Arcade Northbridge
DESCRIPTION:A night of laughs\, banter and head scratching questions. Every Thursday at Palace Arcade. Book at thepalacearcade.com.au or just walk in!
URL:https://seniorocity.com.au/whats-on-perth/quiz-night-palace-arcade-northbridge-6/
LOCATION:The Palace Arcade\, 84 Beaufort Street\, Perth\, WA\, 6000\, Australia
CATEGORIES:Games
ATTACH;FMTTYPE=image/jpeg:https://seniorocity.com.au/wp-content/uploads/2026/01/c5e68d32a2985bec0bbcdbd687286ed5.jpg
END:VEVENT
BEGIN:VEVENT
DTSTART;TZID=Australia/Perth:20260205T183000
DTEND;TZID=Australia/Perth:20260205T213000
DTSTAMP:20260423T015550
CREATED:20260102T081157Z
LAST-MODIFIED:20260102T081157Z
UID:10858195-1770316200-1770327000@seniorocity.com.au
SUMMARY:Quiz Night - Palace Arcade Northbridge
DESCRIPTION:A night of laughs\, banter and head scratching questions. Every Thursday at Palace Arcade. Book at thepalacearcade.com.au or just walk in!
URL:https://seniorocity.com.au/whats-on-perth/quiz-night-palace-arcade-northbridge-5/
LOCATION:The Palace Arcade\, 84 Beaufort Street\, Perth\, WA\, 6000\, Australia
CATEGORIES:Games
ATTACH;FMTTYPE=image/jpeg:https://seniorocity.com.au/wp-content/uploads/2026/01/c5e68d32a2985bec0bbcdbd687286ed5.jpg
END:VEVENT
BEGIN:VEVENT
DTSTART;TZID=Australia/Perth:20260129T183000
DTEND;TZID=Australia/Perth:20260129T213000
DTSTAMP:20260423T015550
CREATED:20260102T081156Z
LAST-MODIFIED:20260102T081156Z
UID:10858194-1769711400-1769722200@seniorocity.com.au
SUMMARY:Quiz Night - Palace Arcade Northbridge
DESCRIPTION:A night of laughs\, banter and head scratching questions. Every Thursday at Palace Arcade. Book at thepalacearcade.com.au or just walk in!
URL:https://seniorocity.com.au/whats-on-perth/quiz-night-palace-arcade-northbridge-4/
LOCATION:The Palace Arcade\, 84 Beaufort Street\, Perth\, WA\, 6000\, Australia
CATEGORIES:Games
ATTACH;FMTTYPE=image/jpeg:https://seniorocity.com.au/wp-content/uploads/2026/01/c5e68d32a2985bec0bbcdbd687286ed5.jpg
END:VEVENT
BEGIN:VEVENT
DTSTART;TZID=Australia/Perth:20260122T183000
DTEND;TZID=Australia/Perth:20260122T213000
DTSTAMP:20260423T015550
CREATED:20260102T081156Z
LAST-MODIFIED:20260102T081156Z
UID:10858193-1769106600-1769117400@seniorocity.com.au
SUMMARY:Quiz Night - Palace Arcade Northbridge
DESCRIPTION:A night of laughs\, banter and head scratching questions. Every Thursday at Palace Arcade. Book at thepalacearcade.com.au or just walk in!
URL:https://seniorocity.com.au/whats-on-perth/quiz-night-palace-arcade-northbridge-3/
LOCATION:The Palace Arcade\, 84 Beaufort Street\, Perth\, WA\, 6000\, Australia
CATEGORIES:Games
ATTACH;FMTTYPE=image/jpeg:https://seniorocity.com.au/wp-content/uploads/2026/01/c5e68d32a2985bec0bbcdbd687286ed5.jpg
END:VEVENT
BEGIN:VEVENT
DTSTART;TZID=Australia/Perth:20260115T183000
DTEND;TZID=Australia/Perth:20260115T213000
DTSTAMP:20260423T015550
CREATED:20260102T081155Z
LAST-MODIFIED:20260102T081155Z
UID:10858192-1768501800-1768512600@seniorocity.com.au
SUMMARY:Quiz Night - Palace Arcade Northbridge
DESCRIPTION:A night of laughs\, banter and head scratching questions. Every Thursday at Palace Arcade. Book at thepalacearcade.com.au or just walk in!
URL:https://seniorocity.com.au/whats-on-perth/quiz-night-palace-arcade-northbridge-2/
LOCATION:The Palace Arcade\, 84 Beaufort Street\, Perth\, WA\, 6000\, Australia
CATEGORIES:Games
ATTACH;FMTTYPE=image/jpeg:https://seniorocity.com.au/wp-content/uploads/2026/01/c5e68d32a2985bec0bbcdbd687286ed5.jpg
END:VEVENT
END:VCALENDAR