BEGIN:VCALENDAR
VERSION:2.0
PRODID:-//Seniorocity - Seniors / Over 55&#039;s Guide to Perth - ECPv6.15.11//NONSGML v1.0//EN
CALSCALE:GREGORIAN
METHOD:PUBLISH
X-WR-CALNAME:Seniorocity - Seniors / Over 55&#039;s Guide to Perth
X-ORIGINAL-URL:https://seniorocity.com.au
X-WR-CALDESC:Events for Seniorocity - Seniors / Over 55&#039;s Guide to Perth
REFRESH-INTERVAL;VALUE=DURATION:PT1H
X-Robots-Tag:noindex
X-PUBLISHED-TTL:PT1H
BEGIN:VTIMEZONE
TZID:Australia/Perth
BEGIN:STANDARD
TZOFFSETFROM:+0800
TZOFFSETTO:+0800
TZNAME:AWST
DTSTART:20250101T000000
END:STANDARD
END:VTIMEZONE
BEGIN:VEVENT
DTSTART;TZID=Australia/Perth:20260724T110000
DTEND;TZID=Australia/Perth:20260724T130000
DTSTAMP:20260420T140647
CREATED:20260405T125008Z
LAST-MODIFIED:20260405T125008Z
UID:10865400-1784890800-1784898000@seniorocity.com.au
SUMMARY:TECH Connect
DESCRIPTION:Personalised help with your specific queries relating to the internet and technology.
URL:https://seniorocity.com.au/whats-on-perth/tech-connect-76/
LOCATION:Australind Public Library\, 7 Mulgara Street\, Australind\, WA\, 6233\, Australia
CATEGORIES:Tech
ATTACH;FMTTYPE=image/jpeg:https://seniorocity.com.au/wp-content/uploads/2025/07/c32d4cac6d25bcb1b7f9ffb031165fb0.jpg
END:VEVENT
BEGIN:VEVENT
DTSTART;TZID=Australia/Perth:20260727T130000
DTEND;TZID=Australia/Perth:20260727T160000
DTSTAMP:20260420T140647
CREATED:20260405T125010Z
LAST-MODIFIED:20260405T125010Z
UID:10865401-1785157200-1785168000@seniorocity.com.au
SUMMARY:TECH Connect
DESCRIPTION:Personalised help with your specific queries relating to the internet and technology.
URL:https://seniorocity.com.au/whats-on-perth/tech-connect-77/
LOCATION:Australind Public Library\, 7 Mulgara Street\, Australind\, WA\, 6233\, Australia
CATEGORIES:Tech
ATTACH;FMTTYPE=image/jpeg:https://seniorocity.com.au/wp-content/uploads/2025/07/c32d4cac6d25bcb1b7f9ffb031165fb0.jpg
END:VEVENT
BEGIN:VEVENT
DTSTART;TZID=Australia/Perth:20260731T110000
DTEND;TZID=Australia/Perth:20260731T130000
DTSTAMP:20260420T140647
CREATED:20260405T125011Z
LAST-MODIFIED:20260405T125011Z
UID:10865402-1785495600-1785502800@seniorocity.com.au
SUMMARY:TECH Connect
DESCRIPTION:Personalised help with your specific queries relating to the internet and technology.
URL:https://seniorocity.com.au/whats-on-perth/tech-connect-78/
LOCATION:Australind Public Library\, 7 Mulgara Street\, Australind\, WA\, 6233\, Australia
CATEGORIES:Tech
ATTACH;FMTTYPE=image/jpeg:https://seniorocity.com.au/wp-content/uploads/2025/07/c32d4cac6d25bcb1b7f9ffb031165fb0.jpg
END:VEVENT
BEGIN:VEVENT
DTSTART;TZID=Australia/Perth:20260803T130000
DTEND;TZID=Australia/Perth:20260803T160000
DTSTAMP:20260420T140647
CREATED:20260405T125012Z
LAST-MODIFIED:20260405T125012Z
UID:10865403-1785762000-1785772800@seniorocity.com.au
SUMMARY:TECH Connect
DESCRIPTION:Personalised help with your specific queries relating to the internet and technology.
URL:https://seniorocity.com.au/whats-on-perth/tech-connect-79/
LOCATION:Australind Public Library\, 7 Mulgara Street\, Australind\, WA\, 6233\, Australia
CATEGORIES:Tech
ATTACH;FMTTYPE=image/jpeg:https://seniorocity.com.au/wp-content/uploads/2025/07/c32d4cac6d25bcb1b7f9ffb031165fb0.jpg
END:VEVENT
BEGIN:VEVENT
DTSTART;TZID=Australia/Perth:20260803T133000
DTEND;TZID=Australia/Perth:20260803T143000
DTSTAMP:20260420T140647
CREATED:20260206T160522Z
LAST-MODIFIED:20260206T160628Z
UID:10863175-1785763800-1785767400@seniorocity.com.au
SUMMARY:Book and Movie Club
DESCRIPTION:Are you looking for a book club with a difference? Then this one is for you!
URL:https://seniorocity.com.au/whats-on-perth/book-and-movie-club-13/
LOCATION:Australind Public Library\, 7 Mulgara Street\, Australind\, WA\, 6233\, Australia
CATEGORIES:Club
ATTACH;FMTTYPE=image/jpeg:https://seniorocity.com.au/wp-content/uploads/2025/07/a9d68383f6aa5c1c885649b6c7b42e5a.jpg
END:VEVENT
BEGIN:VEVENT
DTSTART;TZID=Australia/Perth:20260807T110000
DTEND;TZID=Australia/Perth:20260807T130000
DTSTAMP:20260420T140647
CREATED:20260405T125013Z
LAST-MODIFIED:20260405T125013Z
UID:10865404-1786100400-1786107600@seniorocity.com.au
SUMMARY:TECH Connect
DESCRIPTION:Personalised help with your specific queries relating to the internet and technology.
URL:https://seniorocity.com.au/whats-on-perth/tech-connect-80/
LOCATION:Australind Public Library\, 7 Mulgara Street\, Australind\, WA\, 6233\, Australia
CATEGORIES:Tech
ATTACH;FMTTYPE=image/jpeg:https://seniorocity.com.au/wp-content/uploads/2025/07/c32d4cac6d25bcb1b7f9ffb031165fb0.jpg
END:VEVENT
BEGIN:VEVENT
DTSTART;TZID=Australia/Perth:20260810T130000
DTEND;TZID=Australia/Perth:20260810T160000
DTSTAMP:20260420T140647
CREATED:20260405T125013Z
LAST-MODIFIED:20260405T125013Z
UID:10865405-1786366800-1786377600@seniorocity.com.au
SUMMARY:TECH Connect
DESCRIPTION:Personalised help with your specific queries relating to the internet and technology.
URL:https://seniorocity.com.au/whats-on-perth/tech-connect-81/
LOCATION:Australind Public Library\, 7 Mulgara Street\, Australind\, WA\, 6233\, Australia
CATEGORIES:Tech
ATTACH;FMTTYPE=image/jpeg:https://seniorocity.com.au/wp-content/uploads/2025/07/c32d4cac6d25bcb1b7f9ffb031165fb0.jpg
END:VEVENT
BEGIN:VEVENT
DTSTART;TZID=Australia/Perth:20260814T110000
DTEND;TZID=Australia/Perth:20260814T130000
DTSTAMP:20260420T140647
CREATED:20260405T125014Z
LAST-MODIFIED:20260405T125014Z
UID:10865406-1786705200-1786712400@seniorocity.com.au
SUMMARY:TECH Connect
DESCRIPTION:Personalised help with your specific queries relating to the internet and technology.
URL:https://seniorocity.com.au/whats-on-perth/tech-connect-82/
LOCATION:Australind Public Library\, 7 Mulgara Street\, Australind\, WA\, 6233\, Australia
CATEGORIES:Tech
ATTACH;FMTTYPE=image/jpeg:https://seniorocity.com.au/wp-content/uploads/2025/07/c32d4cac6d25bcb1b7f9ffb031165fb0.jpg
END:VEVENT
BEGIN:VEVENT
DTSTART;TZID=Australia/Perth:20260817T130000
DTEND;TZID=Australia/Perth:20260817T160000
DTSTAMP:20260420T140647
CREATED:20260405T125015Z
LAST-MODIFIED:20260405T125015Z
UID:10865407-1786971600-1786982400@seniorocity.com.au
SUMMARY:TECH Connect
DESCRIPTION:Personalised help with your specific queries relating to the internet and technology.
URL:https://seniorocity.com.au/whats-on-perth/tech-connect-83/
LOCATION:Australind Public Library\, 7 Mulgara Street\, Australind\, WA\, 6233\, Australia
CATEGORIES:Tech
ATTACH;FMTTYPE=image/jpeg:https://seniorocity.com.au/wp-content/uploads/2025/07/c32d4cac6d25bcb1b7f9ffb031165fb0.jpg
END:VEVENT
BEGIN:VEVENT
DTSTART;TZID=Australia/Perth:20260821T110000
DTEND;TZID=Australia/Perth:20260821T130000
DTSTAMP:20260420T140647
CREATED:20260405T125016Z
LAST-MODIFIED:20260405T125016Z
UID:10865408-1787310000-1787317200@seniorocity.com.au
SUMMARY:TECH Connect
DESCRIPTION:Personalised help with your specific queries relating to the internet and technology.
URL:https://seniorocity.com.au/whats-on-perth/tech-connect-84/
LOCATION:Australind Public Library\, 7 Mulgara Street\, Australind\, WA\, 6233\, Australia
CATEGORIES:Tech
ATTACH;FMTTYPE=image/jpeg:https://seniorocity.com.au/wp-content/uploads/2025/07/c32d4cac6d25bcb1b7f9ffb031165fb0.jpg
END:VEVENT
BEGIN:VEVENT
DTSTART;TZID=Australia/Perth:20260824T130000
DTEND;TZID=Australia/Perth:20260824T160000
DTSTAMP:20260420T140647
CREATED:20260405T125031Z
LAST-MODIFIED:20260405T125031Z
UID:10865409-1787576400-1787587200@seniorocity.com.au
SUMMARY:TECH Connect
DESCRIPTION:Personalised help with your specific queries relating to the internet and technology.
URL:https://seniorocity.com.au/whats-on-perth/tech-connect-85/
LOCATION:Australind Public Library\, 7 Mulgara Street\, Australind\, WA\, 6233\, Australia
CATEGORIES:Tech
ATTACH;FMTTYPE=image/jpeg:https://seniorocity.com.au/wp-content/uploads/2025/07/c32d4cac6d25bcb1b7f9ffb031165fb0.jpg
END:VEVENT
BEGIN:VEVENT
DTSTART;TZID=Australia/Perth:20260828T110000
DTEND;TZID=Australia/Perth:20260828T130000
DTSTAMP:20260420T140647
CREATED:20260405T125032Z
LAST-MODIFIED:20260405T125032Z
UID:10865410-1787914800-1787922000@seniorocity.com.au
SUMMARY:TECH Connect
DESCRIPTION:Personalised help with your specific queries relating to the internet and technology.
URL:https://seniorocity.com.au/whats-on-perth/tech-connect-86/
LOCATION:Australind Public Library\, 7 Mulgara Street\, Australind\, WA\, 6233\, Australia
CATEGORIES:Tech
ATTACH;FMTTYPE=image/jpeg:https://seniorocity.com.au/wp-content/uploads/2025/07/c32d4cac6d25bcb1b7f9ffb031165fb0.jpg
END:VEVENT
BEGIN:VEVENT
DTSTART;TZID=Australia/Perth:20260831T130000
DTEND;TZID=Australia/Perth:20260831T160000
DTSTAMP:20260420T140647
CREATED:20260405T125032Z
LAST-MODIFIED:20260405T125032Z
UID:10865411-1788181200-1788192000@seniorocity.com.au
SUMMARY:TECH Connect
DESCRIPTION:Personalised help with your specific queries relating to the internet and technology.
URL:https://seniorocity.com.au/whats-on-perth/tech-connect-87/
LOCATION:Australind Public Library\, 7 Mulgara Street\, Australind\, WA\, 6233\, Australia
CATEGORIES:Tech
ATTACH;FMTTYPE=image/jpeg:https://seniorocity.com.au/wp-content/uploads/2025/07/c32d4cac6d25bcb1b7f9ffb031165fb0.jpg
END:VEVENT
BEGIN:VEVENT
DTSTART;TZID=Australia/Perth:20260904T110000
DTEND;TZID=Australia/Perth:20260904T130000
DTSTAMP:20260420T140647
CREATED:20260405T125033Z
LAST-MODIFIED:20260405T125033Z
UID:10865412-1788519600-1788526800@seniorocity.com.au
SUMMARY:TECH Connect
DESCRIPTION:Personalised help with your specific queries relating to the internet and technology.
URL:https://seniorocity.com.au/whats-on-perth/tech-connect-88/
LOCATION:Australind Public Library\, 7 Mulgara Street\, Australind\, WA\, 6233\, Australia
CATEGORIES:Tech
ATTACH;FMTTYPE=image/jpeg:https://seniorocity.com.au/wp-content/uploads/2025/07/c32d4cac6d25bcb1b7f9ffb031165fb0.jpg
END:VEVENT
BEGIN:VEVENT
DTSTART;TZID=Australia/Perth:20260907T130000
DTEND;TZID=Australia/Perth:20260907T160000
DTSTAMP:20260420T140647
CREATED:20260405T125034Z
LAST-MODIFIED:20260405T125034Z
UID:10865413-1788786000-1788796800@seniorocity.com.au
SUMMARY:TECH Connect
DESCRIPTION:Personalised help with your specific queries relating to the internet and technology.
URL:https://seniorocity.com.au/whats-on-perth/tech-connect-89/
LOCATION:Australind Public Library\, 7 Mulgara Street\, Australind\, WA\, 6233\, Australia
CATEGORIES:Tech
ATTACH;FMTTYPE=image/jpeg:https://seniorocity.com.au/wp-content/uploads/2025/07/c32d4cac6d25bcb1b7f9ffb031165fb0.jpg
END:VEVENT
BEGIN:VEVENT
DTSTART;TZID=Australia/Perth:20260907T133000
DTEND;TZID=Australia/Perth:20260907T143000
DTSTAMP:20260420T140647
CREATED:20260206T160523Z
LAST-MODIFIED:20260206T160641Z
UID:10863176-1788787800-1788791400@seniorocity.com.au
SUMMARY:Book and Movie Club
DESCRIPTION:Are you looking for a book club with a difference? Then this one is for you!
URL:https://seniorocity.com.au/whats-on-perth/book-and-movie-club-14/
LOCATION:Australind Public Library\, 7 Mulgara Street\, Australind\, WA\, 6233\, Australia
CATEGORIES:Club
ATTACH;FMTTYPE=image/jpeg:https://seniorocity.com.au/wp-content/uploads/2025/07/a9d68383f6aa5c1c885649b6c7b42e5a.jpg
END:VEVENT
BEGIN:VEVENT
DTSTART;TZID=Australia/Perth:20260911T110000
DTEND;TZID=Australia/Perth:20260911T130000
DTSTAMP:20260420T140647
CREATED:20260405T125035Z
LAST-MODIFIED:20260405T125035Z
UID:10865414-1789124400-1789131600@seniorocity.com.au
SUMMARY:TECH Connect
DESCRIPTION:Personalised help with your specific queries relating to the internet and technology.
URL:https://seniorocity.com.au/whats-on-perth/tech-connect-90/
LOCATION:Australind Public Library\, 7 Mulgara Street\, Australind\, WA\, 6233\, Australia
CATEGORIES:Tech
ATTACH;FMTTYPE=image/jpeg:https://seniorocity.com.au/wp-content/uploads/2025/07/c32d4cac6d25bcb1b7f9ffb031165fb0.jpg
END:VEVENT
BEGIN:VEVENT
DTSTART;TZID=Australia/Perth:20260914T130000
DTEND;TZID=Australia/Perth:20260914T160000
DTSTAMP:20260420T140647
CREATED:20260405T125035Z
LAST-MODIFIED:20260405T125035Z
UID:10865415-1789390800-1789401600@seniorocity.com.au
SUMMARY:TECH Connect
DESCRIPTION:Personalised help with your specific queries relating to the internet and technology.
URL:https://seniorocity.com.au/whats-on-perth/tech-connect-91/
LOCATION:Australind Public Library\, 7 Mulgara Street\, Australind\, WA\, 6233\, Australia
CATEGORIES:Tech
ATTACH;FMTTYPE=image/jpeg:https://seniorocity.com.au/wp-content/uploads/2025/07/c32d4cac6d25bcb1b7f9ffb031165fb0.jpg
END:VEVENT
BEGIN:VEVENT
DTSTART;TZID=Australia/Perth:20260918T110000
DTEND;TZID=Australia/Perth:20260918T130000
DTSTAMP:20260420T140647
CREATED:20260405T125036Z
LAST-MODIFIED:20260405T125036Z
UID:10865416-1789729200-1789736400@seniorocity.com.au
SUMMARY:TECH Connect
DESCRIPTION:Personalised help with your specific queries relating to the internet and technology.
URL:https://seniorocity.com.au/whats-on-perth/tech-connect-92/
LOCATION:Australind Public Library\, 7 Mulgara Street\, Australind\, WA\, 6233\, Australia
CATEGORIES:Tech
ATTACH;FMTTYPE=image/jpeg:https://seniorocity.com.au/wp-content/uploads/2025/07/c32d4cac6d25bcb1b7f9ffb031165fb0.jpg
END:VEVENT
BEGIN:VEVENT
DTSTART;TZID=Australia/Perth:20260921T130000
DTEND;TZID=Australia/Perth:20260921T160000
DTSTAMP:20260420T140647
CREATED:20260405T125037Z
LAST-MODIFIED:20260405T125037Z
UID:10865417-1789995600-1790006400@seniorocity.com.au
SUMMARY:TECH Connect
DESCRIPTION:Personalised help with your specific queries relating to the internet and technology.
URL:https://seniorocity.com.au/whats-on-perth/tech-connect-93/
LOCATION:Australind Public Library\, 7 Mulgara Street\, Australind\, WA\, 6233\, Australia
CATEGORIES:Tech
ATTACH;FMTTYPE=image/jpeg:https://seniorocity.com.au/wp-content/uploads/2025/07/c32d4cac6d25bcb1b7f9ffb031165fb0.jpg
END:VEVENT
BEGIN:VEVENT
DTSTART;TZID=Australia/Perth:20260925T110000
DTEND;TZID=Australia/Perth:20260925T130000
DTSTAMP:20260420T140647
CREATED:20260405T125038Z
LAST-MODIFIED:20260405T125038Z
UID:10865418-1790334000-1790341200@seniorocity.com.au
SUMMARY:TECH Connect
DESCRIPTION:Personalised help with your specific queries relating to the internet and technology.
URL:https://seniorocity.com.au/whats-on-perth/tech-connect-94/
LOCATION:Australind Public Library\, 7 Mulgara Street\, Australind\, WA\, 6233\, Australia
CATEGORIES:Tech
ATTACH;FMTTYPE=image/jpeg:https://seniorocity.com.au/wp-content/uploads/2025/07/c32d4cac6d25bcb1b7f9ffb031165fb0.jpg
END:VEVENT
BEGIN:VEVENT
DTSTART;TZID=Australia/Perth:20261005T133000
DTEND;TZID=Australia/Perth:20261005T143000
DTSTAMP:20260420T140647
CREATED:20260206T160524Z
LAST-MODIFIED:20260206T160653Z
UID:10863177-1791207000-1791210600@seniorocity.com.au
SUMMARY:Book and Movie Club
DESCRIPTION:Are you looking for a book club with a difference? Then this one is for you!
URL:https://seniorocity.com.au/whats-on-perth/book-and-movie-club-15/
LOCATION:Australind Public Library\, 7 Mulgara Street\, Australind\, WA\, 6233\, Australia
CATEGORIES:Club
ATTACH;FMTTYPE=image/jpeg:https://seniorocity.com.au/wp-content/uploads/2025/07/a9d68383f6aa5c1c885649b6c7b42e5a.jpg
END:VEVENT
BEGIN:VEVENT
DTSTART;TZID=Australia/Perth:20261102T133000
DTEND;TZID=Australia/Perth:20261102T143000
DTSTAMP:20260420T140647
CREATED:20260206T160525Z
LAST-MODIFIED:20260206T160707Z
UID:10863178-1793626200-1793629800@seniorocity.com.au
SUMMARY:Book and Movie Club
DESCRIPTION:Are you looking for a book club with a difference? Then this one is for you!
URL:https://seniorocity.com.au/whats-on-perth/book-and-movie-club-16/
LOCATION:Australind Public Library\, 7 Mulgara Street\, Australind\, WA\, 6233\, Australia
CATEGORIES:Club
ATTACH;FMTTYPE=image/jpeg:https://seniorocity.com.au/wp-content/uploads/2025/07/a9d68383f6aa5c1c885649b6c7b42e5a.jpg
END:VEVENT
BEGIN:VEVENT
DTSTART;TZID=Australia/Perth:20261207T133000
DTEND;TZID=Australia/Perth:20261207T143000
DTSTAMP:20260420T140647
CREATED:20260206T160526Z
LAST-MODIFIED:20260206T160718Z
UID:10863179-1796650200-1796653800@seniorocity.com.au
SUMMARY:Book and Movie Club
DESCRIPTION:Are you looking for a book club with a difference? Then this one is for you!
URL:https://seniorocity.com.au/whats-on-perth/book-and-movie-club-17/
LOCATION:Australind Public Library\, 7 Mulgara Street\, Australind\, WA\, 6233\, Australia
CATEGORIES:Club
ATTACH;FMTTYPE=image/jpeg:https://seniorocity.com.au/wp-content/uploads/2025/07/a9d68383f6aa5c1c885649b6c7b42e5a.jpg
END:VEVENT
END:VCALENDAR