BEGIN:VCALENDAR
VERSION:2.0
PRODID:-//Seniorocity - Seniors / Over 55&#039;s Guide to Perth - ECPv6.15.11//NONSGML v1.0//EN
CALSCALE:GREGORIAN
METHOD:PUBLISH
X-ORIGINAL-URL:https://seniorocity.com.au
X-WR-CALDESC:Events for Seniorocity - Seniors / Over 55&#039;s Guide to Perth
REFRESH-INTERVAL;VALUE=DURATION:PT1H
X-Robots-Tag:noindex
X-PUBLISHED-TTL:PT1H
BEGIN:VTIMEZONE
TZID:Australia/Perth
BEGIN:STANDARD
TZOFFSETFROM:+0800
TZOFFSETTO:+0800
TZNAME:AWST
DTSTART:20250101T000000
END:STANDARD
END:VTIMEZONE
BEGIN:VEVENT
DTSTART;TZID=Australia/Perth:20260409T100000
DTEND;TZID=Australia/Perth:20260409T120000
DTSTAMP:20260421T125241
CREATED:20260204T144310Z
LAST-MODIFIED:20260206T152657Z
UID:10863061-1775728800-1775736000@seniorocity.com.au
SUMMARY:Coffee and Craft | Midland
DESCRIPTION:Coffee and Craft is a therapeutic group program designed for adult Mental Health Carers aged 18+.
URL:https://seniorocity.com.au/whats-on-perth/coffee-and-craft-midland-3/
LOCATION:1A Sayer St\, 1A Sayer Street\, Midland\, WA\, 6056\, Australia
CATEGORIES:Craft
ATTACH;FMTTYPE=image/jpeg:https://seniorocity.com.au/wp-content/uploads/2026/02/a1a2cff9524413c0bebe060092ad1c35-1.jpg
END:VEVENT
BEGIN:VEVENT
DTSTART;TZID=Australia/Perth:20260401T170000
DTEND;TZID=Australia/Perth:20260401T190000
DTSTAMP:20260421T125241
CREATED:20260204T144650Z
LAST-MODIFIED:20260204T144725Z
UID:10863067-1775062800-1775070000@seniorocity.com.au
SUMMARY:Skills for Mental Health Carers | Self Compassion Workshop | Midland
DESCRIPTION:Skills for Mental Health Carers  is a therapeutic group program designed for adult Mental Health Carers aged 18+.
URL:https://seniorocity.com.au/whats-on-perth/skills-for-mental-health-carers-self-compassion-workshop-midland-4/
LOCATION:1A Sayer St\, 1A Sayer Street\, Midland\, WA\, 6056\, Australia
CATEGORIES:Health
ATTACH;FMTTYPE=image/jpeg:https://seniorocity.com.au/wp-content/uploads/2026/02/102f8710be5f88540b218768f59181bd-1.jpg
END:VEVENT
BEGIN:VEVENT
DTSTART;TZID=Australia/Perth:20260318T170000
DTEND;TZID=Australia/Perth:20260318T190000
DTSTAMP:20260421T125241
CREATED:20260204T144649Z
LAST-MODIFIED:20260204T144713Z
UID:10863066-1773853200-1773860400@seniorocity.com.au
SUMMARY:Skills for Mental Health Carers | Self Compassion Workshop | Midland
DESCRIPTION:Skills for Mental Health Carers  is a therapeutic group program designed for adult Mental Health Carers aged 18+.
URL:https://seniorocity.com.au/whats-on-perth/skills-for-mental-health-carers-self-compassion-workshop-midland-3/
LOCATION:1A Sayer St\, 1A Sayer Street\, Midland\, WA\, 6056\, Australia
CATEGORIES:Health
ATTACH;FMTTYPE=image/jpeg:https://seniorocity.com.au/wp-content/uploads/2026/02/102f8710be5f88540b218768f59181bd-1.jpg
END:VEVENT
BEGIN:VEVENT
DTSTART;TZID=Australia/Perth:20260312T100000
DTEND;TZID=Australia/Perth:20260312T120000
DTSTAMP:20260421T125241
CREATED:20260204T144310Z
LAST-MODIFIED:20260206T152646Z
UID:10863060-1773309600-1773316800@seniorocity.com.au
SUMMARY:Coffee and Craft | Midland
DESCRIPTION:Coffee and Craft is a therapeutic group program designed for adult Mental Health Carers aged 18+.
URL:https://seniorocity.com.au/whats-on-perth/coffee-and-craft-midland-2/
LOCATION:1A Sayer St\, 1A Sayer Street\, Midland\, WA\, 6056\, Australia
CATEGORIES:Craft
ATTACH;FMTTYPE=image/jpeg:https://seniorocity.com.au/wp-content/uploads/2026/02/a1a2cff9524413c0bebe060092ad1c35-1.jpg
END:VEVENT
BEGIN:VEVENT
DTSTART;TZID=Australia/Perth:20260304T170000
DTEND;TZID=Australia/Perth:20260304T190000
DTSTAMP:20260421T125241
CREATED:20260204T144648Z
LAST-MODIFIED:20260204T144701Z
UID:10863065-1772643600-1772650800@seniorocity.com.au
SUMMARY:Skills for Mental Health Carers | Self Compassion Workshop | Midland
DESCRIPTION:Skills for Mental Health Carers  is a therapeutic group program designed for adult Mental Health Carers aged 18+.
URL:https://seniorocity.com.au/whats-on-perth/skills-for-mental-health-carers-self-compassion-workshop-midland-2/
LOCATION:1A Sayer St\, 1A Sayer Street\, Midland\, WA\, 6056\, Australia
CATEGORIES:Health
ATTACH;FMTTYPE=image/jpeg:https://seniorocity.com.au/wp-content/uploads/2026/02/102f8710be5f88540b218768f59181bd-1.jpg
END:VEVENT
BEGIN:VEVENT
DTSTART;TZID=Australia/Perth:20260218T170000
DTEND;TZID=Australia/Perth:20260218T190000
DTSTAMP:20260421T125241
CREATED:20260204T144645Z
LAST-MODIFIED:20260204T144647Z
UID:10863064-1771434000-1771441200@seniorocity.com.au
SUMMARY:Skills for Mental Health Carers | Self Compassion Workshop | Midland
DESCRIPTION:Skills for Mental Health Carers  is a therapeutic group program designed for adult Mental Health Carers aged 18+.
URL:https://seniorocity.com.au/whats-on-perth/skills-for-mental-health-carers-self-compassion-workshop-midland/
LOCATION:1A Sayer St\, 1A Sayer Street\, Midland\, WA\, 6056\, Australia
CATEGORIES:Health
ATTACH;FMTTYPE=image/jpeg:https://seniorocity.com.au/wp-content/uploads/2026/02/102f8710be5f88540b218768f59181bd-1.jpg
END:VEVENT
BEGIN:VEVENT
DTSTART;TZID=Australia/Perth:20260212T100000
DTEND;TZID=Australia/Perth:20260212T120000
DTSTAMP:20260421T125241
CREATED:20260204T144306Z
LAST-MODIFIED:20260206T152635Z
UID:10863059-1770890400-1770897600@seniorocity.com.au
SUMMARY:Coffee and Craft | Midland
DESCRIPTION:Coffee and Craft is a therapeutic group program designed for adult Mental Health Carers aged 18+.
URL:https://seniorocity.com.au/whats-on-perth/coffee-and-craft-midland/
LOCATION:1A Sayer St\, 1A Sayer Street\, Midland\, WA\, 6056\, Australia
CATEGORIES:Craft
ATTACH;FMTTYPE=image/jpeg:https://seniorocity.com.au/wp-content/uploads/2026/02/a1a2cff9524413c0bebe060092ad1c35-1.jpg
END:VEVENT
END:VCALENDAR