BEGIN:VCALENDAR
VERSION:2.0
PRODID:-//Seniorocity - Seniors / Over 55&#039;s Guide to Perth - ECPv6.15.11//NONSGML v1.0//EN
CALSCALE:GREGORIAN
METHOD:PUBLISH
X-ORIGINAL-URL:https://seniorocity.com.au
X-WR-CALDESC:Events for Seniorocity - Seniors / Over 55&#039;s Guide to Perth
REFRESH-INTERVAL;VALUE=DURATION:PT1H
X-Robots-Tag:noindex
X-PUBLISHED-TTL:PT1H
BEGIN:VTIMEZONE
TZID:Australia/Perth
BEGIN:STANDARD
TZOFFSETFROM:+0800
TZOFFSETTO:+0800
TZNAME:AWST
DTSTART:20250101T000000
END:STANDARD
END:VTIMEZONE
BEGIN:VEVENT
DTSTART;TZID=Australia/Perth:20260509T150000
DTEND;TZID=Australia/Perth:20260509T170000
DTSTAMP:20260423T070201
CREATED:20260422T120130Z
LAST-MODIFIED:20260422T120134Z
UID:10866068-1778338800-1778346000@seniorocity.com.au
SUMMARY:Mother's Day Flower bouquet cupcake class
DESCRIPTION:Make a stunning edible flower bouquet for someone special!\n\n\nYou will walk away with a stunning edible bouquet ready to be gifted to someone special in your life. This is edible art and a gift all in one! \nLearning outcomes: \n– learn how to fill a piping bag easily\, with no mess \n– hands on experience to pipe basic rosettes\, stars and more with a variety of nozzles \n-basic fondant work to make stems\, plaque and leaves. \nWhat’s included: \n– seven pre-baked cupcakes on a board. This will be chocolate to last until Sunday. \n-carry box \n– a take home recipe booklet for the cupcakes and icing \n– a take home piping practice sheet \n– ongoing support for your baking endeavours through an exclusive Facebook group. \nAll you need to bring along is yourself\, everything else is supplied! \nHosted by Baking Club. The venue is the Baking Club van – please note two steps on entry and no toilets. \nThere are no refunds available.
URL:https://seniorocity.com.au/whats-on-perth/mothers-day-flower-bouquet-cupcake-class-2/
LOCATION:338 Lord St\, 338 Lord Street\, Beechboro\, WA\, 6063\, Australia
CATEGORIES:Mother's Day
ATTACH;FMTTYPE=image/jpeg:https://seniorocity.com.au/wp-content/uploads/2024/04/06ae4b3dc13e309d29337ee31eec9d00.jpg
END:VEVENT
END:VCALENDAR