BEGIN:VCALENDAR
VERSION:2.0
PRODID:-//Seniorocity - Seniors / Over 55&#039;s Guide to Perth - ECPv6.15.11//NONSGML v1.0//EN
CALSCALE:GREGORIAN
METHOD:PUBLISH
X-ORIGINAL-URL:https://seniorocity.com.au
X-WR-CALDESC:Events for Seniorocity - Seniors / Over 55&#039;s Guide to Perth
REFRESH-INTERVAL;VALUE=DURATION:PT1H
X-Robots-Tag:noindex
X-PUBLISHED-TTL:PT1H
BEGIN:VTIMEZONE
TZID:Australia/Perth
BEGIN:STANDARD
TZOFFSETFROM:+0800
TZOFFSETTO:+0800
TZNAME:AWST
DTSTART:20250101T000000
END:STANDARD
END:VTIMEZONE
BEGIN:VEVENT
DTSTART;TZID=Australia/Perth:20260521T093000
DTEND;TZID=Australia/Perth:20260521T110000
DTSTAMP:20260420T234317
CREATED:20260204T092757Z
LAST-MODIFIED:20260204T092757Z
UID:10862981-1779355800-1779361200@seniorocity.com.au
SUMMARY:Mental Health Carer Peer Support Group | Hillarys
DESCRIPTION:Come and spend time with a support group of like-minded peers\, sharing their journeys as mental health carers.
URL:https://seniorocity.com.au/whats-on-perth/mental-health-carer-peer-support-group-hillarys-7/
LOCATION:6/32 Endeavour Rd\, Hillarys WA 6025\, 6/32 Endeavour Rd\, Hillarys\, WA\, 6025\, Australia
CATEGORIES:Health
ATTACH;FMTTYPE=image/jpeg:https://seniorocity.com.au/wp-content/uploads/2026/02/824494fc5df388816bee3d41db877250.jpg
END:VEVENT
BEGIN:VEVENT
DTSTART;TZID=Australia/Perth:20260527T090000
DTEND;TZID=Australia/Perth:20260527T120000
DTSTAMP:20260420T234317
CREATED:20260204T092514Z
LAST-MODIFIED:20260204T143219Z
UID:10862976-1779872400-1779883200@seniorocity.com.au
SUMMARY:Caring for the Mental Health Carer: Creative Writing | Hillarys
DESCRIPTION:Caring for the Mental Health Carer is a therapeutic group program designed for adult Mental Health Carers aged 18+.
URL:https://seniorocity.com.au/whats-on-perth/caring-for-the-mental-health-carer-creative-writing-hillarys-4/
LOCATION:6/32 Endeavour Rd\, Hillarys WA 6025\, 6/32 Endeavour Rd\, Hillarys\, WA\, 6025\, Australia
CATEGORIES:Health
ATTACH;FMTTYPE=image/jpeg:https://seniorocity.com.au/wp-content/uploads/2026/02/4aa1e8a1e74bd01fbe765f3b09d53746.jpg
END:VEVENT
BEGIN:VEVENT
DTSTART;TZID=Australia/Perth:20260618T093000
DTEND;TZID=Australia/Perth:20260618T110000
DTSTAMP:20260420T234317
CREATED:20260204T092758Z
LAST-MODIFIED:20260204T092758Z
UID:10862982-1781775000-1781780400@seniorocity.com.au
SUMMARY:Mental Health Carer Peer Support Group | Hillarys
DESCRIPTION:Come and spend time with a support group of like-minded peers\, sharing their journeys as mental health carers.
URL:https://seniorocity.com.au/whats-on-perth/mental-health-carer-peer-support-group-hillarys-8/
LOCATION:6/32 Endeavour Rd\, Hillarys WA 6025\, 6/32 Endeavour Rd\, Hillarys\, WA\, 6025\, Australia
CATEGORIES:Health
ATTACH;FMTTYPE=image/jpeg:https://seniorocity.com.au/wp-content/uploads/2026/02/824494fc5df388816bee3d41db877250.jpg
END:VEVENT
BEGIN:VEVENT
DTSTART;TZID=Australia/Perth:20260624T090000
DTEND;TZID=Australia/Perth:20260624T120000
DTSTAMP:20260420T234317
CREATED:20260204T092514Z
LAST-MODIFIED:20260204T143220Z
UID:10862977-1782291600-1782302400@seniorocity.com.au
SUMMARY:Caring for the Mental Health Carer: Creative Writing | Hillarys
DESCRIPTION:Caring for the Mental Health Carer is a therapeutic group program designed for adult Mental Health Carers aged 18+.
URL:https://seniorocity.com.au/whats-on-perth/caring-for-the-mental-health-carer-creative-writing-hillarys-5/
LOCATION:6/32 Endeavour Rd\, Hillarys WA 6025\, 6/32 Endeavour Rd\, Hillarys\, WA\, 6025\, Australia
CATEGORIES:Health
ATTACH;FMTTYPE=image/jpeg:https://seniorocity.com.au/wp-content/uploads/2026/02/4aa1e8a1e74bd01fbe765f3b09d53746.jpg
END:VEVENT
END:VCALENDAR