BEGIN:VCALENDAR
VERSION:2.0
PRODID:-//Seniorocity - Seniors / Over 55&#039;s Guide to Perth - ECPv6.15.11//NONSGML v1.0//EN
CALSCALE:GREGORIAN
METHOD:PUBLISH
X-ORIGINAL-URL:https://seniorocity.com.au
X-WR-CALDESC:Events for Seniorocity - Seniors / Over 55&#039;s Guide to Perth
REFRESH-INTERVAL;VALUE=DURATION:PT1H
X-Robots-Tag:noindex
X-PUBLISHED-TTL:PT1H
BEGIN:VTIMEZONE
TZID:Australia/Perth
BEGIN:STANDARD
TZOFFSETFROM:+0800
TZOFFSETTO:+0800
TZNAME:AWST
DTSTART:20250101T000000
END:STANDARD
END:VTIMEZONE
BEGIN:VEVENT
DTSTART;TZID=Australia/Perth:20260523T100000
DTEND;TZID=Australia/Perth:20260523T113000
DTSTAMP:20260420T195525
CREATED:20260416T135631Z
LAST-MODIFIED:20260416T135631Z
UID:10865812-1779530400-1779535800@seniorocity.com.au
SUMMARY:Community Planting
DESCRIPTION:Celebrate Tree Month with us at Arden Hill! Help grow our boost biodiversity and build habitat for our local quenda population. \n\nFree Event | All Welcome\nWhat to Bring: Sturdy footwear\, a hat\, water bottle and sunscreen.\nLight refreshments provided.\n\nLet’s green our city together! \nRegister now
URL:https://seniorocity.com.au/whats-on-perth/community-planting-2/
LOCATION:Arden Street Reserve\, 1 Arden Street\, East Perth\, WA\, 6004\, Australia
CATEGORIES:Community Event,Free,Tree Planting
ATTACH;FMTTYPE=image/jpeg:https://seniorocity.com.au/wp-content/uploads/2026/04/Community-Planting2.jpg
END:VEVENT
END:VCALENDAR