BEGIN:VCALENDAR
VERSION:2.0
PRODID:-//Seniorocity - Seniors / Over 55&#039;s Guide to Perth - ECPv6.15.11//NONSGML v1.0//EN
CALSCALE:GREGORIAN
METHOD:PUBLISH
X-WR-CALNAME:Seniorocity - Seniors / Over 55&#039;s Guide to Perth
X-ORIGINAL-URL:https://seniorocity.com.au
X-WR-CALDESC:Events for Seniorocity - Seniors / Over 55&#039;s Guide to Perth
REFRESH-INTERVAL;VALUE=DURATION:PT1H
X-Robots-Tag:noindex
X-PUBLISHED-TTL:PT1H
BEGIN:VTIMEZONE
TZID:Australia/Perth
BEGIN:STANDARD
TZOFFSETFROM:+0800
TZOFFSETTO:+0800
TZNAME:AWST
DTSTART:20250101T000000
END:STANDARD
END:VTIMEZONE
BEGIN:VEVENT
DTSTART;TZID=Australia/Perth:20260422T130000
DTEND;TZID=Australia/Perth:20260422T133000
DTSTAMP:20260422T144118
CREATED:20260208T064905Z
LAST-MODIFIED:20260208T064905Z
UID:10863334-1776862800-1776864600@seniorocity.com.au
SUMMARY:My English World
DESCRIPTION:Come and join a social group to develop and practice your conversational English. \nParticipants will engage in different activities each week led by a representative from Matchworks. \nThese sessions are for adults. Bookings are not required.
URL:https://seniorocity.com.au/whats-on-perth/my-english-world/2026-04-22/
LOCATION:Armadale Library\, Armadale Central Shopping Centre\, Shop 64/10 Armadale Central Shopping Centre\, Orchard Ave\, Armadale WA 6112\, Armadale\, Australia
CATEGORIES:Free,Language Class,Library Events
ATTACH;FMTTYPE=image/jpeg:https://seniorocity.com.au/wp-content/uploads/2026/02/My-English-World.jpg
GEO:-32.153;116.015
X-APPLE-STRUCTURED-LOCATION;VALUE=URI;X-ADDRESS=Armadale Library Armadale Central Shopping Centre Shop 64/10 Armadale Central Shopping Centre Orchard Ave Armadale WA 6112 Armadale Australia;X-APPLE-RADIUS=500;X-TITLE=Armadale Central Shopping Centre\, Shop 64/10 Armadale Central Shopping Centre\, Orchard Ave\, Armadale WA 6112:geo:116.015,-32.153
END:VEVENT
BEGIN:VEVENT
DTSTART;TZID=Australia/Perth:20260422T093000
DTEND;TZID=Australia/Perth:20260422T113000
DTSTAMP:20260422T144118
CREATED:20260415T143150Z
LAST-MODIFIED:20260415T143150Z
UID:10865697-1776850200-1776857400@seniorocity.com.au
SUMMARY:Armadale Writers' Group
DESCRIPTION:Writing groups provide an interactive and supportive environment\, offering mentoring and encouragement throughout your writing endeavours. \nNote: Fees apply\, payable to the writing group.
URL:https://seniorocity.com.au/whats-on-perth/armadale-writers-group/2026-04-22/
LOCATION:Armadale Library\, Armadale Central Shopping Centre\, Shop 64/10 Armadale Central Shopping Centre\, Orchard Ave\, Armadale WA 6112\, Armadale\, Australia
CATEGORIES:Free,Library Events,Writers Groups
ATTACH;FMTTYPE=image/jpeg:https://seniorocity.com.au/wp-content/uploads/2026/04/Armadale-Writers-Group.jpg
GEO:-32.153;116.015
X-APPLE-STRUCTURED-LOCATION;VALUE=URI;X-ADDRESS=Armadale Library Armadale Central Shopping Centre Shop 64/10 Armadale Central Shopping Centre Orchard Ave Armadale WA 6112 Armadale Australia;X-APPLE-RADIUS=500;X-TITLE=Armadale Central Shopping Centre\, Shop 64/10 Armadale Central Shopping Centre\, Orchard Ave\, Armadale WA 6112:geo:116.015,-32.153
END:VEVENT
BEGIN:VEVENT
DTSTART;TZID=Australia/Perth:20260422T093000
DTEND;TZID=Australia/Perth:20260422T113000
DTSTAMP:20260422T144118
CREATED:20260102T095349Z
LAST-MODIFIED:20260102T095349Z
UID:10859107-1776850200-1776857400@seniorocity.com.au
SUMMARY:Crocheting and Knitting Group
DESCRIPTION:Do you love to knit or crochet? \nIf you want to meet new people and have a chat while doing something that you love\, then come along to this social crocheting and knitting group. \nWhether you are a beginner or seasoned expert\, all are welcome to attend. \nJust bring your own supplies and come along to our friendly group at the library. \nBookings are not required.
URL:https://seniorocity.com.au/whats-on-perth/crocheting-and-knitting-group-2/2026-04-22/
LOCATION:Armadale Library\, Armadale Central Shopping Centre\, Shop 64/10 Armadale Central Shopping Centre\, Orchard Ave\, Armadale WA 6112\, Armadale\, Australia
CATEGORIES:Free,Knitting
ATTACH;FMTTYPE=image/jpeg:https://seniorocity.com.au/wp-content/uploads/2026/01/Crocheting-and-Knitting-Group.jpg
GEO:-32.153;116.015
X-APPLE-STRUCTURED-LOCATION;VALUE=URI;X-ADDRESS=Armadale Library Armadale Central Shopping Centre Shop 64/10 Armadale Central Shopping Centre Orchard Ave Armadale WA 6112 Armadale Australia;X-APPLE-RADIUS=500;X-TITLE=Armadale Central Shopping Centre\, Shop 64/10 Armadale Central Shopping Centre\, Orchard Ave\, Armadale WA 6112:geo:116.015,-32.153
END:VEVENT
BEGIN:VEVENT
DTSTART;TZID=Australia/Perth:20260416T093000
DTEND;TZID=Australia/Perth:20260416T113000
DTSTAMP:20260422T144118
CREATED:20260102T085259Z
LAST-MODIFIED:20260102T085259Z
UID:10858340-1776331800-1776339000@seniorocity.com.au
SUMMARY:Crocheting and Knitting Group
DESCRIPTION:Do you love to knit or crochet? \nIf you want to meet new people and have a chat while doing something that you love\, then come along to this social crocheting and knitting group. \nWhether you are a beginner or seasoned expert\, all are welcome to attend. \nJust bring your own supplies and come along to our friendly group at the library. \nBookings are not required.
URL:https://seniorocity.com.au/whats-on-perth/crocheting-and-knitting-group/2026-04-16/
LOCATION:Armadale Library\, Armadale Central Shopping Centre\, Shop 64/10 Armadale Central Shopping Centre\, Orchard Ave\, Armadale WA 6112\, Armadale\, Australia
CATEGORIES:Free,Knitting
ATTACH;FMTTYPE=image/jpeg:https://seniorocity.com.au/wp-content/uploads/2026/01/Crocheting-and-Knitting-Group.jpg
GEO:-32.153;116.015
X-APPLE-STRUCTURED-LOCATION;VALUE=URI;X-ADDRESS=Armadale Library Armadale Central Shopping Centre Shop 64/10 Armadale Central Shopping Centre Orchard Ave Armadale WA 6112 Armadale Australia;X-APPLE-RADIUS=500;X-TITLE=Armadale Central Shopping Centre\, Shop 64/10 Armadale Central Shopping Centre\, Orchard Ave\, Armadale WA 6112:geo:116.015,-32.153
END:VEVENT
BEGIN:VEVENT
DTSTART;TZID=Australia/Perth:20260409T140000
DTEND;TZID=Australia/Perth:20260409T160000
DTSTAMP:20260422T144118
CREATED:20260102T091143Z
LAST-MODIFIED:20260102T091143Z
UID:10858632-1775743200-1775750400@seniorocity.com.au
SUMMARY:Men's Social Group
DESCRIPTION:This group is for men interested in meeting and socialising \ntogether. Enjoy the conversation and attend activities regularly \norganised by the group. \nNew members are welcome. \nFirst time attendees are advised to come to the first session of the month as the second session held the fourth Thursday of the Month is out and about. \nRegistrations are not required.
URL:https://seniorocity.com.au/whats-on-perth/mens-social-group-5/2026-04-09/
LOCATION:Armadale Library\, Armadale Central Shopping Centre\, Shop 64/10 Armadale Central Shopping Centre\, Orchard Ave\, Armadale WA 6112\, Armadale\, Australia
CATEGORIES:Free,Library Events,Social
ATTACH;FMTTYPE=image/jpeg:https://seniorocity.com.au/wp-content/uploads/2026/01/Mens-Social-Group.jpg
GEO:-32.153;116.015
X-APPLE-STRUCTURED-LOCATION;VALUE=URI;X-ADDRESS=Armadale Library Armadale Central Shopping Centre Shop 64/10 Armadale Central Shopping Centre Orchard Ave Armadale WA 6112 Armadale Australia;X-APPLE-RADIUS=500;X-TITLE=Armadale Central Shopping Centre\, Shop 64/10 Armadale Central Shopping Centre\, Orchard Ave\, Armadale WA 6112:geo:116.015,-32.153
END:VEVENT
BEGIN:VEVENT
DTSTART;TZID=Australia/Perth:20260324T140000
DTEND;TZID=Australia/Perth:20260324T150000
DTSTAMP:20260422T144118
CREATED:20260210T122612Z
LAST-MODIFIED:20260210T122612Z
UID:10863447-1774360800-1774364400@seniorocity.com.au
SUMMARY:Staying Safe Online
DESCRIPTION:Scams and fraud impacts millions of Australians and the problem is growing. A representative from CommBank will show you how to mitigate this and how you can stay safe online. \nLearn how to: \n• Identify scams and suspicious links \n• Protect yourself from scams and fraud \n• Create strong passwords and keep them secure \n• Securely access online banking \n• Stay digitally safe while travelling. \nThis session is for adults. \nPlease Note: Bookings open 24 February 2026. \nBook Online
URL:https://seniorocity.com.au/whats-on-perth/staying-safe-online-2/
LOCATION:Armadale Library\, Armadale Central Shopping Centre\, Shop 64/10 Armadale Central Shopping Centre\, Orchard Ave\, Armadale WA 6112\, Armadale\, Australia
CATEGORIES:Free,Library Events,Tech
ATTACH;FMTTYPE=image/jpeg:https://seniorocity.com.au/wp-content/uploads/2026/02/Staying-Safe-Online.jpg
GEO:-32.153;116.015
X-APPLE-STRUCTURED-LOCATION;VALUE=URI;X-ADDRESS=Armadale Library Armadale Central Shopping Centre Shop 64/10 Armadale Central Shopping Centre Orchard Ave Armadale WA 6112 Armadale Australia;X-APPLE-RADIUS=500;X-TITLE=Armadale Central Shopping Centre\, Shop 64/10 Armadale Central Shopping Centre\, Orchard Ave\, Armadale WA 6112:geo:116.015,-32.153
END:VEVENT
BEGIN:VEVENT
DTSTART;TZID=Australia/Perth:20260317T180000
DTEND;TZID=Australia/Perth:20260317T193000
DTSTAMP:20260422T144118
CREATED:20260209T134855Z
LAST-MODIFIED:20260209T134855Z
UID:10863443-1773770400-1773775800@seniorocity.com.au
SUMMARY:Creating Totem Sculptures
DESCRIPTION:Join prominent Whadjuk Nyoongar artist\, Sharyn Egan\, in learning the art of Boorungur (totem) making. \nSharyn’s sculptural works often document the relationships between places\, people\, plants and animals while also reminding us of our role as custodians\, to care for the natural world. \nThis workshop offers an opportunity to connect with Nyoongar culture\, while creating a small totem that you connect with. \nThis session is part of the History of Harmony Week series. \nThis session is for adults. \nPlease Note: Bookings open 17 February 2026. \nBook Online
URL:https://seniorocity.com.au/whats-on-perth/creating-totem-sculptures/
LOCATION:Armadale Library\, Armadale Central Shopping Centre\, Shop 64/10 Armadale Central Shopping Centre\, Orchard Ave\, Armadale WA 6112\, Armadale\, Australia
CATEGORIES:Craft,Free,Harmony Week,Library Events
ATTACH;FMTTYPE=image/jpeg:https://seniorocity.com.au/wp-content/uploads/2026/02/Creating-Totem-Sculptures.jpg
GEO:-32.153;116.015
X-APPLE-STRUCTURED-LOCATION;VALUE=URI;X-ADDRESS=Armadale Library Armadale Central Shopping Centre Shop 64/10 Armadale Central Shopping Centre Orchard Ave Armadale WA 6112 Armadale Australia;X-APPLE-RADIUS=500;X-TITLE=Armadale Central Shopping Centre\, Shop 64/10 Armadale Central Shopping Centre\, Orchard Ave\, Armadale WA 6112:geo:116.015,-32.153
END:VEVENT
BEGIN:VEVENT
DTSTART;TZID=Australia/Perth:20260316T180000
DTEND;TZID=Australia/Perth:20260316T193000
DTSTAMP:20260422T144118
CREATED:20260209T132337Z
LAST-MODIFIED:20260209T132337Z
UID:10863442-1773684000-1773689400@seniorocity.com.au
SUMMARY:Tatreez with Lana (Armadale)
DESCRIPTION:Tatreez is an ancient form of Palestinian hand embroidery. \nLana Kalis is an emerging artist whose family is from Jerusalem. \nShe uses mixed media to bring together historic family photos with traditional Palestinian cross-stitch techniques. \nLearn the art of tatreez using a historic photo from Lana’s private collection to create your own artwork to keep. \nThis session is part of the History of Harmony Week series. \nThese sessions are for adults. \nPlease Note: Bookings open 16 February 2026. \nBook Now
URL:https://seniorocity.com.au/whats-on-perth/tatreez-with-lana-armadale/
LOCATION:Armadale Library\, Armadale Central Shopping Centre\, Shop 64/10 Armadale Central Shopping Centre\, Orchard Ave\, Armadale WA 6112\, Armadale\, Australia
CATEGORIES:Craft,Free,Harmony Week,Library Events
ATTACH;FMTTYPE=image/jpeg:https://seniorocity.com.au/wp-content/uploads/2026/02/Tatreez-with-Lana-Armadale.jpg
GEO:-32.153;116.015
X-APPLE-STRUCTURED-LOCATION;VALUE=URI;X-ADDRESS=Armadale Library Armadale Central Shopping Centre Shop 64/10 Armadale Central Shopping Centre Orchard Ave Armadale WA 6112 Armadale Australia;X-APPLE-RADIUS=500;X-TITLE=Armadale Central Shopping Centre\, Shop 64/10 Armadale Central Shopping Centre\, Orchard Ave\, Armadale WA 6112:geo:116.015,-32.153
END:VEVENT
BEGIN:VEVENT
DTSTART;TZID=Australia/Perth:20260312T180000
DTEND;TZID=Australia/Perth:20260312T190000
DTSTAMP:20260422T144118
CREATED:20260209T123820Z
LAST-MODIFIED:20260209T123820Z
UID:10863430-1773338400-1773342000@seniorocity.com.au
SUMMARY:Danielle Sartorelli: Life in Instalments
DESCRIPTION:Life in Instalments is the hauntingly honest debut by first-time author Danielle Sartorelli — a storyteller not by choice\, but by necessity. \nBorn from years of silent suffering\, her memoir gives voice to what so many endure in the shadows: the heartbreak of watching a loved one disappear into addiction\, prison\, and a system that never lets go. \nCome hear Danielle share the story behind the pages — a story of love\, loss\, resilience\, and the power of finally telling the truth. \nThis session is for adults. \nPlease Note: Bookings open 12 February 2026. \nBook Now
URL:https://seniorocity.com.au/whats-on-perth/danielle-sartorelli-life-in-instalments/
LOCATION:Armadale Library\, Armadale Central Shopping Centre\, Shop 64/10 Armadale Central Shopping Centre\, Orchard Ave\, Armadale WA 6112\, Armadale\, Australia
CATEGORIES:Free,Library Events
ATTACH;FMTTYPE=image/jpeg:https://seniorocity.com.au/wp-content/uploads/2026/02/Danielle-Sartorelli-Life-in-Instalments.jpg
GEO:-32.153;116.015
X-APPLE-STRUCTURED-LOCATION;VALUE=URI;X-ADDRESS=Armadale Library Armadale Central Shopping Centre Shop 64/10 Armadale Central Shopping Centre Orchard Ave Armadale WA 6112 Armadale Australia;X-APPLE-RADIUS=500;X-TITLE=Armadale Central Shopping Centre\, Shop 64/10 Armadale Central Shopping Centre\, Orchard Ave\, Armadale WA 6112:geo:116.015,-32.153
END:VEVENT
BEGIN:VEVENT
DTSTART;TZID=Australia/Perth:20260310T140000
DTEND;TZID=Australia/Perth:20260310T153000
DTSTAMP:20260422T144118
CREATED:20260208T081144Z
LAST-MODIFIED:20260208T081144Z
UID:10863428-1773151200-1773156600@seniorocity.com.au
SUMMARY:Cultivating Gratefulness Gatherings
DESCRIPTION:Join us each month for connection\, meaning making\, and the tools to live gratefully. \nExplore themes such as delight\, mystery\, joy\, imperfection\, play\, and awe\, and engage with meaningful materials to foster purposeful connections. Share and learn in a safe environment\, connecting with others to cultivate a grateful life and community. \nCultivating Gratefulness Gatherings draw on resources from Grateful Living and are hosted by people like Karen from Befriend who have completed Grateful Living’s training program. \nBookings are essential for each session and can be made at the end of the previous session. \nBook Online
URL:https://seniorocity.com.au/whats-on-perth/cultivating-gratefulness-gatherings/
LOCATION:Armadale Library\, Armadale Central Shopping Centre\, Shop 64/10 Armadale Central Shopping Centre\, Orchard Ave\, Armadale WA 6112\, Armadale\, Australia
CATEGORIES:Free,Library Events
ATTACH;FMTTYPE=image/jpeg:https://seniorocity.com.au/wp-content/uploads/2026/02/Cultivating-Gratefulness-Gatherings.jpg
GEO:-32.153;116.015
X-APPLE-STRUCTURED-LOCATION;VALUE=URI;X-ADDRESS=Armadale Library Armadale Central Shopping Centre Shop 64/10 Armadale Central Shopping Centre Orchard Ave Armadale WA 6112 Armadale Australia;X-APPLE-RADIUS=500;X-TITLE=Armadale Central Shopping Centre\, Shop 64/10 Armadale Central Shopping Centre\, Orchard Ave\, Armadale WA 6112:geo:116.015,-32.153
END:VEVENT
BEGIN:VEVENT
DTSTART;TZID=Australia/Perth:20260307T103000
DTEND;TZID=Australia/Perth:20260307T113000
DTSTAMP:20260422T144118
CREATED:20260208T074214Z
LAST-MODIFIED:20260208T074214Z
UID:10863426-1772879400-1772883000@seniorocity.com.au
SUMMARY:In conversation with: Bron Bateman and Reneé Pettitt-Schipp
DESCRIPTION:Join us as we celebrate International Women’s Day! \nBron Bateman and Reneé Pettitt-Schipp will share how their own experiences shaped their contributions to the anthologies Women of a Certain Courage and Women of a Certain Rage. \nThis session is recommended for adults. \nBooks will be available for purchase and signing. \nPlease Note: Bookings open 7 February 2026. \nBook Online
URL:https://seniorocity.com.au/whats-on-perth/in-conversation-with-bron-bateman-and-renee-pettitt-schipp/
LOCATION:Armadale Library\, Armadale Central Shopping Centre\, Shop 64/10 Armadale Central Shopping Centre\, Orchard Ave\, Armadale WA 6112\, Armadale\, Australia
CATEGORIES:Free,Library Events
ATTACH;FMTTYPE=image/jpeg:https://seniorocity.com.au/wp-content/uploads/2026/02/In-conversation-with-Bron-Bateman-and-Renee-Pettitt-Schipp.jpg
GEO:-32.153;116.015
X-APPLE-STRUCTURED-LOCATION;VALUE=URI;X-ADDRESS=Armadale Library Armadale Central Shopping Centre Shop 64/10 Armadale Central Shopping Centre Orchard Ave Armadale WA 6112 Armadale Australia;X-APPLE-RADIUS=500;X-TITLE=Armadale Central Shopping Centre\, Shop 64/10 Armadale Central Shopping Centre\, Orchard Ave\, Armadale WA 6112:geo:116.015,-32.153
END:VEVENT
END:VCALENDAR