BEGIN:VCALENDAR
VERSION:2.0
PRODID:-//Seniorocity - Seniors / Over 55&#039;s Guide to Perth - ECPv6.15.11//NONSGML v1.0//EN
CALSCALE:GREGORIAN
METHOD:PUBLISH
X-ORIGINAL-URL:https://seniorocity.com.au
X-WR-CALDESC:Events for Seniorocity - Seniors / Over 55&#039;s Guide to Perth
REFRESH-INTERVAL;VALUE=DURATION:PT1H
X-Robots-Tag:noindex
X-PUBLISHED-TTL:PT1H
BEGIN:VTIMEZONE
TZID:Australia/Perth
BEGIN:STANDARD
TZOFFSETFROM:+0800
TZOFFSETTO:+0800
TZNAME:AWST
DTSTART:20250101T000000
END:STANDARD
END:VTIMEZONE
BEGIN:VEVENT
DTSTART;TZID=Australia/Perth:20260422T093000
DTEND;TZID=Australia/Perth:20260422T113000
DTSTAMP:20260422T065043
CREATED:20260102T095349Z
LAST-MODIFIED:20260102T095349Z
UID:10859107-1776850200-1776857400@seniorocity.com.au
SUMMARY:Crocheting and Knitting Group
DESCRIPTION:Do you love to knit or crochet? \nIf you want to meet new people and have a chat while doing something that you love\, then come along to this social crocheting and knitting group. \nWhether you are a beginner or seasoned expert\, all are welcome to attend. \nJust bring your own supplies and come along to our friendly group at the library. \nBookings are not required.
URL:https://seniorocity.com.au/whats-on-perth/crocheting-and-knitting-group-2/2026-04-22/
LOCATION:Armadale Library\, Armadale Central Shopping Centre\, Shop 64/10 Armadale Central Shopping Centre\, Orchard Ave\, Armadale WA 6112\, Armadale\, Australia
CATEGORIES:Free,Knitting
ATTACH;FMTTYPE=image/jpeg:https://seniorocity.com.au/wp-content/uploads/2026/01/Crocheting-and-Knitting-Group.jpg
GEO:-32.153;116.015
X-APPLE-STRUCTURED-LOCATION;VALUE=URI;X-ADDRESS=Armadale Library Armadale Central Shopping Centre Shop 64/10 Armadale Central Shopping Centre Orchard Ave Armadale WA 6112 Armadale Australia;X-APPLE-RADIUS=500;X-TITLE=Armadale Central Shopping Centre\, Shop 64/10 Armadale Central Shopping Centre\, Orchard Ave\, Armadale WA 6112:geo:116.015,-32.153
END:VEVENT
BEGIN:VEVENT
DTSTART;TZID=Australia/Perth:20260422T093000
DTEND;TZID=Australia/Perth:20260422T113000
DTSTAMP:20260422T065043
CREATED:20260415T143150Z
LAST-MODIFIED:20260415T143150Z
UID:10865697-1776850200-1776857400@seniorocity.com.au
SUMMARY:Armadale Writers' Group
DESCRIPTION:Writing groups provide an interactive and supportive environment\, offering mentoring and encouragement throughout your writing endeavours. \nNote: Fees apply\, payable to the writing group.
URL:https://seniorocity.com.au/whats-on-perth/armadale-writers-group/2026-04-22/
LOCATION:Armadale Library\, Armadale Central Shopping Centre\, Shop 64/10 Armadale Central Shopping Centre\, Orchard Ave\, Armadale WA 6112\, Armadale\, Australia
CATEGORIES:Free,Library Events,Writers Groups
ATTACH;FMTTYPE=image/jpeg:https://seniorocity.com.au/wp-content/uploads/2026/04/Armadale-Writers-Group.jpg
GEO:-32.153;116.015
X-APPLE-STRUCTURED-LOCATION;VALUE=URI;X-ADDRESS=Armadale Library Armadale Central Shopping Centre Shop 64/10 Armadale Central Shopping Centre Orchard Ave Armadale WA 6112 Armadale Australia;X-APPLE-RADIUS=500;X-TITLE=Armadale Central Shopping Centre\, Shop 64/10 Armadale Central Shopping Centre\, Orchard Ave\, Armadale WA 6112:geo:116.015,-32.153
END:VEVENT
BEGIN:VEVENT
DTSTART;TZID=Australia/Perth:20260422T130000
DTEND;TZID=Australia/Perth:20260422T133000
DTSTAMP:20260422T065043
CREATED:20260208T064905Z
LAST-MODIFIED:20260208T064905Z
UID:10863334-1776862800-1776864600@seniorocity.com.au
SUMMARY:My English World
DESCRIPTION:Come and join a social group to develop and practice your conversational English. \nParticipants will engage in different activities each week led by a representative from Matchworks. \nThese sessions are for adults. Bookings are not required.
URL:https://seniorocity.com.au/whats-on-perth/my-english-world/2026-04-22/
LOCATION:Armadale Library\, Armadale Central Shopping Centre\, Shop 64/10 Armadale Central Shopping Centre\, Orchard Ave\, Armadale WA 6112\, Armadale\, Australia
CATEGORIES:Free,Language Class,Library Events
ATTACH;FMTTYPE=image/jpeg:https://seniorocity.com.au/wp-content/uploads/2026/02/My-English-World.jpg
GEO:-32.153;116.015
X-APPLE-STRUCTURED-LOCATION;VALUE=URI;X-ADDRESS=Armadale Library Armadale Central Shopping Centre Shop 64/10 Armadale Central Shopping Centre Orchard Ave Armadale WA 6112 Armadale Australia;X-APPLE-RADIUS=500;X-TITLE=Armadale Central Shopping Centre\, Shop 64/10 Armadale Central Shopping Centre\, Orchard Ave\, Armadale WA 6112:geo:116.015,-32.153
END:VEVENT
BEGIN:VEVENT
DTSTART;TZID=Australia/Perth:20260423T093000
DTEND;TZID=Australia/Perth:20260423T113000
DTSTAMP:20260422T065043
CREATED:20260102T085259Z
LAST-MODIFIED:20260102T085259Z
UID:10858341-1776936600-1776943800@seniorocity.com.au
SUMMARY:Crocheting and Knitting Group
DESCRIPTION:Do you love to knit or crochet? \nIf you want to meet new people and have a chat while doing something that you love\, then come along to this social crocheting and knitting group. \nWhether you are a beginner or seasoned expert\, all are welcome to attend. \nJust bring your own supplies and come along to our friendly group at the library. \nBookings are not required.
URL:https://seniorocity.com.au/whats-on-perth/crocheting-and-knitting-group/2026-04-23/
LOCATION:Armadale Library\, Armadale Central Shopping Centre\, Shop 64/10 Armadale Central Shopping Centre\, Orchard Ave\, Armadale WA 6112\, Armadale\, Australia
CATEGORIES:Free,Knitting
ATTACH;FMTTYPE=image/jpeg:https://seniorocity.com.au/wp-content/uploads/2026/01/Crocheting-and-Knitting-Group.jpg
GEO:-32.153;116.015
X-APPLE-STRUCTURED-LOCATION;VALUE=URI;X-ADDRESS=Armadale Library Armadale Central Shopping Centre Shop 64/10 Armadale Central Shopping Centre Orchard Ave Armadale WA 6112 Armadale Australia;X-APPLE-RADIUS=500;X-TITLE=Armadale Central Shopping Centre\, Shop 64/10 Armadale Central Shopping Centre\, Orchard Ave\, Armadale WA 6112:geo:116.015,-32.153
END:VEVENT
BEGIN:VEVENT
DTSTART;TZID=Australia/Perth:20260505T133000
DTEND;TZID=Australia/Perth:20260505T163000
DTSTAMP:20260422T065043
CREATED:20260415T082214Z
LAST-MODIFIED:20260415T082214Z
UID:10865679-1777987800-1777998600@seniorocity.com.au
SUMMARY:Textile Art: Flower Fun
DESCRIPTION:Textile artist Angela Ferolla will guide participants in creating a fabric collage inspired by Armadale’s vibrant wildflowers. \nBy reusing textile scraps that would have been discarded\, this workshop promotes sustainability while encouraging you to express your creativity in new ways. \nThis session is for adults. \nPlease Note: Bookings open 5 April 2026. \n\nBook Online
URL:https://seniorocity.com.au/whats-on-perth/textile-art-flower-fun/
LOCATION:Armadale Library\, Armadale Central Shopping Centre\, Shop 64/10 Armadale Central Shopping Centre\, Orchard Ave\, Armadale WA 6112\, Armadale\, Australia
CATEGORIES:Activity Class,Craft,Free,Library Events,Workshop
ATTACH;FMTTYPE=image/jpeg:https://seniorocity.com.au/wp-content/uploads/2026/04/Textile-Art-Flower-Fun.jpg
GEO:-32.153;116.015
X-APPLE-STRUCTURED-LOCATION;VALUE=URI;X-ADDRESS=Armadale Library Armadale Central Shopping Centre Shop 64/10 Armadale Central Shopping Centre Orchard Ave Armadale WA 6112 Armadale Australia;X-APPLE-RADIUS=500;X-TITLE=Armadale Central Shopping Centre\, Shop 64/10 Armadale Central Shopping Centre\, Orchard Ave\, Armadale WA 6112:geo:116.015,-32.153
END:VEVENT
BEGIN:VEVENT
DTSTART;TZID=Australia/Perth:20260509T103000
DTEND;TZID=Australia/Perth:20260509T113000
DTSTAMP:20260422T065043
CREATED:20260415T134913Z
LAST-MODIFIED:20260415T134913Z
UID:10865691-1778322600-1778326200@seniorocity.com.au
SUMMARY:Wendy Jackson: Mother Becoming
DESCRIPTION:Come along and hear Wendy share about her book Mother Becoming. \nWendy is a retired midwife who is passionate about empowering mothers in their pregnancy\, birthing and early mothering journey towards emotional and physical wellness. \nShe supports women to advocate for themselves and cultivate self-trust\, so they can realise their own immense power and worth. \nThis is a family friendly session. \nPlease Note: Bookings open 9 April 2026. \nBook Online
URL:https://seniorocity.com.au/whats-on-perth/wendy-jackson-mother-becoming/
LOCATION:Armadale Library\, Armadale Central Shopping Centre\, Shop 64/10 Armadale Central Shopping Centre\, Orchard Ave\, Armadale WA 6112\, Armadale\, Australia
CATEGORIES:Free,Library Events
ATTACH;FMTTYPE=image/jpeg:https://seniorocity.com.au/wp-content/uploads/2026/04/Wendy-Jackson-Mother-Becoming.jpg
GEO:-32.153;116.015
X-APPLE-STRUCTURED-LOCATION;VALUE=URI;X-ADDRESS=Armadale Library Armadale Central Shopping Centre Shop 64/10 Armadale Central Shopping Centre Orchard Ave Armadale WA 6112 Armadale Australia;X-APPLE-RADIUS=500;X-TITLE=Armadale Central Shopping Centre\, Shop 64/10 Armadale Central Shopping Centre\, Orchard Ave\, Armadale WA 6112:geo:116.015,-32.153
END:VEVENT
BEGIN:VEVENT
DTSTART;TZID=Australia/Perth:20260514T140000
DTEND;TZID=Australia/Perth:20260514T160000
DTSTAMP:20260422T065043
CREATED:20260102T091143Z
LAST-MODIFIED:20260102T091143Z
UID:10858633-1778767200-1778774400@seniorocity.com.au
SUMMARY:Men's Social Group
DESCRIPTION:This group is for men interested in meeting and socialising \ntogether. Enjoy the conversation and attend activities regularly \norganised by the group. \nNew members are welcome. \nFirst time attendees are advised to come to the first session of the month as the second session held the fourth Thursday of the Month is out and about. \nRegistrations are not required.
URL:https://seniorocity.com.au/whats-on-perth/mens-social-group-5/2026-05-14/
LOCATION:Armadale Library\, Armadale Central Shopping Centre\, Shop 64/10 Armadale Central Shopping Centre\, Orchard Ave\, Armadale WA 6112\, Armadale\, Australia
CATEGORIES:Free,Library Events,Social
ATTACH;FMTTYPE=image/jpeg:https://seniorocity.com.au/wp-content/uploads/2026/01/Mens-Social-Group.jpg
GEO:-32.153;116.015
X-APPLE-STRUCTURED-LOCATION;VALUE=URI;X-ADDRESS=Armadale Library Armadale Central Shopping Centre Shop 64/10 Armadale Central Shopping Centre Orchard Ave Armadale WA 6112 Armadale Australia;X-APPLE-RADIUS=500;X-TITLE=Armadale Central Shopping Centre\, Shop 64/10 Armadale Central Shopping Centre\, Orchard Ave\, Armadale WA 6112:geo:116.015,-32.153
END:VEVENT
BEGIN:VEVENT
DTSTART;TZID=Australia/Perth:20260520T173000
DTEND;TZID=Australia/Perth:20260520T183000
DTSTAMP:20260422T065043
CREATED:20260415T143720Z
LAST-MODIFIED:20260415T143720Z
UID:10865732-1779298200-1779301800@seniorocity.com.au
SUMMARY:Only You: the unexpected gift of being alone
DESCRIPTION:In a world obsessed with finding “the one\,” therapist and mindset coach Dr Marny Lishman is asking a radical question: What if the most transformative relationship you’ll ever have is the one with yourself? \nIn her book Only You: The Unexpected Gift of Being Alone she offers evidence-based strategies for transforming solitude from something to fear into a powerful catalyst for personal growth. \nBooks will be available to purchase on the night and the author on hand for signing. \nThis session is for adults. \nPlease Note: Bookings open 20 April 2026. \nBook Online
URL:https://seniorocity.com.au/whats-on-perth/only-you-the-unexpected-gift-of-being-alone/
LOCATION:Armadale Library\, Armadale Central Shopping Centre\, Shop 64/10 Armadale Central Shopping Centre\, Orchard Ave\, Armadale WA 6112\, Armadale\, Australia
CATEGORIES:Free,Library Events
ATTACH;FMTTYPE=image/jpeg:https://seniorocity.com.au/wp-content/uploads/2026/04/Only-You-the-unexpected-gift-of-being-alone.jpg
GEO:-32.153;116.015
X-APPLE-STRUCTURED-LOCATION;VALUE=URI;X-ADDRESS=Armadale Library Armadale Central Shopping Centre Shop 64/10 Armadale Central Shopping Centre Orchard Ave Armadale WA 6112 Armadale Australia;X-APPLE-RADIUS=500;X-TITLE=Armadale Central Shopping Centre\, Shop 64/10 Armadale Central Shopping Centre\, Orchard Ave\, Armadale WA 6112:geo:116.015,-32.153
END:VEVENT
END:VCALENDAR