BEGIN:VCALENDAR
VERSION:2.0
PRODID:-//Seniorocity - Seniors / Over 55&#039;s Guide to Perth - ECPv6.15.11//NONSGML v1.0//EN
CALSCALE:GREGORIAN
METHOD:PUBLISH
X-WR-CALNAME:Seniorocity - Seniors / Over 55&#039;s Guide to Perth
X-ORIGINAL-URL:https://seniorocity.com.au
X-WR-CALDESC:Events for Seniorocity - Seniors / Over 55&#039;s Guide to Perth
REFRESH-INTERVAL;VALUE=DURATION:PT1H
X-Robots-Tag:noindex
X-PUBLISHED-TTL:PT1H
BEGIN:VTIMEZONE
TZID:Australia/Perth
BEGIN:STANDARD
TZOFFSETFROM:+0800
TZOFFSETTO:+0800
TZNAME:AWST
DTSTART:20250101T000000
END:STANDARD
END:VTIMEZONE
BEGIN:VEVENT
DTSTART;TZID=Australia/Perth:20260423T100000
DTEND;TZID=Australia/Perth:20260423T160000
DTSTAMP:20260422T162302
CREATED:20260104T144436Z
LAST-MODIFIED:20260104T144436Z
UID:10860647-1776938400-1776960000@seniorocity.com.au
SUMMARY:Exhibition | Creating Meaning
DESCRIPTION:An exhibition by Richmind and other artists\, to promote the benefits of art for all our mental health. \nCreating Meaning \n✰ Opening Event ✰\nSunday\, 4 January\n2:00pm to 4.00pm \nAn exhibition by Richmind and other artists\, to promote the benefits of art for all our mental health and raise funds for Richmind WA’s Mental Health Services Art Therapy Program\, “HeART & Soul”. \nCurated by Richmind’s Principal Artist in Residence and “Creative Therapies Coordinator David Giles \n~~~~~~~~~~~~~~~\nThe HeART & Soul art project began as a simple distraction activity created to support people through the Christmas period\, a sometimes difficult and isolating time of year. The obvious benefits of meeting in a safe friendly supportive positive and encouraging space to create art\, led to the program becoming ongoing and a new focus of Richmind’s recovery approach and brand. \nThis exhibition celebrates the numerous and profound benefits art can have on our mental health and the amazing diversity of ways people can express themselves creatively to support their wellbeing. The brief for the artists was “What brings meaning to my life?”\n~~~~~~~~~~~~~~~ \n40% of all sales donated to Richmind \nArt demos by David Giles at 11.00am on\n– Wednesday\, 7 January\n– Thursday\, 8 January\n– Friday\, 9 January\n– Wednesday\, 14 January\n– Thursday\, 15 January\n– Friday\, 16 January \nPainting as Therapy Workshops with David Giles\nSunday\, 4 January and Sunday\, 11 January
URL:https://seniorocity.com.au/whats-on-perth/exhibition-creating-meaning/2026-04-23/
LOCATION:Atwell House & Gallery\, 586 Canning Hwy\, Alfred Cove\, WA\, 6154\, Australia
CATEGORIES:Art Gallery,Exhibition,Free
ATTACH;FMTTYPE=image/jpeg:https://seniorocity.com.au/wp-content/uploads/2026/01/Exhibition-Creating-Meaning.jpg
END:VEVENT
BEGIN:VEVENT
DTSTART;TZID=Australia/Perth:20260427T123000
DTEND;TZID=Australia/Perth:20260427T153000
DTSTAMP:20260422T162302
CREATED:20260104T145058Z
LAST-MODIFIED:20260104T145058Z
UID:10860934-1777293000-1777303800@seniorocity.com.au
SUMMARY:Open House Art Group @ Atwell House (Mondays)
DESCRIPTION:Open House Art Group @ Atwell House\nMondays | 12.30pm to 3.30pm | Room 2 | $5 \nFor artists of all levels\, these sessions are for people looking for a casual\, supportive and social environment with other local artists. BYO project and all materials. \nImage: Lesley Marshall painting at Atwell House \n 
URL:https://seniorocity.com.au/whats-on-perth/open-house-art-group-atwell-house-mondays/2026-04-27/
LOCATION:Atwell House & Gallery\, 586 Canning Hwy\, Alfred Cove\, WA\, 6154\, Australia
CATEGORIES:Craft,Social,Workshop
ATTACH;FMTTYPE=image/jpeg:https://seniorocity.com.au/wp-content/uploads/2026/01/Open-House-Art-Group-@-Atwell-House-Mondays.jpg
END:VEVENT
END:VCALENDAR