BEGIN:VCALENDAR
VERSION:2.0
PRODID:-//Seniorocity - Seniors / Over 55&#039;s Guide to Perth - ECPv6.15.11//NONSGML v1.0//EN
CALSCALE:GREGORIAN
METHOD:PUBLISH
X-ORIGINAL-URL:https://seniorocity.com.au
X-WR-CALDESC:Events for Seniorocity - Seniors / Over 55&#039;s Guide to Perth
REFRESH-INTERVAL;VALUE=DURATION:PT1H
X-Robots-Tag:noindex
X-PUBLISHED-TTL:PT1H
BEGIN:VTIMEZONE
TZID:Australia/Perth
BEGIN:STANDARD
TZOFFSETFROM:+0800
TZOFFSETTO:+0800
TZNAME:AWST
DTSTART:20250101T000000
END:STANDARD
END:VTIMEZONE
BEGIN:VEVENT
DTSTART;TZID=Australia/Perth:20260404T150000
DTEND;TZID=Australia/Perth:20260404T190000
DTSTAMP:20260421T151450
CREATED:20260325T141404Z
LAST-MODIFIED:20260325T141404Z
UID:10865121-1775314800-1775329200@seniorocity.com.au
SUMMARY:Easter Fair 2026
DESCRIPTION:An eggstra special event\nEveryone’s favourite FREE Easter Fair is back for another big year in 2026. Hop down to Aubin Grove Reserve on Easter Saturday 4 April from 3-7pm to take part in the fun. With a huge range of family-friendly activities\, market stalls\, food trucks and roving entertainment to enjoy\, you won’t want to miss a moment of the action.
URL:https://seniorocity.com.au/whats-on-perth/easter-fair-2026/
LOCATION:Aubin Grove Sport and Community Facility\, Camden Blvd\, Aubin Grove\, WA\, 6164\, Australia
CATEGORIES:Community Event,Easter,Family Event,Free
ATTACH;FMTTYPE=image/jpeg:https://seniorocity.com.au/wp-content/uploads/2026/03/Easter-Fair-2026.jpg
END:VEVENT
BEGIN:VEVENT
DTSTART;TZID=Australia/Perth:20260404T150000
DTEND;TZID=Australia/Perth:20260404T190000
DTSTAMP:20260421T151450
CREATED:20260302T144547Z
LAST-MODIFIED:20260302T144547Z
UID:10863972-1775314800-1775329200@seniorocity.com.au
SUMMARY:Easter Fair
DESCRIPTION:Eggciting times for everyone\nOn the hunt for a great way to spend Easter Saturday? The Cockburn Easter Fair is the answer! Hop down to Aubin Grove for Twilight Markets\, free entertainment and activities\, a wide range of food trucks to explore\, and much more. Here’s just a little taste of what you can expect: \n\nLive music and roving entertainment\nEaster crafts and face painting\nA kids activity zone\nInflatable slides and obstacle courses\nJandakot Volunteer Bushfire Brigade\nAubin Grove Twilight Markets\nA special visit from the Easter Bunny\nFood vendors (for purchase).\n\nFood for thought\nHungry bunnies will be well catered for at the event\, with plenty of delicious food and beverage options to choose from. Lineup coming soon. \nAubin Grove Twilight Markets\nBaskets of choice will await you at the Easter Fair\, with the Aubin Grove Twilight Markets showcasing a variety of fresh produce\, handcrafted arts and crafts\, gift ideas and treats for you to browse. \nView the wide list of stallholders soon. \nA feel-good event\nOur Easter Fair event is carbon neutral! What does that mean?\nThe carbon emissions released by this event (such as attendee travel and food consumed and onsite generators) have been offset by the City through investing in planting mixed native trees and shrubs in Western Australia\, and permanently cancelling international carbon credits.
URL:https://seniorocity.com.au/whats-on-perth/easter-fair/
LOCATION:Aubin Grove Sport and Community Facility\, Camden Blvd\, Aubin Grove\, WA\, 6164\, Australia
CATEGORIES:Community Event,Easter,Fair,Markets
ATTACH;FMTTYPE=image/jpeg:https://seniorocity.com.au/wp-content/uploads/2026/03/Easter-Fair.jpg
END:VEVENT
END:VCALENDAR