BEGIN:VCALENDAR
VERSION:2.0
PRODID:-//Seniorocity - Seniors / Over 55&#039;s Guide to Perth - ECPv6.15.11//NONSGML v1.0//EN
CALSCALE:GREGORIAN
METHOD:PUBLISH
X-ORIGINAL-URL:https://seniorocity.com.au
X-WR-CALDESC:Events for Seniorocity - Seniors / Over 55&#039;s Guide to Perth
REFRESH-INTERVAL;VALUE=DURATION:PT1H
X-Robots-Tag:noindex
X-PUBLISHED-TTL:PT1H
BEGIN:VTIMEZONE
TZID:Australia/Perth
BEGIN:STANDARD
TZOFFSETFROM:+0800
TZOFFSETTO:+0800
TZNAME:AWST
DTSTART:20250101T000000
END:STANDARD
END:VTIMEZONE
BEGIN:VEVENT
DTSTART;TZID=Australia/Perth:20260417T110000
DTEND;TZID=Australia/Perth:20260417T130000
DTSTAMP:20260420T112439
CREATED:20260405T124858Z
LAST-MODIFIED:20260405T124858Z
UID:10865372-1776423600-1776430800@seniorocity.com.au
SUMMARY:TECH Connect
DESCRIPTION:Personalised help with your specific queries relating to the internet and technology.
URL:https://seniorocity.com.au/whats-on-perth/tech-connect-48/
LOCATION:Australind Public Library\, 7 Mulgara Street\, Australind\, WA\, 6233\, Australia
CATEGORIES:Tech
ATTACH;FMTTYPE=image/jpeg:https://seniorocity.com.au/wp-content/uploads/2025/07/c32d4cac6d25bcb1b7f9ffb031165fb0.jpg
END:VEVENT
BEGIN:VEVENT
DTSTART;TZID=Australia/Perth:20260413T133000
DTEND;TZID=Australia/Perth:20260413T143000
DTSTAMP:20260420T112439
CREATED:20250713T082748Z
LAST-MODIFIED:20260206T160541Z
UID:10791569-1776087000-1776090600@seniorocity.com.au
SUMMARY:Book and Movie Club
DESCRIPTION:Are you looking for a book club with a difference? Then this one is for you!
URL:https://seniorocity.com.au/whats-on-perth/book-and-movie-club-9/
LOCATION:Australind Public Library\, 7 Mulgara Street\, Australind\, WA\, 6233\, Australia
CATEGORIES:Club,Movies
ATTACH;FMTTYPE=image/jpeg:https://seniorocity.com.au/wp-content/uploads/2025/07/a9d68383f6aa5c1c885649b6c7b42e5a.jpg
END:VEVENT
BEGIN:VEVENT
DTSTART;TZID=Australia/Perth:20260413T130000
DTEND;TZID=Australia/Perth:20260413T160000
DTSTAMP:20260420T112439
CREATED:20260405T124857Z
LAST-MODIFIED:20260405T124857Z
UID:10865371-1776085200-1776096000@seniorocity.com.au
SUMMARY:TECH Connect
DESCRIPTION:Personalised help with your specific queries relating to the internet and technology.
URL:https://seniorocity.com.au/whats-on-perth/tech-connect-47/
LOCATION:Australind Public Library\, 7 Mulgara Street\, Australind\, WA\, 6233\, Australia
CATEGORIES:Tech
ATTACH;FMTTYPE=image/jpeg:https://seniorocity.com.au/wp-content/uploads/2025/07/c32d4cac6d25bcb1b7f9ffb031165fb0.jpg
END:VEVENT
BEGIN:VEVENT
DTSTART;TZID=Australia/Perth:20260410T110000
DTEND;TZID=Australia/Perth:20260410T130000
DTSTAMP:20260420T112439
CREATED:20260405T124856Z
LAST-MODIFIED:20260405T124856Z
UID:10865370-1775818800-1775826000@seniorocity.com.au
SUMMARY:TECH Connect
DESCRIPTION:Personalised help with your specific queries relating to the internet and technology.
URL:https://seniorocity.com.au/whats-on-perth/tech-connect-46/
LOCATION:Australind Public Library\, 7 Mulgara Street\, Australind\, WA\, 6233\, Australia
CATEGORIES:Tech
ATTACH;FMTTYPE=image/jpeg:https://seniorocity.com.au/wp-content/uploads/2025/07/c32d4cac6d25bcb1b7f9ffb031165fb0.jpg
END:VEVENT
BEGIN:VEVENT
DTSTART;TZID=Australia/Perth:20260406T130000
DTEND;TZID=Australia/Perth:20260406T160000
DTSTAMP:20260420T112439
CREATED:20260405T124855Z
LAST-MODIFIED:20260405T124855Z
UID:10865369-1775480400-1775491200@seniorocity.com.au
SUMMARY:TECH Connect
DESCRIPTION:Personalised help with your specific queries relating to the internet and technology.
URL:https://seniorocity.com.au/whats-on-perth/tech-connect-45/
LOCATION:Australind Public Library\, 7 Mulgara Street\, Australind\, WA\, 6233\, Australia
CATEGORIES:Tech
ATTACH;FMTTYPE=image/jpeg:https://seniorocity.com.au/wp-content/uploads/2025/07/c32d4cac6d25bcb1b7f9ffb031165fb0.jpg
END:VEVENT
BEGIN:VEVENT
DTSTART;TZID=Australia/Perth:20260309T133000
DTEND;TZID=Australia/Perth:20260309T143000
DTSTAMP:20260420T112439
CREATED:20250713T082748Z
LAST-MODIFIED:20260206T160521Z
UID:10791568-1773063000-1773066600@seniorocity.com.au
SUMMARY:Book and Movie Club
DESCRIPTION:Are you looking for a book club with a difference? Then this one is for you!
URL:https://seniorocity.com.au/whats-on-perth/book-and-movie-club-8/
LOCATION:Australind Public Library\, 7 Mulgara Street\, Australind\, WA\, 6233\, Australia
CATEGORIES:Club,Movies
ATTACH;FMTTYPE=image/jpeg:https://seniorocity.com.au/wp-content/uploads/2025/07/a9d68383f6aa5c1c885649b6c7b42e5a.jpg
END:VEVENT
BEGIN:VEVENT
DTSTART;TZID=Australia/Perth:20260202T133000
DTEND;TZID=Australia/Perth:20260202T143000
DTSTAMP:20260420T112439
CREATED:20250713T082747Z
LAST-MODIFIED:20251105T130708Z
UID:10791567-1770039000-1770042600@seniorocity.com.au
SUMMARY:Book and Movie Club
DESCRIPTION:Are you looking for a book club with a difference? Then this one is for you!
URL:https://seniorocity.com.au/whats-on-perth/book-and-movie-club-7/
LOCATION:Australind Public Library\, 7 Mulgara Street\, Australind\, WA\, 6233\, Australia
CATEGORIES:Club,Movies
ATTACH;FMTTYPE=image/jpeg:https://seniorocity.com.au/wp-content/uploads/2025/07/a9d68383f6aa5c1c885649b6c7b42e5a.jpg
END:VEVENT
END:VCALENDAR