BEGIN:VCALENDAR
VERSION:2.0
PRODID:-//Seniorocity - Seniors / Over 55&#039;s Guide to Perth - ECPv6.15.11//NONSGML v1.0//EN
CALSCALE:GREGORIAN
METHOD:PUBLISH
X-ORIGINAL-URL:https://seniorocity.com.au
X-WR-CALDESC:Events for Seniorocity - Seniors / Over 55&#039;s Guide to Perth
REFRESH-INTERVAL;VALUE=DURATION:PT1H
X-Robots-Tag:noindex
X-PUBLISHED-TTL:PT1H
BEGIN:VTIMEZONE
TZID:Australia/Perth
BEGIN:STANDARD
TZOFFSETFROM:+0800
TZOFFSETTO:+0800
TZNAME:AWST
DTSTART:20250101T000000
END:STANDARD
END:VTIMEZONE
BEGIN:VEVENT
DTSTART;TZID=Australia/Perth:20260420T130000
DTEND;TZID=Australia/Perth:20260420T160000
DTSTAMP:20260420T095944
CREATED:20260405T124900Z
LAST-MODIFIED:20260405T124900Z
UID:10865373-1776690000-1776700800@seniorocity.com.au
SUMMARY:TECH Connect
DESCRIPTION:Personalised help with your specific queries relating to the internet and technology.
URL:https://seniorocity.com.au/whats-on-perth/tech-connect-49/
LOCATION:Australind Public Library\, 7 Mulgara Street\, Australind\, WA\, 6233\, Australia
CATEGORIES:Tech
ATTACH;FMTTYPE=image/jpeg:https://seniorocity.com.au/wp-content/uploads/2025/07/c32d4cac6d25bcb1b7f9ffb031165fb0.jpg
END:VEVENT
BEGIN:VEVENT
DTSTART;TZID=Australia/Perth:20260424T110000
DTEND;TZID=Australia/Perth:20260424T130000
DTSTAMP:20260420T095944
CREATED:20260405T124901Z
LAST-MODIFIED:20260405T124901Z
UID:10865374-1777028400-1777035600@seniorocity.com.au
SUMMARY:TECH Connect
DESCRIPTION:Personalised help with your specific queries relating to the internet and technology.
URL:https://seniorocity.com.au/whats-on-perth/tech-connect-50/
LOCATION:Australind Public Library\, 7 Mulgara Street\, Australind\, WA\, 6233\, Australia
CATEGORIES:Tech
ATTACH;FMTTYPE=image/jpeg:https://seniorocity.com.au/wp-content/uploads/2025/07/c32d4cac6d25bcb1b7f9ffb031165fb0.jpg
END:VEVENT
BEGIN:VEVENT
DTSTART;TZID=Australia/Perth:20260427T130000
DTEND;TZID=Australia/Perth:20260427T160000
DTSTAMP:20260420T095944
CREATED:20260405T124902Z
LAST-MODIFIED:20260405T124902Z
UID:10865375-1777294800-1777305600@seniorocity.com.au
SUMMARY:TECH Connect
DESCRIPTION:Personalised help with your specific queries relating to the internet and technology.
URL:https://seniorocity.com.au/whats-on-perth/tech-connect-51/
LOCATION:Australind Public Library\, 7 Mulgara Street\, Australind\, WA\, 6233\, Australia
CATEGORIES:Tech
ATTACH;FMTTYPE=image/jpeg:https://seniorocity.com.au/wp-content/uploads/2025/07/c32d4cac6d25bcb1b7f9ffb031165fb0.jpg
END:VEVENT
BEGIN:VEVENT
DTSTART;TZID=Australia/Perth:20260501T110000
DTEND;TZID=Australia/Perth:20260501T130000
DTSTAMP:20260420T095944
CREATED:20260405T124904Z
LAST-MODIFIED:20260405T124904Z
UID:10865376-1777633200-1777640400@seniorocity.com.au
SUMMARY:TECH Connect
DESCRIPTION:Personalised help with your specific queries relating to the internet and technology.
URL:https://seniorocity.com.au/whats-on-perth/tech-connect-52/
LOCATION:Australind Public Library\, 7 Mulgara Street\, Australind\, WA\, 6233\, Australia
CATEGORIES:Tech
ATTACH;FMTTYPE=image/jpeg:https://seniorocity.com.au/wp-content/uploads/2025/07/c32d4cac6d25bcb1b7f9ffb031165fb0.jpg
END:VEVENT
BEGIN:VEVENT
DTSTART;TZID=Australia/Perth:20260504T130000
DTEND;TZID=Australia/Perth:20260504T160000
DTSTAMP:20260420T095944
CREATED:20260405T124906Z
LAST-MODIFIED:20260405T124906Z
UID:10865377-1777899600-1777910400@seniorocity.com.au
SUMMARY:TECH Connect
DESCRIPTION:Personalised help with your specific queries relating to the internet and technology.
URL:https://seniorocity.com.au/whats-on-perth/tech-connect-53/
LOCATION:Australind Public Library\, 7 Mulgara Street\, Australind\, WA\, 6233\, Australia
CATEGORIES:Tech
ATTACH;FMTTYPE=image/jpeg:https://seniorocity.com.au/wp-content/uploads/2025/07/c32d4cac6d25bcb1b7f9ffb031165fb0.jpg
END:VEVENT
BEGIN:VEVENT
DTSTART;TZID=Australia/Perth:20260504T133000
DTEND;TZID=Australia/Perth:20260504T143000
DTSTAMP:20260420T095944
CREATED:20250713T082749Z
LAST-MODIFIED:20260206T160552Z
UID:10791570-1777901400-1777905000@seniorocity.com.au
SUMMARY:Book and Movie Club
DESCRIPTION:Are you looking for a book club with a difference? Then this one is for you!
URL:https://seniorocity.com.au/whats-on-perth/book-and-movie-club-10/
LOCATION:Australind Public Library\, 7 Mulgara Street\, Australind\, WA\, 6233\, Australia
CATEGORIES:Club,Movies
ATTACH;FMTTYPE=image/jpeg:https://seniorocity.com.au/wp-content/uploads/2025/07/a9d68383f6aa5c1c885649b6c7b42e5a.jpg
END:VEVENT
BEGIN:VEVENT
DTSTART;TZID=Australia/Perth:20260508T110000
DTEND;TZID=Australia/Perth:20260508T130000
DTSTAMP:20260420T095944
CREATED:20260405T124908Z
LAST-MODIFIED:20260405T124908Z
UID:10865378-1778238000-1778245200@seniorocity.com.au
SUMMARY:TECH Connect
DESCRIPTION:Personalised help with your specific queries relating to the internet and technology.
URL:https://seniorocity.com.au/whats-on-perth/tech-connect-54/
LOCATION:Australind Public Library\, 7 Mulgara Street\, Australind\, WA\, 6233\, Australia
CATEGORIES:Tech
ATTACH;FMTTYPE=image/jpeg:https://seniorocity.com.au/wp-content/uploads/2025/07/c32d4cac6d25bcb1b7f9ffb031165fb0.jpg
END:VEVENT
BEGIN:VEVENT
DTSTART;TZID=Australia/Perth:20260511T130000
DTEND;TZID=Australia/Perth:20260511T160000
DTSTAMP:20260420T095944
CREATED:20260405T124923Z
LAST-MODIFIED:20260405T124923Z
UID:10865379-1778504400-1778515200@seniorocity.com.au
SUMMARY:TECH Connect
DESCRIPTION:Personalised help with your specific queries relating to the internet and technology.
URL:https://seniorocity.com.au/whats-on-perth/tech-connect-55/
LOCATION:Australind Public Library\, 7 Mulgara Street\, Australind\, WA\, 6233\, Australia
CATEGORIES:Tech
ATTACH;FMTTYPE=image/jpeg:https://seniorocity.com.au/wp-content/uploads/2025/07/c32d4cac6d25bcb1b7f9ffb031165fb0.jpg
END:VEVENT
BEGIN:VEVENT
DTSTART;TZID=Australia/Perth:20260515T110000
DTEND;TZID=Australia/Perth:20260515T130000
DTSTAMP:20260420T095944
CREATED:20260405T124924Z
LAST-MODIFIED:20260405T124924Z
UID:10865380-1778842800-1778850000@seniorocity.com.au
SUMMARY:TECH Connect
DESCRIPTION:Personalised help with your specific queries relating to the internet and technology.
URL:https://seniorocity.com.au/whats-on-perth/tech-connect-56/
LOCATION:Australind Public Library\, 7 Mulgara Street\, Australind\, WA\, 6233\, Australia
CATEGORIES:Tech
ATTACH;FMTTYPE=image/jpeg:https://seniorocity.com.au/wp-content/uploads/2025/07/c32d4cac6d25bcb1b7f9ffb031165fb0.jpg
END:VEVENT
BEGIN:VEVENT
DTSTART;TZID=Australia/Perth:20260518T130000
DTEND;TZID=Australia/Perth:20260518T160000
DTSTAMP:20260420T095944
CREATED:20260405T124925Z
LAST-MODIFIED:20260405T124925Z
UID:10865381-1779109200-1779120000@seniorocity.com.au
SUMMARY:TECH Connect
DESCRIPTION:Personalised help with your specific queries relating to the internet and technology.
URL:https://seniorocity.com.au/whats-on-perth/tech-connect-57/
LOCATION:Australind Public Library\, 7 Mulgara Street\, Australind\, WA\, 6233\, Australia
CATEGORIES:Tech
ATTACH;FMTTYPE=image/jpeg:https://seniorocity.com.au/wp-content/uploads/2025/07/c32d4cac6d25bcb1b7f9ffb031165fb0.jpg
END:VEVENT
BEGIN:VEVENT
DTSTART;TZID=Australia/Perth:20260522T110000
DTEND;TZID=Australia/Perth:20260522T130000
DTSTAMP:20260420T095944
CREATED:20260405T124926Z
LAST-MODIFIED:20260405T124926Z
UID:10865382-1779447600-1779454800@seniorocity.com.au
SUMMARY:TECH Connect
DESCRIPTION:Personalised help with your specific queries relating to the internet and technology.
URL:https://seniorocity.com.au/whats-on-perth/tech-connect-58/
LOCATION:Australind Public Library\, 7 Mulgara Street\, Australind\, WA\, 6233\, Australia
CATEGORIES:Tech
ATTACH;FMTTYPE=image/jpeg:https://seniorocity.com.au/wp-content/uploads/2025/07/c32d4cac6d25bcb1b7f9ffb031165fb0.jpg
END:VEVENT
BEGIN:VEVENT
DTSTART;TZID=Australia/Perth:20260525T130000
DTEND;TZID=Australia/Perth:20260525T160000
DTSTAMP:20260420T095944
CREATED:20260405T124926Z
LAST-MODIFIED:20260405T124926Z
UID:10865383-1779714000-1779724800@seniorocity.com.au
SUMMARY:TECH Connect
DESCRIPTION:Personalised help with your specific queries relating to the internet and technology.
URL:https://seniorocity.com.au/whats-on-perth/tech-connect-59/
LOCATION:Australind Public Library\, 7 Mulgara Street\, Australind\, WA\, 6233\, Australia
CATEGORIES:Tech
ATTACH;FMTTYPE=image/jpeg:https://seniorocity.com.au/wp-content/uploads/2025/07/c32d4cac6d25bcb1b7f9ffb031165fb0.jpg
END:VEVENT
BEGIN:VEVENT
DTSTART;TZID=Australia/Perth:20260529T110000
DTEND;TZID=Australia/Perth:20260529T130000
DTSTAMP:20260420T095944
CREATED:20260405T124927Z
LAST-MODIFIED:20260405T124927Z
UID:10865384-1780052400-1780059600@seniorocity.com.au
SUMMARY:TECH Connect
DESCRIPTION:Personalised help with your specific queries relating to the internet and technology.
URL:https://seniorocity.com.au/whats-on-perth/tech-connect-60/
LOCATION:Australind Public Library\, 7 Mulgara Street\, Australind\, WA\, 6233\, Australia
CATEGORIES:Tech
ATTACH;FMTTYPE=image/jpeg:https://seniorocity.com.au/wp-content/uploads/2025/07/c32d4cac6d25bcb1b7f9ffb031165fb0.jpg
END:VEVENT
BEGIN:VEVENT
DTSTART;TZID=Australia/Perth:20260601T130000
DTEND;TZID=Australia/Perth:20260601T160000
DTSTAMP:20260420T095944
CREATED:20260405T124928Z
LAST-MODIFIED:20260405T124928Z
UID:10865385-1780318800-1780329600@seniorocity.com.au
SUMMARY:TECH Connect
DESCRIPTION:Personalised help with your specific queries relating to the internet and technology.
URL:https://seniorocity.com.au/whats-on-perth/tech-connect-61/
LOCATION:Australind Public Library\, 7 Mulgara Street\, Australind\, WA\, 6233\, Australia
CATEGORIES:Tech
ATTACH;FMTTYPE=image/jpeg:https://seniorocity.com.au/wp-content/uploads/2025/07/c32d4cac6d25bcb1b7f9ffb031165fb0.jpg
END:VEVENT
BEGIN:VEVENT
DTSTART;TZID=Australia/Perth:20260601T133000
DTEND;TZID=Australia/Perth:20260601T143000
DTSTAMP:20260420T095944
CREATED:20260206T160520Z
LAST-MODIFIED:20260206T160605Z
UID:10863173-1780320600-1780324200@seniorocity.com.au
SUMMARY:Book and Movie Club
DESCRIPTION:Are you looking for a book club with a difference? Then this one is for you!
URL:https://seniorocity.com.au/whats-on-perth/book-and-movie-club-11/
LOCATION:Australind Public Library\, 7 Mulgara Street\, Australind\, WA\, 6233\, Australia
CATEGORIES:Club
ATTACH;FMTTYPE=image/jpeg:https://seniorocity.com.au/wp-content/uploads/2025/07/a9d68383f6aa5c1c885649b6c7b42e5a.jpg
END:VEVENT
BEGIN:VEVENT
DTSTART;TZID=Australia/Perth:20260605T110000
DTEND;TZID=Australia/Perth:20260605T130000
DTSTAMP:20260420T095944
CREATED:20260405T124928Z
LAST-MODIFIED:20260405T124928Z
UID:10865386-1780657200-1780664400@seniorocity.com.au
SUMMARY:TECH Connect
DESCRIPTION:Personalised help with your specific queries relating to the internet and technology.
URL:https://seniorocity.com.au/whats-on-perth/tech-connect-62/
LOCATION:Australind Public Library\, 7 Mulgara Street\, Australind\, WA\, 6233\, Australia
CATEGORIES:Tech
ATTACH;FMTTYPE=image/jpeg:https://seniorocity.com.au/wp-content/uploads/2025/07/c32d4cac6d25bcb1b7f9ffb031165fb0.jpg
END:VEVENT
BEGIN:VEVENT
DTSTART;TZID=Australia/Perth:20260608T130000
DTEND;TZID=Australia/Perth:20260608T160000
DTSTAMP:20260420T095944
CREATED:20260405T124929Z
LAST-MODIFIED:20260405T124929Z
UID:10865387-1780923600-1780934400@seniorocity.com.au
SUMMARY:TECH Connect
DESCRIPTION:Personalised help with your specific queries relating to the internet and technology.
URL:https://seniorocity.com.au/whats-on-perth/tech-connect-63/
LOCATION:Australind Public Library\, 7 Mulgara Street\, Australind\, WA\, 6233\, Australia
CATEGORIES:Tech
ATTACH;FMTTYPE=image/jpeg:https://seniorocity.com.au/wp-content/uploads/2025/07/c32d4cac6d25bcb1b7f9ffb031165fb0.jpg
END:VEVENT
BEGIN:VEVENT
DTSTART;TZID=Australia/Perth:20260612T110000
DTEND;TZID=Australia/Perth:20260612T130000
DTSTAMP:20260420T095944
CREATED:20260405T124930Z
LAST-MODIFIED:20260405T124930Z
UID:10865388-1781262000-1781269200@seniorocity.com.au
SUMMARY:TECH Connect
DESCRIPTION:Personalised help with your specific queries relating to the internet and technology.
URL:https://seniorocity.com.au/whats-on-perth/tech-connect-64/
LOCATION:Australind Public Library\, 7 Mulgara Street\, Australind\, WA\, 6233\, Australia
CATEGORIES:Tech
ATTACH;FMTTYPE=image/jpeg:https://seniorocity.com.au/wp-content/uploads/2025/07/c32d4cac6d25bcb1b7f9ffb031165fb0.jpg
END:VEVENT
BEGIN:VEVENT
DTSTART;TZID=Australia/Perth:20260615T130000
DTEND;TZID=Australia/Perth:20260615T160000
DTSTAMP:20260420T095944
CREATED:20260405T124944Z
LAST-MODIFIED:20260405T124944Z
UID:10865389-1781528400-1781539200@seniorocity.com.au
SUMMARY:TECH Connect
DESCRIPTION:Personalised help with your specific queries relating to the internet and technology.
URL:https://seniorocity.com.au/whats-on-perth/tech-connect-65/
LOCATION:Australind Public Library\, 7 Mulgara Street\, Australind\, WA\, 6233\, Australia
CATEGORIES:Tech
ATTACH;FMTTYPE=image/jpeg:https://seniorocity.com.au/wp-content/uploads/2025/07/c32d4cac6d25bcb1b7f9ffb031165fb0.jpg
END:VEVENT
BEGIN:VEVENT
DTSTART;TZID=Australia/Perth:20260619T110000
DTEND;TZID=Australia/Perth:20260619T130000
DTSTAMP:20260420T095944
CREATED:20260405T124945Z
LAST-MODIFIED:20260405T124945Z
UID:10865390-1781866800-1781874000@seniorocity.com.au
SUMMARY:TECH Connect
DESCRIPTION:Personalised help with your specific queries relating to the internet and technology.
URL:https://seniorocity.com.au/whats-on-perth/tech-connect-66/
LOCATION:Australind Public Library\, 7 Mulgara Street\, Australind\, WA\, 6233\, Australia
CATEGORIES:Tech
ATTACH;FMTTYPE=image/jpeg:https://seniorocity.com.au/wp-content/uploads/2025/07/c32d4cac6d25bcb1b7f9ffb031165fb0.jpg
END:VEVENT
BEGIN:VEVENT
DTSTART;TZID=Australia/Perth:20260622T130000
DTEND;TZID=Australia/Perth:20260622T160000
DTSTAMP:20260420T095944
CREATED:20260405T124946Z
LAST-MODIFIED:20260405T124946Z
UID:10865391-1782133200-1782144000@seniorocity.com.au
SUMMARY:TECH Connect
DESCRIPTION:Personalised help with your specific queries relating to the internet and technology.
URL:https://seniorocity.com.au/whats-on-perth/tech-connect-67/
LOCATION:Australind Public Library\, 7 Mulgara Street\, Australind\, WA\, 6233\, Australia
CATEGORIES:Tech
ATTACH;FMTTYPE=image/jpeg:https://seniorocity.com.au/wp-content/uploads/2025/07/c32d4cac6d25bcb1b7f9ffb031165fb0.jpg
END:VEVENT
BEGIN:VEVENT
DTSTART;TZID=Australia/Perth:20260626T110000
DTEND;TZID=Australia/Perth:20260626T130000
DTSTAMP:20260420T095944
CREATED:20260405T124946Z
LAST-MODIFIED:20260405T124946Z
UID:10865392-1782471600-1782478800@seniorocity.com.au
SUMMARY:TECH Connect
DESCRIPTION:Personalised help with your specific queries relating to the internet and technology.
URL:https://seniorocity.com.au/whats-on-perth/tech-connect-68/
LOCATION:Australind Public Library\, 7 Mulgara Street\, Australind\, WA\, 6233\, Australia
CATEGORIES:Tech
ATTACH;FMTTYPE=image/jpeg:https://seniorocity.com.au/wp-content/uploads/2025/07/c32d4cac6d25bcb1b7f9ffb031165fb0.jpg
END:VEVENT
BEGIN:VEVENT
DTSTART;TZID=Australia/Perth:20260629T130000
DTEND;TZID=Australia/Perth:20260629T160000
DTSTAMP:20260420T095944
CREATED:20260405T124947Z
LAST-MODIFIED:20260405T124947Z
UID:10865393-1782738000-1782748800@seniorocity.com.au
SUMMARY:TECH Connect
DESCRIPTION:Personalised help with your specific queries relating to the internet and technology.
URL:https://seniorocity.com.au/whats-on-perth/tech-connect-69/
LOCATION:Australind Public Library\, 7 Mulgara Street\, Australind\, WA\, 6233\, Australia
CATEGORIES:Tech
ATTACH;FMTTYPE=image/jpeg:https://seniorocity.com.au/wp-content/uploads/2025/07/c32d4cac6d25bcb1b7f9ffb031165fb0.jpg
END:VEVENT
BEGIN:VEVENT
DTSTART;TZID=Australia/Perth:20260703T110000
DTEND;TZID=Australia/Perth:20260703T130000
DTSTAMP:20260420T095944
CREATED:20260405T124948Z
LAST-MODIFIED:20260405T124948Z
UID:10865394-1783076400-1783083600@seniorocity.com.au
SUMMARY:TECH Connect
DESCRIPTION:Personalised help with your specific queries relating to the internet and technology.
URL:https://seniorocity.com.au/whats-on-perth/tech-connect-70/
LOCATION:Australind Public Library\, 7 Mulgara Street\, Australind\, WA\, 6233\, Australia
CATEGORIES:Tech
ATTACH;FMTTYPE=image/jpeg:https://seniorocity.com.au/wp-content/uploads/2025/07/c32d4cac6d25bcb1b7f9ffb031165fb0.jpg
END:VEVENT
BEGIN:VEVENT
DTSTART;TZID=Australia/Perth:20260706T130000
DTEND;TZID=Australia/Perth:20260706T160000
DTSTAMP:20260420T095944
CREATED:20260405T124948Z
LAST-MODIFIED:20260405T124948Z
UID:10865395-1783342800-1783353600@seniorocity.com.au
SUMMARY:TECH Connect
DESCRIPTION:Personalised help with your specific queries relating to the internet and technology.
URL:https://seniorocity.com.au/whats-on-perth/tech-connect-71/
LOCATION:Australind Public Library\, 7 Mulgara Street\, Australind\, WA\, 6233\, Australia
CATEGORIES:Tech
ATTACH;FMTTYPE=image/jpeg:https://seniorocity.com.au/wp-content/uploads/2025/07/c32d4cac6d25bcb1b7f9ffb031165fb0.jpg
END:VEVENT
BEGIN:VEVENT
DTSTART;TZID=Australia/Perth:20260706T133000
DTEND;TZID=Australia/Perth:20260706T143000
DTSTAMP:20260420T095944
CREATED:20260206T160521Z
LAST-MODIFIED:20260206T160616Z
UID:10863174-1783344600-1783348200@seniorocity.com.au
SUMMARY:Book and Movie Club
DESCRIPTION:Are you looking for a book club with a difference? Then this one is for you!
URL:https://seniorocity.com.au/whats-on-perth/book-and-movie-club-12/
LOCATION:Australind Public Library\, 7 Mulgara Street\, Australind\, WA\, 6233\, Australia
CATEGORIES:Club
ATTACH;FMTTYPE=image/jpeg:https://seniorocity.com.au/wp-content/uploads/2025/07/a9d68383f6aa5c1c885649b6c7b42e5a.jpg
END:VEVENT
BEGIN:VEVENT
DTSTART;TZID=Australia/Perth:20260710T110000
DTEND;TZID=Australia/Perth:20260710T130000
DTSTAMP:20260420T095944
CREATED:20260405T124949Z
LAST-MODIFIED:20260405T124949Z
UID:10865396-1783681200-1783688400@seniorocity.com.au
SUMMARY:TECH Connect
DESCRIPTION:Personalised help with your specific queries relating to the internet and technology.
URL:https://seniorocity.com.au/whats-on-perth/tech-connect-72/
LOCATION:Australind Public Library\, 7 Mulgara Street\, Australind\, WA\, 6233\, Australia
CATEGORIES:Tech
ATTACH;FMTTYPE=image/jpeg:https://seniorocity.com.au/wp-content/uploads/2025/07/c32d4cac6d25bcb1b7f9ffb031165fb0.jpg
END:VEVENT
BEGIN:VEVENT
DTSTART;TZID=Australia/Perth:20260713T130000
DTEND;TZID=Australia/Perth:20260713T160000
DTSTAMP:20260420T095944
CREATED:20260405T124950Z
LAST-MODIFIED:20260405T124950Z
UID:10865397-1783947600-1783958400@seniorocity.com.au
SUMMARY:TECH Connect
DESCRIPTION:Personalised help with your specific queries relating to the internet and technology.
URL:https://seniorocity.com.au/whats-on-perth/tech-connect-73/
LOCATION:Australind Public Library\, 7 Mulgara Street\, Australind\, WA\, 6233\, Australia
CATEGORIES:Tech
ATTACH;FMTTYPE=image/jpeg:https://seniorocity.com.au/wp-content/uploads/2025/07/c32d4cac6d25bcb1b7f9ffb031165fb0.jpg
END:VEVENT
BEGIN:VEVENT
DTSTART;TZID=Australia/Perth:20260717T110000
DTEND;TZID=Australia/Perth:20260717T130000
DTSTAMP:20260420T095944
CREATED:20260405T124951Z
LAST-MODIFIED:20260405T124951Z
UID:10865398-1784286000-1784293200@seniorocity.com.au
SUMMARY:TECH Connect
DESCRIPTION:Personalised help with your specific queries relating to the internet and technology.
URL:https://seniorocity.com.au/whats-on-perth/tech-connect-74/
LOCATION:Australind Public Library\, 7 Mulgara Street\, Australind\, WA\, 6233\, Australia
CATEGORIES:Tech
ATTACH;FMTTYPE=image/jpeg:https://seniorocity.com.au/wp-content/uploads/2025/07/c32d4cac6d25bcb1b7f9ffb031165fb0.jpg
END:VEVENT
BEGIN:VEVENT
DTSTART;TZID=Australia/Perth:20260720T130000
DTEND;TZID=Australia/Perth:20260720T160000
DTSTAMP:20260420T095944
CREATED:20260405T125007Z
LAST-MODIFIED:20260405T125007Z
UID:10865399-1784552400-1784563200@seniorocity.com.au
SUMMARY:TECH Connect
DESCRIPTION:Personalised help with your specific queries relating to the internet and technology.
URL:https://seniorocity.com.au/whats-on-perth/tech-connect-75/
LOCATION:Australind Public Library\, 7 Mulgara Street\, Australind\, WA\, 6233\, Australia
CATEGORIES:Tech
ATTACH;FMTTYPE=image/jpeg:https://seniorocity.com.au/wp-content/uploads/2025/07/c32d4cac6d25bcb1b7f9ffb031165fb0.jpg
END:VEVENT
END:VCALENDAR