BEGIN:VCALENDAR
VERSION:2.0
PRODID:-//Seniorocity - Seniors / Over 55&#039;s Guide to Perth - ECPv6.15.11//NONSGML v1.0//EN
CALSCALE:GREGORIAN
METHOD:PUBLISH
X-WR-CALNAME:Seniorocity - Seniors / Over 55&#039;s Guide to Perth
X-ORIGINAL-URL:https://seniorocity.com.au
X-WR-CALDESC:Events for Seniorocity - Seniors / Over 55&#039;s Guide to Perth
REFRESH-INTERVAL;VALUE=DURATION:PT1H
X-Robots-Tag:noindex
X-PUBLISHED-TTL:PT1H
BEGIN:VTIMEZONE
TZID:Australia/Perth
BEGIN:STANDARD
TZOFFSETFROM:+0800
TZOFFSETTO:+0800
TZNAME:AWST
DTSTART:20250101T000000
END:STANDARD
END:VTIMEZONE
BEGIN:VEVENT
DTSTART;TZID=Australia/Perth:20260506T090000
DTEND;TZID=Australia/Perth:20260506T110000
DTSTAMP:20260423T041523
CREATED:20260412T141205Z
LAST-MODIFIED:20260412T141205Z
UID:10865622-1778058000-1778065200@seniorocity.com.au
SUMMARY:Forest Bathing Walk at Baldivis Children's Forest
DESCRIPTION:Join us for a gentle\, quiet walk\, using all your senses to explore the bushland. \nDifferent activities and invitations will be offered along the way to help you ‘sink in’ to greater mindfulness and awe\, all while enjoying health benefits like boosted immunity and reduced stress. \nTo end\, participants share experiences and insights while enjoying a cup of tea in the Japanese tea ceremony style. You will be glad you came along. \nWhat to bring: \n\nSun-safe clothing\, including a hat\, sunscreen and a water bottle.\nEnclosed shoes\, as there will be walking along bush paths.\n\nThis event is perfect for those aged 16+. \nRegistration required. Spaces are limited. \nThis workshop forms part of the City’s WA Tree Festival activities\, to find out more visit here. \nRegister now
URL:https://seniorocity.com.au/whats-on-perth/forest-bathing-walk-at-baldivis-childrens-forest/
LOCATION:Baldivis Children’s Forest\, 1399 Mandurah Road\, Baldivis\, WA\, 6171\, Australia
CATEGORIES:Free,Health,Workshop
ATTACH;FMTTYPE=image/jpeg:https://seniorocity.com.au/wp-content/uploads/2026/04/Forest-Bathing-Walk-at-Baldivis-Childrens-Forest.jpg
END:VEVENT
END:VCALENDAR