BEGIN:VCALENDAR
VERSION:2.0
PRODID:-//Seniorocity - Seniors / Over 55&#039;s Guide to Perth - ECPv6.15.11//NONSGML v1.0//EN
CALSCALE:GREGORIAN
METHOD:PUBLISH
X-ORIGINAL-URL:https://seniorocity.com.au
X-WR-CALDESC:Events for Seniorocity - Seniors / Over 55&#039;s Guide to Perth
REFRESH-INTERVAL;VALUE=DURATION:PT1H
X-Robots-Tag:noindex
X-PUBLISHED-TTL:PT1H
BEGIN:VTIMEZONE
TZID:Australia/Perth
BEGIN:STANDARD
TZOFFSETFROM:+0800
TZOFFSETTO:+0800
TZNAME:AWST
DTSTART:20250101T000000
END:STANDARD
END:VTIMEZONE
BEGIN:VEVENT
DTSTART;TZID=Australia/Perth:20260509T103000
DTEND;TZID=Australia/Perth:20260509T123000
DTSTAMP:20260422T222218
CREATED:20260416T144819Z
LAST-MODIFIED:20260416T144819Z
UID:10865817-1778322600-1778329800@seniorocity.com.au
SUMMARY:Tree Festival Embroidery Workshop
DESCRIPTION:Thread your way into some feel‑good fun at our embroidery workshop for the Bassendean Tree Festival 2026! \nWe will be joined by four members of the Embroiderers’ Guild of WA\, to guide us through a cute palm tree embroidery design. \nCome and meet some new friends\, or bring your mum for a crafty coffee date (as it just so happens to be the day before Mother’s Day). Laugh\, stitch and sip on coffee\, tea and biscuits while you make something beautiful! \nWhen: Saturday 9th May\, 10:30am-12:30pm \nWhere: Bassendean Memorial Library\, Meeting Room 1 \nWho: Participants 17 yrs and older \nCost: Free\, but bookings are essential! \n  \nPlease feel free to call the library if you require assistance with bookings. If you can no longer attend this event\, we appreciate you cancelling your tickets or letting us know (this allows another lucky patron the chance to attend!)
URL:https://seniorocity.com.au/whats-on-perth/tree-festival-embroidery-workshop/
LOCATION:Bassendean Memorial Library\, 46 Old Perth Road\, Bassendean\, WA\, 6054\, Australia
CATEGORIES:Craft,Free,Library Events,Weekend events,Workshop
ATTACH;FMTTYPE=image/png:https://seniorocity.com.au/wp-content/uploads/2026/04/Tree-Festival-Embroidery-Workshop.png
END:VEVENT
END:VCALENDAR