BEGIN:VCALENDAR
VERSION:2.0
PRODID:-//Seniorocity - Seniors / Over 55&#039;s Guide to Perth - ECPv6.15.11//NONSGML v1.0//EN
CALSCALE:GREGORIAN
METHOD:PUBLISH
X-ORIGINAL-URL:https://seniorocity.com.au
X-WR-CALDESC:Events for Seniorocity - Seniors / Over 55&#039;s Guide to Perth
REFRESH-INTERVAL;VALUE=DURATION:PT1H
X-Robots-Tag:noindex
X-PUBLISHED-TTL:PT1H
BEGIN:VTIMEZONE
TZID:Australia/Perth
BEGIN:STANDARD
TZOFFSETFROM:+0800
TZOFFSETTO:+0800
TZNAME:AWST
DTSTART:20250101T000000
END:STANDARD
END:VTIMEZONE
BEGIN:VEVENT
DTSTART;TZID=Australia/Perth:20260414T100000
DTEND;TZID=Australia/Perth:20260414T120000
DTSTAMP:20260421T022650
CREATED:20260103T140604Z
LAST-MODIFIED:20260103T140604Z
UID:10860154-1776160800-1776168000@seniorocity.com.au
SUMMARY:Be Connected's IT Support Sessions
DESCRIPTION:Bookings are required. For more information or to secure your spot\, please email library@claremont.wa.gov.au or phone (08) 9285 4353.
URL:https://seniorocity.com.au/whats-on-perth/be-connecteds-it-support-sessions/2026-04-14/
LOCATION:Bay View Community Centre\, 64 Bay View Terrace\, Claremont\, WA\, 6010\, Australia
CATEGORIES:Tech
ATTACH;FMTTYPE=image/webp:https://seniorocity.com.au/wp-content/uploads/2026/01/Be-Connecteds-IT-Support-Sessions.webp
END:VEVENT
BEGIN:VEVENT
DTSTART;TZID=Australia/Perth:20260401T140000
DTEND;TZID=Australia/Perth:20260401T160000
DTSTAMP:20260421T022650
CREATED:20260103T141126Z
LAST-MODIFIED:20260103T141126Z
UID:10860193-1775052000-1775059200@seniorocity.com.au
SUMMARY:Family History Sessions
DESCRIPTION:Explore your family roots with Family History Sessions. \nIn Partnership with Family History WA\, book free one-on-one genealogical assistance to help uncover your family’s story. \nWhen: 1st Wednesday of the month \nTime: 2pm – 4pm \nTo book please phone (08) 9285 4353 or email library@claremont.wa.gov.au
URL:https://seniorocity.com.au/whats-on-perth/family-history-sessions/2026-04-01/
LOCATION:Bay View Community Centre\, 64 Bay View Terrace\, Claremont\, WA\, 6010\, Australia
CATEGORIES:Free,History,Library Events
ATTACH;FMTTYPE=image/webp:https://seniorocity.com.au/wp-content/uploads/2026/01/Family-History-Sessions.webp
END:VEVENT
BEGIN:VEVENT
DTSTART;TZID=Australia/Perth:20260401T100000
DTEND;TZID=Australia/Perth:20260401T113000
DTSTAMP:20260421T022650
CREATED:20260103T143624Z
LAST-MODIFIED:20260103T143624Z
UID:10860219-1775037600-1775043000@seniorocity.com.au
SUMMARY:Tai Chi
DESCRIPTION:The Beginners Chen Tai Chi Program is a 9-week journey to boost physical and mental well-being through Chen Family Tai Chi. \nNo prior experience is needed\, perfect for beginners. \nBy purchasing this ticket\, you are booking all 9 classes that take place on the dates below: \nWhen\n \nWednesday classes \nFebruary – 4\, 11\, 18 & 25\nMarch – 4\, 11\, 18 & 25\nApril – 1 \nBuy your tickets here \nTime: 10am – 11:30am
URL:https://seniorocity.com.au/whats-on-perth/tai-chi/2026-04-01/
LOCATION:Bay View Community Centre\, 64 Bay View Terrace\, Claremont\, WA\, 6010\, Australia
CATEGORIES:Health,Sport Activities
ATTACH;FMTTYPE=image/jpeg:https://seniorocity.com.au/wp-content/uploads/2026/01/Tai-Chi-Claremont.jpeg
END:VEVENT
BEGIN:VEVENT
DTSTART;TZID=Australia/Perth:20260331T110000
DTEND;TZID=Australia/Perth:20260331T120000
DTSTAMP:20260421T022650
CREATED:20260103T142439Z
LAST-MODIFIED:20260103T142439Z
UID:10860210-1774954800-1774958400@seniorocity.com.au
SUMMARY:Zumba Gold
DESCRIPTION:Over 9 weeks\, participants will be taken through a range of low and medium-intensity and lower impact dance moves that are designed for everybody\, no matter their fitness level. \nPlease bring a towel and a water bottle. \nBy purchasing this ticket\, you are booking all 9 classes that take place on the below dates: \nWhen: \nFebruary – 3\, 10\, 17 & 24\nMarch – 3\, 10\, 17\, 24 & 31 \nTime: 11am – 11.45am \n\nBuy Tickets
URL:https://seniorocity.com.au/whats-on-perth/zumba-gold/2026-03-31/
LOCATION:Bay View Community Centre\, 64 Bay View Terrace\, Claremont\, WA\, 6010\, Australia
CATEGORIES:Sport Activities
ATTACH;FMTTYPE=image/jpeg:https://seniorocity.com.au/wp-content/uploads/2026/01/Zumba-Gold.jpeg
END:VEVENT
BEGIN:VEVENT
DTSTART;TZID=Australia/Perth:20260330T180000
DTEND;TZID=Australia/Perth:20260330T190000
DTSTAMP:20260421T022650
CREATED:20260103T144026Z
LAST-MODIFIED:20260103T144026Z
UID:10860223-1774893600-1774897200@seniorocity.com.au
SUMMARY:Free meditation sessions
DESCRIPTION:Now is a great time to learn meditation and get some inner peace and gain the benefits of meditating in a group. \nSessions are: \n– Getting started with meditation\, the ABC’s\n– Walking the road of meditation\n– Some of the goals of meditation\n– Art\, music and mantra for meditation \nBy booking this ticket\, you are booking all 4 classes that take place on the below dates: \nWhen: \nMarch – 9\, 16\, 23 & 30 \nTime: 6pm – 7pm \n\nBook now
URL:https://seniorocity.com.au/whats-on-perth/free-meditation-sessions/2026-03-30/
LOCATION:Bay View Community Centre\, 64 Bay View Terrace\, Claremont\, WA\, 6010\, Australia
CATEGORIES:Free
ATTACH;FMTTYPE=image/jpeg:https://seniorocity.com.au/wp-content/uploads/2026/01/Free-Meditation-Sessions.jpeg
END:VEVENT
BEGIN:VEVENT
DTSTART;TZID=Australia/Perth:20260318T123000
DTEND;TZID=Australia/Perth:20260318T163000
DTSTAMP:20260421T022650
CREATED:20260214T143644Z
LAST-MODIFIED:20260214T143644Z
UID:10863570-1773837000-1773851400@seniorocity.com.au
SUMMARY:Tree Recovery Kiosks
DESCRIPTION:Have you lost a tree to shot-hole borer? \nThe local community has unfortunately lost trees to shot-hole borer in recent years\, impacting the Town’s urban canopy. \nTrees are vital to improving air quality\, sustaining wildlife and enhancing community wellbeing. \nDid you know residents who have lost trees due to shot-hole borer may be eligible for a rebate worth up to $150 for every tree replaced? \nIf you have already replanted or would like to but need help claiming your rebate\, come talk to the WA Tree Recovery team at one of the below community kiosks. \nTo be eligible for the rebate you must have had a tree removed from your property under Department of Primary Industries and Regional Development authority due to shot-hole borer. \nIf you would like to submit a rebate claim at the community kiosk\, you will need a valid tax invoice for your replacement tree\, a photo of the plant label as well as 100 points for personal identification. \nFor information on what to bring to the community kiosks\, visit the WA Tree Recovery page here or email treerecovery@dwer.gov.au \nKiosks  \n17 March\, 12:30pm – 4:30pm\nBay View Community Centre\, 64 Bay View Terrace\, Claremont \n18 March\, 12:30pm – 4:30pm\nBay View Community Centre\, 64 Bay View Terrace\, Claremont \nNo bookings are required
URL:https://seniorocity.com.au/whats-on-perth/tree-recovery-kiosks/2026-03-18/
LOCATION:Bay View Community Centre\, 64 Bay View Terrace\, Claremont\, WA\, 6010\, Australia
CATEGORIES:Free,Gardening & Environment
ATTACH;FMTTYPE=image/jpeg:https://seniorocity.com.au/wp-content/uploads/2026/02/Tree-Recovery-Kiosks.jpg
END:VEVENT
END:VCALENDAR