BEGIN:VCALENDAR
VERSION:2.0
PRODID:-//Seniorocity - Seniors / Over 55&#039;s Guide to Perth - ECPv6.15.11//NONSGML v1.0//EN
CALSCALE:GREGORIAN
METHOD:PUBLISH
X-ORIGINAL-URL:https://seniorocity.com.au
X-WR-CALDESC:Events for Seniorocity - Seniors / Over 55&#039;s Guide to Perth
REFRESH-INTERVAL;VALUE=DURATION:PT1H
X-Robots-Tag:noindex
X-PUBLISHED-TTL:PT1H
BEGIN:VTIMEZONE
TZID:Australia/Perth
BEGIN:STANDARD
TZOFFSETFROM:+0800
TZOFFSETTO:+0800
TZNAME:AWST
DTSTART:20250101T000000
END:STANDARD
END:VTIMEZONE
BEGIN:VEVENT
DTSTART;TZID=Australia/Perth:20261120T130000
DTEND;TZID=Australia/Perth:20261120T160000
DTSTAMP:20260422T144504
CREATED:20260203T084011Z
LAST-MODIFIED:20260203T084612Z
UID:10862638-1795179600-1795190400@seniorocity.com.au
SUMMARY:Loop to Loop - Bayswater Library (social group for adults)
DESCRIPTION:Do you like to knit or crochet and have a yarn with your mates?
URL:https://seniorocity.com.au/whats-on-perth/loop-to-loop-bayswater-library-social-group-for-adults-85/
LOCATION:Bayswater Library\, 25 King William Street\, Bayswater\, WA\, 6053\, Australia
CATEGORIES:Knitting
ATTACH;FMTTYPE=image/jpeg:https://seniorocity.com.au/wp-content/uploads/2024/01/3cc61f6e48a291815488a5e5848cddc2.jpg
END:VEVENT
BEGIN:VEVENT
DTSTART;TZID=Australia/Perth:20261124T100000
DTEND;TZID=Australia/Perth:20261124T120000
DTSTAMP:20260422T144504
CREATED:20260204T091502Z
LAST-MODIFIED:20260401T143732Z
UID:10862843-1795514400-1795521600@seniorocity.com.au
SUMMARY:Scrabble
DESCRIPTION:Hey word enthusiasts!  Come along to our Scrabble group.  Bring your friends or join to make new ones.
URL:https://seniorocity.com.au/whats-on-perth/scrabble-105/
LOCATION:Bayswater Library\, 25 King William Street\, Bayswater\, WA\, 6053\, Australia
CATEGORIES:Games
ATTACH;FMTTYPE=image/jpeg:https://seniorocity.com.au/wp-content/uploads/2023/12/395216af19fc80e3a7d31b811f79a441.jpg
END:VEVENT
BEGIN:VEVENT
DTSTART;TZID=Australia/Perth:20261127T130000
DTEND;TZID=Australia/Perth:20261127T160000
DTSTAMP:20260422T144504
CREATED:20260203T084012Z
LAST-MODIFIED:20260203T084620Z
UID:10862639-1795784400-1795795200@seniorocity.com.au
SUMMARY:Loop to Loop - Bayswater Library (social group for adults)
DESCRIPTION:Do you like to knit or crochet and have a yarn with your mates?
URL:https://seniorocity.com.au/whats-on-perth/loop-to-loop-bayswater-library-social-group-for-adults-86/
LOCATION:Bayswater Library\, 25 King William Street\, Bayswater\, WA\, 6053\, Australia
CATEGORIES:Knitting
ATTACH;FMTTYPE=image/jpeg:https://seniorocity.com.au/wp-content/uploads/2024/01/3cc61f6e48a291815488a5e5848cddc2.jpg
END:VEVENT
BEGIN:VEVENT
DTSTART;TZID=Australia/Perth:20261201T100000
DTEND;TZID=Australia/Perth:20261201T120000
DTSTAMP:20260422T144504
CREATED:20260204T091503Z
LAST-MODIFIED:20260401T143733Z
UID:10862844-1796119200-1796126400@seniorocity.com.au
SUMMARY:Scrabble
DESCRIPTION:Hey word enthusiasts!  Come along to our Scrabble group.  Bring your friends or join to make new ones.
URL:https://seniorocity.com.au/whats-on-perth/scrabble-106/
LOCATION:Bayswater Library\, 25 King William Street\, Bayswater\, WA\, 6053\, Australia
CATEGORIES:Games
ATTACH;FMTTYPE=image/jpeg:https://seniorocity.com.au/wp-content/uploads/2023/12/395216af19fc80e3a7d31b811f79a441.jpg
END:VEVENT
BEGIN:VEVENT
DTSTART;TZID=Australia/Perth:20261204T130000
DTEND;TZID=Australia/Perth:20261204T160000
DTSTAMP:20260422T144504
CREATED:20260203T084013Z
LAST-MODIFIED:20260203T084626Z
UID:10862640-1796389200-1796400000@seniorocity.com.au
SUMMARY:Loop to Loop - Bayswater Library (social group for adults)
DESCRIPTION:Do you like to knit or crochet and have a yarn with your mates?
URL:https://seniorocity.com.au/whats-on-perth/loop-to-loop-bayswater-library-social-group-for-adults-87/
LOCATION:Bayswater Library\, 25 King William Street\, Bayswater\, WA\, 6053\, Australia
CATEGORIES:Knitting
ATTACH;FMTTYPE=image/jpeg:https://seniorocity.com.au/wp-content/uploads/2024/01/3cc61f6e48a291815488a5e5848cddc2.jpg
END:VEVENT
BEGIN:VEVENT
DTSTART;TZID=Australia/Perth:20261208T100000
DTEND;TZID=Australia/Perth:20261208T120000
DTSTAMP:20260422T144504
CREATED:20260204T091504Z
LAST-MODIFIED:20260401T143734Z
UID:10862845-1796724000-1796731200@seniorocity.com.au
SUMMARY:Scrabble
DESCRIPTION:Hey word enthusiasts!  Come along to our Scrabble group.  Bring your friends or join to make new ones.
URL:https://seniorocity.com.au/whats-on-perth/scrabble-107/
LOCATION:Bayswater Library\, 25 King William Street\, Bayswater\, WA\, 6053\, Australia
CATEGORIES:Games
ATTACH;FMTTYPE=image/jpeg:https://seniorocity.com.au/wp-content/uploads/2023/12/395216af19fc80e3a7d31b811f79a441.jpg
END:VEVENT
BEGIN:VEVENT
DTSTART;TZID=Australia/Perth:20261211T130000
DTEND;TZID=Australia/Perth:20261211T160000
DTSTAMP:20260422T144504
CREATED:20260203T084014Z
LAST-MODIFIED:20260203T084632Z
UID:10862641-1796994000-1797004800@seniorocity.com.au
SUMMARY:Loop to Loop - Bayswater Library (social group for adults)
DESCRIPTION:Do you like to knit or crochet and have a yarn with your mates?
URL:https://seniorocity.com.au/whats-on-perth/loop-to-loop-bayswater-library-social-group-for-adults-88/
LOCATION:Bayswater Library\, 25 King William Street\, Bayswater\, WA\, 6053\, Australia
CATEGORIES:Knitting
ATTACH;FMTTYPE=image/jpeg:https://seniorocity.com.au/wp-content/uploads/2024/01/3cc61f6e48a291815488a5e5848cddc2.jpg
END:VEVENT
BEGIN:VEVENT
DTSTART;TZID=Australia/Perth:20261215T100000
DTEND;TZID=Australia/Perth:20261215T120000
DTSTAMP:20260422T144504
CREATED:20260204T091505Z
LAST-MODIFIED:20260401T143735Z
UID:10862846-1797328800-1797336000@seniorocity.com.au
SUMMARY:Scrabble
DESCRIPTION:Hey word enthusiasts!  Come along to our Scrabble group.  Bring your friends or join to make new ones.
URL:https://seniorocity.com.au/whats-on-perth/scrabble-108/
LOCATION:Bayswater Library\, 25 King William Street\, Bayswater\, WA\, 6053\, Australia
CATEGORIES:Games
ATTACH;FMTTYPE=image/jpeg:https://seniorocity.com.au/wp-content/uploads/2023/12/395216af19fc80e3a7d31b811f79a441.jpg
END:VEVENT
BEGIN:VEVENT
DTSTART;TZID=Australia/Perth:20261218T130000
DTEND;TZID=Australia/Perth:20261218T160000
DTSTAMP:20260422T144504
CREATED:20260203T084015Z
LAST-MODIFIED:20260203T085034Z
UID:10862642-1797598800-1797609600@seniorocity.com.au
SUMMARY:Loop to Loop - Bayswater Library (social group for adults)
DESCRIPTION:Do you like to knit or crochet and have a yarn with your mates?
URL:https://seniorocity.com.au/whats-on-perth/loop-to-loop-bayswater-library-social-group-for-adults-89/
LOCATION:Bayswater Library\, 25 King William Street\, Bayswater\, WA\, 6053\, Australia
CATEGORIES:Knitting
ATTACH;FMTTYPE=image/jpeg:https://seniorocity.com.au/wp-content/uploads/2024/01/3cc61f6e48a291815488a5e5848cddc2.jpg
END:VEVENT
BEGIN:VEVENT
DTSTART;TZID=Australia/Perth:20261222T100000
DTEND;TZID=Australia/Perth:20261222T120000
DTSTAMP:20260422T144504
CREATED:20260204T091507Z
LAST-MODIFIED:20260401T143735Z
UID:10862847-1797933600-1797940800@seniorocity.com.au
SUMMARY:Scrabble
DESCRIPTION:Hey word enthusiasts!  Come along to our Scrabble group.  Bring your friends or join to make new ones.
URL:https://seniorocity.com.au/whats-on-perth/scrabble-109/
LOCATION:Bayswater Library\, 25 King William Street\, Bayswater\, WA\, 6053\, Australia
CATEGORIES:Games
ATTACH;FMTTYPE=image/jpeg:https://seniorocity.com.au/wp-content/uploads/2023/12/395216af19fc80e3a7d31b811f79a441.jpg
END:VEVENT
BEGIN:VEVENT
DTSTART;TZID=Australia/Perth:20261229T100000
DTEND;TZID=Australia/Perth:20261229T120000
DTSTAMP:20260422T144504
CREATED:20260204T091507Z
LAST-MODIFIED:20260401T143737Z
UID:10862848-1798538400-1798545600@seniorocity.com.au
SUMMARY:Scrabble
DESCRIPTION:Hey word enthusiasts!  Come along to our Scrabble group.  Bring your friends or join to make new ones.
URL:https://seniorocity.com.au/whats-on-perth/scrabble-110/
LOCATION:Bayswater Library\, 25 King William Street\, Bayswater\, WA\, 6053\, Australia
CATEGORIES:Games
ATTACH;FMTTYPE=image/jpeg:https://seniorocity.com.au/wp-content/uploads/2023/12/395216af19fc80e3a7d31b811f79a441.jpg
END:VEVENT
END:VCALENDAR