BEGIN:VCALENDAR
VERSION:2.0
PRODID:-//Seniorocity - Seniors / Over 55&#039;s Guide to Perth - ECPv6.15.11//NONSGML v1.0//EN
CALSCALE:GREGORIAN
METHOD:PUBLISH
X-WR-CALNAME:Seniorocity - Seniors / Over 55&#039;s Guide to Perth
X-ORIGINAL-URL:https://seniorocity.com.au
X-WR-CALDESC:Events for Seniorocity - Seniors / Over 55&#039;s Guide to Perth
REFRESH-INTERVAL;VALUE=DURATION:PT1H
X-Robots-Tag:noindex
X-PUBLISHED-TTL:PT1H
BEGIN:VTIMEZONE
TZID:Australia/Perth
BEGIN:STANDARD
TZOFFSETFROM:+0800
TZOFFSETTO:+0800
TZNAME:AWST
DTSTART:20250101T000000
END:STANDARD
END:VTIMEZONE
BEGIN:VEVENT
DTSTART;TZID=Australia/Perth:20260425T103000
DTEND;TZID=Australia/Perth:20260425T113000
DTSTAMP:20260422T184341
CREATED:20260411T064708Z
LAST-MODIFIED:20260411T064708Z
UID:10865514-1777113000-1777116600@seniorocity.com.au
SUMMARY:Bindoon ANZAC Day Event
DESCRIPTION:Annual ANZAC Day on Saturday the 25th of April. The service was made possible with thanks to the Bindoon RSL\, RAAF Base Pearce\, Bindoon Sport and Recreation Association\, BEAT\, Chittering Scouts\, Chittering Bindoon CWA\, Bindoon Belles CWA and The Shire of Chittering.\nIf you would like to join the march\, please meet at the Bindoon Oval Cricket Nets at 10:45am\, ceremony commences at 11:00am.\nIf you would like to place a wreath\, please place it on the table provided before 10:30am.\nFor more information\, contact Emilie McAuliffe emilie.moore@chittering.wa.gov.au or 9576 4601.
URL:https://seniorocity.com.au/whats-on-perth/bindoon-anzac-day-event/
LOCATION:Bindoon War Memorial\, Chinkabee Complex\, Bindoon\, WA\, Australia
CATEGORIES:Anzac
END:VEVENT
END:VCALENDAR