BEGIN:VCALENDAR
VERSION:2.0
PRODID:-//Seniorocity - Seniors / Over 55&#039;s Guide to Perth - ECPv6.15.11//NONSGML v1.0//EN
CALSCALE:GREGORIAN
METHOD:PUBLISH
X-WR-CALNAME:Seniorocity - Seniors / Over 55&#039;s Guide to Perth
X-ORIGINAL-URL:https://seniorocity.com.au
X-WR-CALDESC:Events for Seniorocity - Seniors / Over 55&#039;s Guide to Perth
REFRESH-INTERVAL;VALUE=DURATION:PT1H
X-Robots-Tag:noindex
X-PUBLISHED-TTL:PT1H
BEGIN:VTIMEZONE
TZID:Australia/Perth
BEGIN:STANDARD
TZOFFSETFROM:+0800
TZOFFSETTO:+0800
TZNAME:AWST
DTSTART:20250101T000000
END:STANDARD
END:VTIMEZONE
BEGIN:VEVENT
DTSTART;TZID=Australia/Perth:20260423T140000
DTEND;TZID=Australia/Perth:20260423T160000
DTSTAMP:20260420T232236
CREATED:20260303T141231Z
LAST-MODIFIED:20260303T141231Z
UID:10864051-1776952800-1776960000@seniorocity.com.au
SUMMARY:Board Games Group
DESCRIPTION:Board Games – Fun for everyone \nFor anyone who loves to play board games or wants to learn to play. Bring a friend or neighbour. Games like bingo\, Mexican train and scrabble are played regularly.
URL:https://seniorocity.com.au/whats-on-perth/board-games-group/2026-04-23/
LOCATION:Blue Gum Community Centre\, 33 Moolyeen Road\, Brentwood\, WA\, 6153\, Australia
CATEGORIES:Games,Meet New People,Social
ATTACH;FMTTYPE=image/jpeg:https://seniorocity.com.au/wp-content/uploads/2026/03/Board-Games-Group.jpg
END:VEVENT
END:VCALENDAR