BEGIN:VCALENDAR
VERSION:2.0
PRODID:-//Seniorocity - Seniors / Over 55&#039;s Guide to Perth - ECPv6.15.11//NONSGML v1.0//EN
CALSCALE:GREGORIAN
METHOD:PUBLISH
X-WR-CALNAME:Seniorocity - Seniors / Over 55&#039;s Guide to Perth
X-ORIGINAL-URL:https://seniorocity.com.au
X-WR-CALDESC:Events for Seniorocity - Seniors / Over 55&#039;s Guide to Perth
REFRESH-INTERVAL;VALUE=DURATION:PT1H
X-Robots-Tag:noindex
X-PUBLISHED-TTL:PT1H
BEGIN:VTIMEZONE
TZID:Australia/Perth
BEGIN:STANDARD
TZOFFSETFROM:+0800
TZOFFSETTO:+0800
TZNAME:AWST
DTSTART:20250101T000000
END:STANDARD
END:VTIMEZONE
BEGIN:VEVENT
DTSTART;TZID=Australia/Perth:20260424T170000
DTEND;TZID=Australia/Perth:20260424T200000
DTSTAMP:20260423T222519
CREATED:20260115T114404Z
LAST-MODIFIED:20260115T114404Z
UID:10861813-1777050000-1777060800@seniorocity.com.au
SUMMARY:Live Music
DESCRIPTION:Enjoy great live music while you sip on your favourite brew. Join us for a weekend of good tunes and great company. \nThursday: 5pm – 8pm \nFriday: 5pm – 8pm \nSaturday: 7pm-10pm \nSunday: 1:30pm – 3:30pm \nGrab a drink\, find a spot\, and let the music set the tone for a great time. \nTerms and conditions apply. 18+ only. We promote the responsible service of alcohol – drink responsibly.\nPlease be aware that this offer is unavailable on public holidays.\n\n\n\nBook a table
URL:https://seniorocity.com.au/whats-on-perth/live-music/2026-04-24/
LOCATION:Brewdog Perth\, 16 Gordon Street\, West Perth\, WA\, 6005\, Australia
CATEGORIES:Free,Music Event
ATTACH;FMTTYPE=image/jpeg:https://seniorocity.com.au/wp-content/uploads/2026/01/Live-Music-Brewdog.jpg
END:VEVENT
END:VCALENDAR