BEGIN:VCALENDAR
VERSION:2.0
PRODID:-//Seniorocity - Seniors / Over 55&#039;s Guide to Perth - ECPv6.15.11//NONSGML v1.0//EN
CALSCALE:GREGORIAN
METHOD:PUBLISH
X-ORIGINAL-URL:https://seniorocity.com.au
X-WR-CALDESC:Events for Seniorocity - Seniors / Over 55&#039;s Guide to Perth
REFRESH-INTERVAL;VALUE=DURATION:PT1H
X-Robots-Tag:noindex
X-PUBLISHED-TTL:PT1H
BEGIN:VTIMEZONE
TZID:Australia/Perth
BEGIN:STANDARD
TZOFFSETFROM:+0800
TZOFFSETTO:+0800
TZNAME:AWST
DTSTART:20250101T000000
END:STANDARD
END:VTIMEZONE
BEGIN:VEVENT
DTSTART;TZID=Australia/Perth:20260417T080000
DTEND;TZID=Australia/Perth:20260417T170000
DTSTAMP:20260421T041426
CREATED:20260416T161453Z
LAST-MODIFIED:20260416T161453Z
UID:10865822-1776412800-1776445200@seniorocity.com.au
SUMMARY:Bird walk and more
DESCRIPTION:Enjoy a guided walk through Clarkson Reserve led by experts Rachel and Mike Green. \nThis is the second in a series of three guided walks\, with the first taking place at Browns Lake Reserve in Bedford on Saturday 11 April\, and the third taking place at Arbor Park in Morley on Saturday 20 June. \nThis workshop is $10 per person. Registration essential. \nRegister \nSee website more information
URL:https://seniorocity.com.au/whats-on-perth/bird-walk-and-more/
LOCATION:Browns Lake Reserve\, 207 Coode St\, Bedford\, WA\, 6052\, Australia
CATEGORIES:Gardening & Environment,Walk,Workshop
ATTACH;FMTTYPE=image/webp:https://seniorocity.com.au/wp-content/uploads/2026/04/Bird-walk-and-more.webp
END:VEVENT
END:VCALENDAR