BEGIN:VCALENDAR
VERSION:2.0
PRODID:-//Seniorocity - Seniors / Over 55&#039;s Guide to Perth - ECPv6.15.11//NONSGML v1.0//EN
CALSCALE:GREGORIAN
METHOD:PUBLISH
X-ORIGINAL-URL:https://seniorocity.com.au
X-WR-CALDESC:Events for Seniorocity - Seniors / Over 55&#039;s Guide to Perth
REFRESH-INTERVAL;VALUE=DURATION:PT1H
X-Robots-Tag:noindex
X-PUBLISHED-TTL:PT1H
BEGIN:VTIMEZONE
TZID:Australia/Perth
BEGIN:STANDARD
TZOFFSETFROM:+0800
TZOFFSETTO:+0800
TZNAME:AWST
DTSTART:20250101T000000
END:STANDARD
END:VTIMEZONE
BEGIN:VEVENT
DTSTART;TZID=Australia/Perth:20260418T130000
DTEND;TZID=Australia/Perth:20260418T170000
DTSTAMP:20260420T230447
CREATED:20250712T073559Z
LAST-MODIFIED:20260102T072743Z
UID:10785929-1776517200-1776531600@seniorocity.com.au
SUMMARY:Modelling Group @ Cambridge Library
DESCRIPTION:Create life in miniature with the Modelling Group.
URL:https://seniorocity.com.au/whats-on-perth/modelling-group-cambridge-library-33/
LOCATION:Cambridge Library\, 99 The Boulevard\, Floreat\, WA\, 6014\, Australia
CATEGORIES:Library Events
ATTACH;FMTTYPE=image/jpeg:https://seniorocity.com.au/wp-content/uploads/2023/08/988af4a83b98b9a3f3a3fe4d98cd97eb.jpg
GEO:-31.93669;115.79335
X-APPLE-STRUCTURED-LOCATION;VALUE=URI;X-ADDRESS=Cambridge Library 99 The Boulevard Floreat WA 6014 Australia;X-APPLE-RADIUS=500;X-TITLE=99 The Boulevard:geo:115.79335,-31.93669
END:VEVENT
BEGIN:VEVENT
DTSTART;TZID=Australia/Perth:20260412T110000
DTEND;TZID=Australia/Perth:20260412T140000
DTSTAMP:20260420T230447
CREATED:20250712T075130Z
LAST-MODIFIED:20260102T072954Z
UID:10785987-1775991600-1776002400@seniorocity.com.au
SUMMARY:Origami Group @ Cambridge Library (All ages)
DESCRIPTION:Learn all about the art of Japanese paper folding with some local Origami experts. All ages and abilities are welcome.
URL:https://seniorocity.com.au/whats-on-perth/origami-group-cambridge-library-all-ages-16/
LOCATION:Cambridge Library\, 99 The Boulevard\, Floreat\, WA\, 6014\, Australia
CATEGORIES:Craft,Library Events
ATTACH;FMTTYPE=image/jpeg:https://seniorocity.com.au/wp-content/uploads/2023/08/2f4b95f36195d25f112bdddb3cc7f878.jpg
GEO:-31.93669;115.79335
X-APPLE-STRUCTURED-LOCATION;VALUE=URI;X-ADDRESS=Cambridge Library 99 The Boulevard Floreat WA 6014 Australia;X-APPLE-RADIUS=500;X-TITLE=99 The Boulevard:geo:115.79335,-31.93669
END:VEVENT
BEGIN:VEVENT
DTSTART;TZID=Australia/Perth:20260405T110000
DTEND;TZID=Australia/Perth:20260405T150000
DTSTAMP:20260420T230447
CREATED:20250713T073912Z
LAST-MODIFIED:20260402T154524Z
UID:10791409-1775386800-1775401200@seniorocity.com.au
SUMMARY:Boomerang Bags @ Cambridge Library (No booking required)
DESCRIPTION:Join the anti-waste revolution and come along to the Boomerang Bags sewing group.
URL:https://seniorocity.com.au/whats-on-perth/boomerang-bags-cambridge-library-15/
LOCATION:Cambridge Library\, 99 The Boulevard\, Floreat\, WA\, 6014\, Australia
CATEGORIES:Craft
ATTACH;FMTTYPE=image/jpeg:https://seniorocity.com.au/wp-content/uploads/2023/08/339b91a9279389fcd905aaf693b75acb.jpg
GEO:-31.93669;115.79335
X-APPLE-STRUCTURED-LOCATION;VALUE=URI;X-ADDRESS=Cambridge Library 99 The Boulevard Floreat WA 6014 Australia;X-APPLE-RADIUS=500;X-TITLE=99 The Boulevard:geo:115.79335,-31.93669
END:VEVENT
BEGIN:VEVENT
DTSTART;TZID=Australia/Perth:20260404T130000
DTEND;TZID=Australia/Perth:20260404T170000
DTSTAMP:20260420T230447
CREATED:20250712T073559Z
LAST-MODIFIED:20260102T072658Z
UID:10785928-1775307600-1775322000@seniorocity.com.au
SUMMARY:Modelling Group @ Cambridge Library
DESCRIPTION:Create life in miniature with the Modelling Group.
URL:https://seniorocity.com.au/whats-on-perth/modelling-group-cambridge-library-32/
LOCATION:Cambridge Library\, 99 The Boulevard\, Floreat\, WA\, 6014\, Australia
CATEGORIES:Library Events
ATTACH;FMTTYPE=image/jpeg:https://seniorocity.com.au/wp-content/uploads/2023/08/988af4a83b98b9a3f3a3fe4d98cd97eb.jpg
GEO:-31.93669;115.79335
X-APPLE-STRUCTURED-LOCATION;VALUE=URI;X-ADDRESS=Cambridge Library 99 The Boulevard Floreat WA 6014 Australia;X-APPLE-RADIUS=500;X-TITLE=99 The Boulevard:geo:115.79335,-31.93669
END:VEVENT
BEGIN:VEVENT
DTSTART;TZID=Australia/Perth:20260321T130000
DTEND;TZID=Australia/Perth:20260321T170000
DTSTAMP:20260420T230447
CREATED:20250712T073558Z
LAST-MODIFIED:20260102T072647Z
UID:10785927-1774098000-1774112400@seniorocity.com.au
SUMMARY:Modelling Group @ Cambridge Library
DESCRIPTION:Create life in miniature with the Modelling Group.
URL:https://seniorocity.com.au/whats-on-perth/modelling-group-cambridge-library-31/
LOCATION:Cambridge Library\, 99 The Boulevard\, Floreat\, WA\, 6014\, Australia
CATEGORIES:Library Events
ATTACH;FMTTYPE=image/jpeg:https://seniorocity.com.au/wp-content/uploads/2023/08/988af4a83b98b9a3f3a3fe4d98cd97eb.jpg
GEO:-31.93669;115.79335
X-APPLE-STRUCTURED-LOCATION;VALUE=URI;X-ADDRESS=Cambridge Library 99 The Boulevard Floreat WA 6014 Australia;X-APPLE-RADIUS=500;X-TITLE=99 The Boulevard:geo:115.79335,-31.93669
END:VEVENT
BEGIN:VEVENT
DTSTART;TZID=Australia/Perth:20260316T140000
DTEND;TZID=Australia/Perth:20260316T150000
DTSTAMP:20260420T230447
CREATED:20260212T131247Z
LAST-MODIFIED:20260212T131247Z
UID:10863558-1773669600-1773673200@seniorocity.com.au
SUMMARY:Advocare Information Session
DESCRIPTION:Looking to learn more about your rights\, advocacy support\, or navigating aged-care services? Advocare will be hosting a free information session at the Cambridge Library\, and everyone is welcome to attend. \nThis is a great opportunity to: \n• Understand the support Advocare provides \n• Learn how to access advocacy services \n• Ask questions in a friendly\, supportive environment.
URL:https://seniorocity.com.au/whats-on-perth/advocare-information-session-3/
LOCATION:Cambridge Library\, 99 The Boulevard\, Floreat\, WA\, 6014\, Australia
CATEGORIES:Free,Health,Information Session,Library Events
ATTACH;FMTTYPE=image/png:https://seniorocity.com.au/wp-content/uploads/2026/02/Advocare-Information-Session.png
GEO:-31.93669;115.79335
X-APPLE-STRUCTURED-LOCATION;VALUE=URI;X-ADDRESS=Cambridge Library 99 The Boulevard Floreat WA 6014 Australia;X-APPLE-RADIUS=500;X-TITLE=99 The Boulevard:geo:115.79335,-31.93669
END:VEVENT
BEGIN:VEVENT
DTSTART;TZID=Australia/Perth:20260308T110000
DTEND;TZID=Australia/Perth:20260308T140000
DTSTAMP:20260420T230447
CREATED:20250712T075129Z
LAST-MODIFIED:20260102T072943Z
UID:10785986-1772967600-1772978400@seniorocity.com.au
SUMMARY:Origami Group @ Cambridge Library (All ages)
DESCRIPTION:Learn all about the art of Japanese paper folding with some local Origami experts. All ages and abilities are welcome.
URL:https://seniorocity.com.au/whats-on-perth/origami-group-cambridge-library-all-ages-15/
LOCATION:Cambridge Library\, 99 The Boulevard\, Floreat\, WA\, 6014\, Australia
CATEGORIES:Craft,Library Events
ATTACH;FMTTYPE=image/jpeg:https://seniorocity.com.au/wp-content/uploads/2023/08/2f4b95f36195d25f112bdddb3cc7f878.jpg
GEO:-31.93669;115.79335
X-APPLE-STRUCTURED-LOCATION;VALUE=URI;X-ADDRESS=Cambridge Library 99 The Boulevard Floreat WA 6014 Australia;X-APPLE-RADIUS=500;X-TITLE=99 The Boulevard:geo:115.79335,-31.93669
END:VEVENT
BEGIN:VEVENT
DTSTART;TZID=Australia/Perth:20260307T130000
DTEND;TZID=Australia/Perth:20260307T170000
DTSTAMP:20260420T230447
CREATED:20250712T073558Z
LAST-MODIFIED:20260102T072637Z
UID:10785926-1772888400-1772902800@seniorocity.com.au
SUMMARY:Modelling Group @ Cambridge Library
DESCRIPTION:Create life in miniature with the Modelling Group.
URL:https://seniorocity.com.au/whats-on-perth/modelling-group-cambridge-library-30/
LOCATION:Cambridge Library\, 99 The Boulevard\, Floreat\, WA\, 6014\, Australia
CATEGORIES:Library Events
ATTACH;FMTTYPE=image/jpeg:https://seniorocity.com.au/wp-content/uploads/2023/08/988af4a83b98b9a3f3a3fe4d98cd97eb.jpg
GEO:-31.93669;115.79335
X-APPLE-STRUCTURED-LOCATION;VALUE=URI;X-ADDRESS=Cambridge Library 99 The Boulevard Floreat WA 6014 Australia;X-APPLE-RADIUS=500;X-TITLE=99 The Boulevard:geo:115.79335,-31.93669
END:VEVENT
BEGIN:VEVENT
DTSTART;TZID=Australia/Perth:20260301T110000
DTEND;TZID=Australia/Perth:20260301T150000
DTSTAMP:20260420T230447
CREATED:20250713T073912Z
LAST-MODIFIED:20251011T170456Z
UID:10791408-1772362800-1772377200@seniorocity.com.au
SUMMARY:Boomerang Bags @ Cambridge Library
DESCRIPTION:Join the anti-waste revolution and come along to the Boomerang Bags sewing group.
URL:https://seniorocity.com.au/whats-on-perth/boomerang-bags-cambridge-library-14/
LOCATION:Cambridge Library\, 99 The Boulevard\, Floreat\, WA\, 6014\, Australia
CATEGORIES:Craft
ATTACH;FMTTYPE=image/jpeg:https://seniorocity.com.au/wp-content/uploads/2023/08/339b91a9279389fcd905aaf693b75acb.jpg
GEO:-31.93669;115.79335
X-APPLE-STRUCTURED-LOCATION;VALUE=URI;X-ADDRESS=Cambridge Library 99 The Boulevard Floreat WA 6014 Australia;X-APPLE-RADIUS=500;X-TITLE=99 The Boulevard:geo:115.79335,-31.93669
END:VEVENT
BEGIN:VEVENT
DTSTART;TZID=Australia/Perth:20260221T130000
DTEND;TZID=Australia/Perth:20260221T170000
DTSTAMP:20260420T230447
CREATED:20250712T073558Z
LAST-MODIFIED:20260102T072626Z
UID:10785925-1771678800-1771693200@seniorocity.com.au
SUMMARY:Modelling Group @ Cambridge Library
DESCRIPTION:Create life in miniature with the Modelling Group.
URL:https://seniorocity.com.au/whats-on-perth/modelling-group-cambridge-library-29/
LOCATION:Cambridge Library\, 99 The Boulevard\, Floreat\, WA\, 6014\, Australia
CATEGORIES:Library Events
ATTACH;FMTTYPE=image/jpeg:https://seniorocity.com.au/wp-content/uploads/2023/08/988af4a83b98b9a3f3a3fe4d98cd97eb.jpg
GEO:-31.93669;115.79335
X-APPLE-STRUCTURED-LOCATION;VALUE=URI;X-ADDRESS=Cambridge Library 99 The Boulevard Floreat WA 6014 Australia;X-APPLE-RADIUS=500;X-TITLE=99 The Boulevard:geo:115.79335,-31.93669
END:VEVENT
BEGIN:VEVENT
DTSTART;TZID=Australia/Perth:20260208T110000
DTEND;TZID=Australia/Perth:20260208T140000
DTSTAMP:20260420T230447
CREATED:20250712T075129Z
LAST-MODIFIED:20260102T072932Z
UID:10785985-1770548400-1770559200@seniorocity.com.au
SUMMARY:Origami Group @ Cambridge Library (All ages)
DESCRIPTION:Learn all about the art of Japanese paper folding with some local Origami experts. All ages and abilities are welcome.
URL:https://seniorocity.com.au/whats-on-perth/origami-group-cambridge-library-all-ages-14/
LOCATION:Cambridge Library\, 99 The Boulevard\, Floreat\, WA\, 6014\, Australia
CATEGORIES:Craft,Library Events
ATTACH;FMTTYPE=image/jpeg:https://seniorocity.com.au/wp-content/uploads/2023/08/2f4b95f36195d25f112bdddb3cc7f878.jpg
GEO:-31.93669;115.79335
X-APPLE-STRUCTURED-LOCATION;VALUE=URI;X-ADDRESS=Cambridge Library 99 The Boulevard Floreat WA 6014 Australia;X-APPLE-RADIUS=500;X-TITLE=99 The Boulevard:geo:115.79335,-31.93669
END:VEVENT
BEGIN:VEVENT
DTSTART;TZID=Australia/Perth:20260207T130000
DTEND;TZID=Australia/Perth:20260207T170000
DTSTAMP:20260420T230447
CREATED:20250712T073557Z
LAST-MODIFIED:20260102T072615Z
UID:10785924-1770469200-1770483600@seniorocity.com.au
SUMMARY:Modelling Group @ Cambridge Library
DESCRIPTION:Create life in miniature with the Modelling Group.
URL:https://seniorocity.com.au/whats-on-perth/modelling-group-cambridge-library-28/
LOCATION:Cambridge Library\, 99 The Boulevard\, Floreat\, WA\, 6014\, Australia
CATEGORIES:Library Events
ATTACH;FMTTYPE=image/jpeg:https://seniorocity.com.au/wp-content/uploads/2023/08/988af4a83b98b9a3f3a3fe4d98cd97eb.jpg
GEO:-31.93669;115.79335
X-APPLE-STRUCTURED-LOCATION;VALUE=URI;X-ADDRESS=Cambridge Library 99 The Boulevard Floreat WA 6014 Australia;X-APPLE-RADIUS=500;X-TITLE=99 The Boulevard:geo:115.79335,-31.93669
END:VEVENT
BEGIN:VEVENT
DTSTART;TZID=Australia/Perth:20260201T110000
DTEND;TZID=Australia/Perth:20260201T150000
DTSTAMP:20260420T230447
CREATED:20250713T073911Z
LAST-MODIFIED:20251011T170447Z
UID:10791407-1769943600-1769958000@seniorocity.com.au
SUMMARY:Boomerang Bags @ Cambridge Library
DESCRIPTION:Join the anti-waste revolution and come along to the Boomerang Bags sewing group.
URL:https://seniorocity.com.au/whats-on-perth/boomerang-bags-cambridge-library-13/
LOCATION:Cambridge Library\, 99 The Boulevard\, Floreat\, WA\, 6014\, Australia
CATEGORIES:Craft
ATTACH;FMTTYPE=image/jpeg:https://seniorocity.com.au/wp-content/uploads/2023/08/339b91a9279389fcd905aaf693b75acb.jpg
GEO:-31.93669;115.79335
X-APPLE-STRUCTURED-LOCATION;VALUE=URI;X-ADDRESS=Cambridge Library 99 The Boulevard Floreat WA 6014 Australia;X-APPLE-RADIUS=500;X-TITLE=99 The Boulevard:geo:115.79335,-31.93669
END:VEVENT
BEGIN:VEVENT
DTSTART;TZID=Australia/Perth:20260124T130000
DTEND;TZID=Australia/Perth:20260124T170000
DTSTAMP:20260420T230447
CREATED:20250712T073557Z
LAST-MODIFIED:20260102T072556Z
UID:10785923-1769259600-1769274000@seniorocity.com.au
SUMMARY:Modelling Group @ Cambridge Library
DESCRIPTION:Create life in miniature with the Modelling Group.
URL:https://seniorocity.com.au/whats-on-perth/modelling-group-cambridge-library-27/
LOCATION:Cambridge Library\, 99 The Boulevard\, Floreat\, WA\, 6014\, Australia
CATEGORIES:Library Events
ATTACH;FMTTYPE=image/jpeg:https://seniorocity.com.au/wp-content/uploads/2023/08/988af4a83b98b9a3f3a3fe4d98cd97eb.jpg
GEO:-31.93669;115.79335
X-APPLE-STRUCTURED-LOCATION;VALUE=URI;X-ADDRESS=Cambridge Library 99 The Boulevard Floreat WA 6014 Australia;X-APPLE-RADIUS=500;X-TITLE=99 The Boulevard:geo:115.79335,-31.93669
END:VEVENT
END:VCALENDAR