BEGIN:VCALENDAR
VERSION:2.0
PRODID:-//Seniorocity - Seniors / Over 55&#039;s Guide to Perth - ECPv6.15.11//NONSGML v1.0//EN
CALSCALE:GREGORIAN
METHOD:PUBLISH
X-WR-CALNAME:Seniorocity - Seniors / Over 55&#039;s Guide to Perth
X-ORIGINAL-URL:https://seniorocity.com.au
X-WR-CALDESC:Events for Seniorocity - Seniors / Over 55&#039;s Guide to Perth
REFRESH-INTERVAL;VALUE=DURATION:PT1H
X-Robots-Tag:noindex
X-PUBLISHED-TTL:PT1H
BEGIN:VTIMEZONE
TZID:Australia/Perth
BEGIN:STANDARD
TZOFFSETFROM:+0800
TZOFFSETTO:+0800
TZNAME:AWST
DTSTART:20250101T000000
END:STANDARD
END:VTIMEZONE
BEGIN:VEVENT
DTSTART;TZID=Australia/Perth:20260421T100000
DTEND;TZID=Australia/Perth:20260421T113000
DTSTAMP:20260420T230147
CREATED:20260212T131900Z
LAST-MODIFIED:20260212T131900Z
UID:10863559-1776765600-1776771000@seniorocity.com.au
SUMMARY:Understanding Climate Change & How to Take Action | Cambridge Library
DESCRIPTION:Understanding the Climate Crisis: Practical Steps for Change\nGain a clear understanding of the climate crisis and explore practical steps you can take to make a difference. This workshop examines the causes and impacts of climate change\, the power of collective action\, and offers actionable strategies for individuals and communities. Participants will leave inspired and equipped to contribute to a more sustainable\, climate-resilient future. \nAbout the FacilitatorSharka is the founder of Donut Waste. She holds a Diploma of Sustainable Living\, is Future-Fit Business-accredited\, and has completed training in circular-economy and carbon-accounting practices. She also founded the Circular Economy Meetups in Perth to foster cross-sector collaboration and spark innovation. Sharka is passionate about reminding people that individual action matters — and that change can start with something as small as a doughnut. \nRegister now
URL:https://seniorocity.com.au/whats-on-perth/understanding-climate-change-how-to-take-action-cambridge-library/
LOCATION:Cambridge Library\, 99 The Boulevard\, Floreat\, WA\, 6014\, Australia
CATEGORIES:Free,Gardening & Environment,Information Session
ATTACH;FMTTYPE=image/jpeg:https://seniorocity.com.au/wp-content/uploads/2026/02/Understanding-Climate-Change-How-to-Take-Action-Cambridge-Library.jpg
GEO:-31.93669;115.79335
X-APPLE-STRUCTURED-LOCATION;VALUE=URI;X-ADDRESS=Cambridge Library 99 The Boulevard Floreat WA 6014 Australia;X-APPLE-RADIUS=500;X-TITLE=99 The Boulevard:geo:115.79335,-31.93669
END:VEVENT
BEGIN:VEVENT
DTSTART;TZID=Australia/Perth:20260502T130000
DTEND;TZID=Australia/Perth:20260502T170000
DTSTAMP:20260420T230147
CREATED:20250712T073559Z
LAST-MODIFIED:20260102T072755Z
UID:10785930-1777726800-1777741200@seniorocity.com.au
SUMMARY:Modelling Group @ Cambridge Library
DESCRIPTION:Create life in miniature with the Modelling Group.
URL:https://seniorocity.com.au/whats-on-perth/modelling-group-cambridge-library-34/
LOCATION:Cambridge Library\, 99 The Boulevard\, Floreat\, WA\, 6014\, Australia
CATEGORIES:Library Events
ATTACH;FMTTYPE=image/jpeg:https://seniorocity.com.au/wp-content/uploads/2023/08/988af4a83b98b9a3f3a3fe4d98cd97eb.jpg
GEO:-31.93669;115.79335
X-APPLE-STRUCTURED-LOCATION;VALUE=URI;X-ADDRESS=Cambridge Library 99 The Boulevard Floreat WA 6014 Australia;X-APPLE-RADIUS=500;X-TITLE=99 The Boulevard:geo:115.79335,-31.93669
END:VEVENT
BEGIN:VEVENT
DTSTART;TZID=Australia/Perth:20260503T110000
DTEND;TZID=Australia/Perth:20260503T150000
DTSTAMP:20260420T230147
CREATED:20250713T073912Z
LAST-MODIFIED:20260402T154535Z
UID:10791410-1777806000-1777820400@seniorocity.com.au
SUMMARY:Boomerang Bags @ Cambridge Library (No booking required)
DESCRIPTION:Join the anti-waste revolution and come along to the Boomerang Bags sewing group.
URL:https://seniorocity.com.au/whats-on-perth/boomerang-bags-cambridge-library-16/
LOCATION:Cambridge Library\, 99 The Boulevard\, Floreat\, WA\, 6014\, Australia
CATEGORIES:Craft
ATTACH;FMTTYPE=image/jpeg:https://seniorocity.com.au/wp-content/uploads/2023/08/339b91a9279389fcd905aaf693b75acb.jpg
GEO:-31.93669;115.79335
X-APPLE-STRUCTURED-LOCATION;VALUE=URI;X-ADDRESS=Cambridge Library 99 The Boulevard Floreat WA 6014 Australia;X-APPLE-RADIUS=500;X-TITLE=99 The Boulevard:geo:115.79335,-31.93669
END:VEVENT
BEGIN:VEVENT
DTSTART;TZID=Australia/Perth:20260510T110000
DTEND;TZID=Australia/Perth:20260510T140000
DTSTAMP:20260420T230147
CREATED:20250712T075135Z
LAST-MODIFIED:20260102T073006Z
UID:10785982-1778410800-1778421600@seniorocity.com.au
SUMMARY:Origami Group @ Cambridge Library (All ages)
DESCRIPTION:Learn all about the art of Japanese paper folding with some local Origami experts. All ages and abilities are welcome.
URL:https://seniorocity.com.au/whats-on-perth/origami-group-cambridge-library-all-ages-17/
LOCATION:Cambridge Library\, 99 The Boulevard\, Floreat\, WA\, 6014\, Australia
CATEGORIES:Craft,Library Events
ATTACH;FMTTYPE=image/jpeg:https://seniorocity.com.au/wp-content/uploads/2023/08/2f4b95f36195d25f112bdddb3cc7f878.jpg
GEO:-31.93669;115.79335
X-APPLE-STRUCTURED-LOCATION;VALUE=URI;X-ADDRESS=Cambridge Library 99 The Boulevard Floreat WA 6014 Australia;X-APPLE-RADIUS=500;X-TITLE=99 The Boulevard:geo:115.79335,-31.93669
END:VEVENT
BEGIN:VEVENT
DTSTART;TZID=Australia/Perth:20260516T130000
DTEND;TZID=Australia/Perth:20260516T170000
DTSTAMP:20260420T230147
CREATED:20250712T073600Z
LAST-MODIFIED:20260102T072810Z
UID:10785931-1778936400-1778950800@seniorocity.com.au
SUMMARY:Modelling Group @ Cambridge Library
DESCRIPTION:Create life in miniature with the Modelling Group.
URL:https://seniorocity.com.au/whats-on-perth/modelling-group-cambridge-library-35/
LOCATION:Cambridge Library\, 99 The Boulevard\, Floreat\, WA\, 6014\, Australia
CATEGORIES:Library Events
ATTACH;FMTTYPE=image/jpeg:https://seniorocity.com.au/wp-content/uploads/2023/08/988af4a83b98b9a3f3a3fe4d98cd97eb.jpg
GEO:-31.93669;115.79335
X-APPLE-STRUCTURED-LOCATION;VALUE=URI;X-ADDRESS=Cambridge Library 99 The Boulevard Floreat WA 6014 Australia;X-APPLE-RADIUS=500;X-TITLE=99 The Boulevard:geo:115.79335,-31.93669
END:VEVENT
BEGIN:VEVENT
DTSTART;TZID=Australia/Perth:20260530T130000
DTEND;TZID=Australia/Perth:20260530T170000
DTSTAMP:20260420T230147
CREATED:20250712T073601Z
LAST-MODIFIED:20260102T072822Z
UID:10785932-1780146000-1780160400@seniorocity.com.au
SUMMARY:Modelling Group @ Cambridge Library
DESCRIPTION:Create life in miniature with the Modelling Group.
URL:https://seniorocity.com.au/whats-on-perth/modelling-group-cambridge-library-36/
LOCATION:Cambridge Library\, 99 The Boulevard\, Floreat\, WA\, 6014\, Australia
CATEGORIES:Library Events
ATTACH;FMTTYPE=image/jpeg:https://seniorocity.com.au/wp-content/uploads/2023/08/988af4a83b98b9a3f3a3fe4d98cd97eb.jpg
GEO:-31.93669;115.79335
X-APPLE-STRUCTURED-LOCATION;VALUE=URI;X-ADDRESS=Cambridge Library 99 The Boulevard Floreat WA 6014 Australia;X-APPLE-RADIUS=500;X-TITLE=99 The Boulevard:geo:115.79335,-31.93669
END:VEVENT
BEGIN:VEVENT
DTSTART;TZID=Australia/Perth:20260607T110000
DTEND;TZID=Australia/Perth:20260607T150000
DTSTAMP:20260420T230147
CREATED:20250713T073919Z
LAST-MODIFIED:20260402T154545Z
UID:10791406-1780830000-1780844400@seniorocity.com.au
SUMMARY:Boomerang Bags @ Cambridge Library (No booking required)
DESCRIPTION:Join the anti-waste revolution and come along to the Boomerang Bags sewing group.
URL:https://seniorocity.com.au/whats-on-perth/boomerang-bags-cambridge-library-17/
LOCATION:Cambridge Library\, 99 The Boulevard\, Floreat\, WA\, 6014\, Australia
CATEGORIES:Craft
ATTACH;FMTTYPE=image/jpeg:https://seniorocity.com.au/wp-content/uploads/2023/08/339b91a9279389fcd905aaf693b75acb.jpg
GEO:-31.93669;115.79335
X-APPLE-STRUCTURED-LOCATION;VALUE=URI;X-ADDRESS=Cambridge Library 99 The Boulevard Floreat WA 6014 Australia;X-APPLE-RADIUS=500;X-TITLE=99 The Boulevard:geo:115.79335,-31.93669
END:VEVENT
BEGIN:VEVENT
DTSTART;TZID=Australia/Perth:20260613T130000
DTEND;TZID=Australia/Perth:20260613T170000
DTSTAMP:20260420T230147
CREATED:20250712T073601Z
LAST-MODIFIED:20260102T072834Z
UID:10785933-1781355600-1781370000@seniorocity.com.au
SUMMARY:Modelling Group @ Cambridge Library
DESCRIPTION:Create life in miniature with the Modelling Group.
URL:https://seniorocity.com.au/whats-on-perth/modelling-group-cambridge-library-37/
LOCATION:Cambridge Library\, 99 The Boulevard\, Floreat\, WA\, 6014\, Australia
CATEGORIES:Library Events
ATTACH;FMTTYPE=image/jpeg:https://seniorocity.com.au/wp-content/uploads/2023/08/988af4a83b98b9a3f3a3fe4d98cd97eb.jpg
GEO:-31.93669;115.79335
X-APPLE-STRUCTURED-LOCATION;VALUE=URI;X-ADDRESS=Cambridge Library 99 The Boulevard Floreat WA 6014 Australia;X-APPLE-RADIUS=500;X-TITLE=99 The Boulevard:geo:115.79335,-31.93669
END:VEVENT
BEGIN:VEVENT
DTSTART;TZID=Australia/Perth:20260614T110000
DTEND;TZID=Australia/Perth:20260614T140000
DTSTAMP:20260420T230147
CREATED:20250712T075136Z
LAST-MODIFIED:20260102T073018Z
UID:10785984-1781434800-1781445600@seniorocity.com.au
SUMMARY:Origami Group @ Cambridge Library (All ages)
DESCRIPTION:Learn all about the art of Japanese paper folding with some local Origami experts. All ages and abilities are welcome.
URL:https://seniorocity.com.au/whats-on-perth/origami-group-cambridge-library-all-ages-18/
LOCATION:Cambridge Library\, 99 The Boulevard\, Floreat\, WA\, 6014\, Australia
CATEGORIES:Craft,Library Events
ATTACH;FMTTYPE=image/jpeg:https://seniorocity.com.au/wp-content/uploads/2023/08/2f4b95f36195d25f112bdddb3cc7f878.jpg
GEO:-31.93669;115.79335
X-APPLE-STRUCTURED-LOCATION;VALUE=URI;X-ADDRESS=Cambridge Library 99 The Boulevard Floreat WA 6014 Australia;X-APPLE-RADIUS=500;X-TITLE=99 The Boulevard:geo:115.79335,-31.93669
END:VEVENT
BEGIN:VEVENT
DTSTART;TZID=Australia/Perth:20260627T130000
DTEND;TZID=Australia/Perth:20260627T170000
DTSTAMP:20260420T230147
CREATED:20250712T073601Z
LAST-MODIFIED:20260102T072845Z
UID:10785934-1782565200-1782579600@seniorocity.com.au
SUMMARY:Modelling Group @ Cambridge Library
DESCRIPTION:Create life in miniature with the Modelling Group.
URL:https://seniorocity.com.au/whats-on-perth/modelling-group-cambridge-library-38/
LOCATION:Cambridge Library\, 99 The Boulevard\, Floreat\, WA\, 6014\, Australia
CATEGORIES:Library Events
ATTACH;FMTTYPE=image/jpeg:https://seniorocity.com.au/wp-content/uploads/2023/08/988af4a83b98b9a3f3a3fe4d98cd97eb.jpg
GEO:-31.93669;115.79335
X-APPLE-STRUCTURED-LOCATION;VALUE=URI;X-ADDRESS=Cambridge Library 99 The Boulevard Floreat WA 6014 Australia;X-APPLE-RADIUS=500;X-TITLE=99 The Boulevard:geo:115.79335,-31.93669
END:VEVENT
BEGIN:VEVENT
DTSTART;TZID=Australia/Perth:20260711T130000
DTEND;TZID=Australia/Perth:20260711T170000
DTSTAMP:20260420T230147
CREATED:20250712T073602Z
LAST-MODIFIED:20260102T072855Z
UID:10785935-1783774800-1783789200@seniorocity.com.au
SUMMARY:Modelling Group @ Cambridge Library
DESCRIPTION:Create life in miniature with the Modelling Group.
URL:https://seniorocity.com.au/whats-on-perth/modelling-group-cambridge-library-39/
LOCATION:Cambridge Library\, 99 The Boulevard\, Floreat\, WA\, 6014\, Australia
CATEGORIES:Library Events
ATTACH;FMTTYPE=image/jpeg:https://seniorocity.com.au/wp-content/uploads/2023/08/988af4a83b98b9a3f3a3fe4d98cd97eb.jpg
GEO:-31.93669;115.79335
X-APPLE-STRUCTURED-LOCATION;VALUE=URI;X-ADDRESS=Cambridge Library 99 The Boulevard Floreat WA 6014 Australia;X-APPLE-RADIUS=500;X-TITLE=99 The Boulevard:geo:115.79335,-31.93669
END:VEVENT
BEGIN:VEVENT
DTSTART;TZID=Australia/Perth:20260725T130000
DTEND;TZID=Australia/Perth:20260725T170000
DTSTAMP:20260420T230147
CREATED:20250712T073602Z
LAST-MODIFIED:20260102T072907Z
UID:10785936-1784984400-1784998800@seniorocity.com.au
SUMMARY:Modelling Group @ Cambridge Library
DESCRIPTION:Create life in miniature with the Modelling Group.
URL:https://seniorocity.com.au/whats-on-perth/modelling-group-cambridge-library-40/
LOCATION:Cambridge Library\, 99 The Boulevard\, Floreat\, WA\, 6014\, Australia
CATEGORIES:Library Events
ATTACH;FMTTYPE=image/jpeg:https://seniorocity.com.au/wp-content/uploads/2023/08/988af4a83b98b9a3f3a3fe4d98cd97eb.jpg
GEO:-31.93669;115.79335
X-APPLE-STRUCTURED-LOCATION;VALUE=URI;X-ADDRESS=Cambridge Library 99 The Boulevard Floreat WA 6014 Australia;X-APPLE-RADIUS=500;X-TITLE=99 The Boulevard:geo:115.79335,-31.93669
END:VEVENT
BEGIN:VEVENT
DTSTART;TZID=Australia/Perth:20260808T130000
DTEND;TZID=Australia/Perth:20260808T170000
DTSTAMP:20260420T230147
CREATED:20250712T073603Z
LAST-MODIFIED:20260102T072919Z
UID:10785937-1786194000-1786208400@seniorocity.com.au
SUMMARY:Modelling Group @ Cambridge Library
DESCRIPTION:Create life in miniature with the Modelling Group.
URL:https://seniorocity.com.au/whats-on-perth/modelling-group-cambridge-library-41/
LOCATION:Cambridge Library\, 99 The Boulevard\, Floreat\, WA\, 6014\, Australia
CATEGORIES:Library Events
ATTACH;FMTTYPE=image/jpeg:https://seniorocity.com.au/wp-content/uploads/2023/08/988af4a83b98b9a3f3a3fe4d98cd97eb.jpg
GEO:-31.93669;115.79335
X-APPLE-STRUCTURED-LOCATION;VALUE=URI;X-ADDRESS=Cambridge Library 99 The Boulevard Floreat WA 6014 Australia;X-APPLE-RADIUS=500;X-TITLE=99 The Boulevard:geo:115.79335,-31.93669
END:VEVENT
END:VCALENDAR