BEGIN:VCALENDAR
VERSION:2.0
PRODID:-//Seniorocity - Seniors / Over 55&#039;s Guide to Perth - ECPv6.15.11//NONSGML v1.0//EN
CALSCALE:GREGORIAN
METHOD:PUBLISH
X-ORIGINAL-URL:https://seniorocity.com.au
X-WR-CALDESC:Events for Seniorocity - Seniors / Over 55&#039;s Guide to Perth
REFRESH-INTERVAL;VALUE=DURATION:PT1H
X-Robots-Tag:noindex
X-PUBLISHED-TTL:PT1H
BEGIN:VTIMEZONE
TZID:Australia/Perth
BEGIN:STANDARD
TZOFFSETFROM:+0800
TZOFFSETTO:+0800
TZNAME:AWST
DTSTART:20250101T000000
END:STANDARD
END:VTIMEZONE
BEGIN:VEVENT
DTSTART;TZID=Australia/Perth:20260509T100000
DTEND;TZID=Australia/Perth:20260509T120000
DTSTAMP:20260423T024255
CREATED:20260422T121124Z
LAST-MODIFIED:20260422T121129Z
UID:10866070-1778320800-1778328000@seniorocity.com.au
SUMMARY:Mother's Day Gift Making Workshop
DESCRIPTION:Create a heartfelt gift at a Mother’s Day workshop with the City of Wanneroo. Decorate your own mug using creative designs and colours.\n\n\nGet creative ahead of Mother’s Day at this hands-on workshop with the City of Wanneroo. Explore colours\, patterns\, and design techniques as you personalise your own mug\, creating a meaningful keepsake or gift to share with someone special the following day. \nKids must have responsible adult supervision at all times.
URL:https://seniorocity.com.au/whats-on-perth/mothers-day-gift-making-workshop/
LOCATION:Carramar Community Centre\, 5 Rawlinna Parkway\, Carramar\, WA\, 6031\, Australia
CATEGORIES:Mother's Day
ATTACH;FMTTYPE=image/jpeg:https://seniorocity.com.au/wp-content/uploads/2026/04/a815b3eed96a8d3fc836ce8bca4b2160.jpg
END:VEVENT
END:VCALENDAR