BEGIN:VCALENDAR
VERSION:2.0
PRODID:-//Seniorocity - Seniors / Over 55&#039;s Guide to Perth - ECPv6.15.11//NONSGML v1.0//EN
CALSCALE:GREGORIAN
METHOD:PUBLISH
X-ORIGINAL-URL:https://seniorocity.com.au
X-WR-CALDESC:Events for Seniorocity - Seniors / Over 55&#039;s Guide to Perth
REFRESH-INTERVAL;VALUE=DURATION:PT1H
X-Robots-Tag:noindex
X-PUBLISHED-TTL:PT1H
BEGIN:VTIMEZONE
TZID:Australia/Perth
BEGIN:STANDARD
TZOFFSETFROM:+0800
TZOFFSETTO:+0800
TZNAME:AWST
DTSTART:20250101T000000
END:STANDARD
END:VTIMEZONE
BEGIN:VEVENT
DTSTART;TZID=Australia/Perth:20260329T100000
DTEND;TZID=Australia/Perth:20260329T150000
DTSTAMP:20260422T133031
CREATED:20260215T060947Z
LAST-MODIFIED:20260215T060947Z
UID:10863589-1774778400-1774796400@seniorocity.com.au
SUMMARY:Show Off Art Exhibition
DESCRIPTION:Welcome to Show Off Art Exhibition. \nNow in its 21st year\, this exhibition has a record-breaking number of local artists ready to showcase their pieces. \nYou’ll be amazed at the local talent we have right here in Cockburn. Don’t miss it! \nFree entry\nOpen daily 10am-3pm \nThis event is part of the epic Cockburn LIVE line-up for 2025-26.
URL:https://seniorocity.com.au/whats-on-perth/show-off-art-exhibition/2026-03-29/
LOCATION:City of Cockburn – Memorial Hall
CATEGORIES:Community Event,Exhibition,Free
ATTACH;FMTTYPE=image/jpeg:https://seniorocity.com.au/wp-content/uploads/2026/02/Show-Off-Art-Exhibition.jpg
END:VEVENT
END:VCALENDAR