BEGIN:VCALENDAR
VERSION:2.0
PRODID:-//Seniorocity - Seniors / Over 55&#039;s Guide to Perth - ECPv6.15.11//NONSGML v1.0//EN
CALSCALE:GREGORIAN
METHOD:PUBLISH
X-ORIGINAL-URL:https://seniorocity.com.au
X-WR-CALDESC:Events for Seniorocity - Seniors / Over 55&#039;s Guide to Perth
REFRESH-INTERVAL;VALUE=DURATION:PT1H
X-Robots-Tag:noindex
X-PUBLISHED-TTL:PT1H
BEGIN:VTIMEZONE
TZID:Australia/Perth
BEGIN:STANDARD
TZOFFSETFROM:+0800
TZOFFSETTO:+0800
TZNAME:AWST
DTSTART:20250101T000000
END:STANDARD
END:VTIMEZONE
BEGIN:VEVENT
DTSTART;TZID=Australia/Perth:20260406T120000
DTEND;TZID=Australia/Perth:20260406T190000
DTSTAMP:20260421T120844
CREATED:20260301T141226Z
LAST-MODIFIED:20260301T141645Z
UID:10863954-1775476800-1775502000@seniorocity.com.au
SUMMARY:Fremantle International Street Arts Festival 2026
DESCRIPTION:The Fremantle International Street Arts Festival returns to Fremantle for Easter Long Weekend 2026!
URL:https://seniorocity.com.au/whats-on-perth/fremantle-international-street-arts-festival-2026-4/
LOCATION:City of Fremantle Town Hall\, 8 William Street\, Fremantle\, WA\, 6160\, Australia
CATEGORIES:Festival
ATTACH;FMTTYPE=image/jpeg:https://seniorocity.com.au/wp-content/uploads/2026/03/94b00dffe4e6dabba4d2677baa013f54.jpg
END:VEVENT
BEGIN:VEVENT
DTSTART;TZID=Australia/Perth:20260405T120000
DTEND;TZID=Australia/Perth:20260405T190000
DTSTAMP:20260421T120844
CREATED:20260301T141226Z
LAST-MODIFIED:20260301T141635Z
UID:10863953-1775390400-1775415600@seniorocity.com.au
SUMMARY:Fremantle International Street Arts Festival 2026
DESCRIPTION:The Fremantle International Street Arts Festival returns to Fremantle for Easter Long Weekend 2026!
URL:https://seniorocity.com.au/whats-on-perth/fremantle-international-street-arts-festival-2026-3/
LOCATION:City of Fremantle Town Hall\, 8 William Street\, Fremantle\, WA\, 6160\, Australia
CATEGORIES:Festival
ATTACH;FMTTYPE=image/jpeg:https://seniorocity.com.au/wp-content/uploads/2026/03/94b00dffe4e6dabba4d2677baa013f54.jpg
END:VEVENT
BEGIN:VEVENT
DTSTART;TZID=Australia/Perth:20260404T120000
DTEND;TZID=Australia/Perth:20260404T190000
DTSTAMP:20260421T120844
CREATED:20260301T141224Z
LAST-MODIFIED:20260301T141624Z
UID:10863952-1775304000-1775329200@seniorocity.com.au
SUMMARY:Fremantle International Street Arts Festival 2026
DESCRIPTION:The Fremantle International Street Arts Festival returns to Fremantle for Easter Long Weekend 2026!
URL:https://seniorocity.com.au/whats-on-perth/fremantle-international-street-arts-festival-2026-2/
LOCATION:City of Fremantle Town Hall\, 8 William Street\, Fremantle\, WA\, 6160\, Australia
CATEGORIES:Festival
ATTACH;FMTTYPE=image/jpeg:https://seniorocity.com.au/wp-content/uploads/2026/03/94b00dffe4e6dabba4d2677baa013f54.jpg
END:VEVENT
BEGIN:VEVENT
DTSTART;TZID=Australia/Perth:20260403T120000
DTEND;TZID=Australia/Perth:20260403T190000
DTSTAMP:20260421T120844
CREATED:20260301T141221Z
LAST-MODIFIED:20260301T141613Z
UID:10863951-1775217600-1775242800@seniorocity.com.au
SUMMARY:Fremantle International Street Arts Festival 2026
DESCRIPTION:The Fremantle International Street Arts Festival returns to Fremantle for Easter Long Weekend 2026!
URL:https://seniorocity.com.au/whats-on-perth/fremantle-international-street-arts-festival-2026/
LOCATION:City of Fremantle Town Hall\, 8 William Street\, Fremantle\, WA\, 6160\, Australia
CATEGORIES:Festival
ATTACH;FMTTYPE=image/jpeg:https://seniorocity.com.au/wp-content/uploads/2026/03/94b00dffe4e6dabba4d2677baa013f54.jpg
END:VEVENT
END:VCALENDAR