BEGIN:VCALENDAR
VERSION:2.0
PRODID:-//Seniorocity - Seniors / Over 55&#039;s Guide to Perth - ECPv6.15.11//NONSGML v1.0//EN
CALSCALE:GREGORIAN
METHOD:PUBLISH
X-WR-CALNAME:Seniorocity - Seniors / Over 55&#039;s Guide to Perth
X-ORIGINAL-URL:https://seniorocity.com.au
X-WR-CALDESC:Events for Seniorocity - Seniors / Over 55&#039;s Guide to Perth
REFRESH-INTERVAL;VALUE=DURATION:PT1H
X-Robots-Tag:noindex
X-PUBLISHED-TTL:PT1H
BEGIN:VTIMEZONE
TZID:Australia/Perth
BEGIN:STANDARD
TZOFFSETFROM:+0800
TZOFFSETTO:+0800
TZNAME:AWST
DTSTART:20250101T000000
END:STANDARD
END:VTIMEZONE
BEGIN:VEVENT
DTSTART;TZID=Australia/Perth:20260331T130000
DTEND;TZID=Australia/Perth:20260331T140000
DTSTAMP:20260422T103220
CREATED:20260222T055849Z
LAST-MODIFIED:20260222T055849Z
UID:10863796-1774962000-1774965600@seniorocity.com.au
SUMMARY:Dovida Home Care - Support at Home Information Session
DESCRIPTION:Join us for a free information session designed to help older Australians and their families understand the new Support at Home program and what it means for you. \nThis informative session will guide you through the updated aged care system\, explaining how funding works\, what services may look like under the new model\, and how the changes could affect your current or future support. \nWe’ll break down the key differences between Grandfathered\, Transitional\, and Support at Home participants\, so you can clearly understand where you fit. \nYou’ll also learn how to navigate the program\, apply for funding\, and make informed decisions about your care. Contributions and costs will be explained in simple\, practical terms. \nWhether you’re already receiving services or planning\, this session will help you feel informed\, empowered\, and prepared for the aged care changes ahead.
URL:https://seniorocity.com.au/whats-on-perth/dovida-home-care-support-at-home-information-session/
LOCATION:City of Mandurah Seniors Centre\, 41 Ormsby Terrace\, Mandurah\, WA\, 6210\, Australia
CATEGORIES:Free,Health,Information Session
ATTACH;FMTTYPE=image/jpeg:https://seniorocity.com.au/wp-content/uploads/2026/02/Dovida-Home-Care-Support-at-Home-Information-Session.jpg
END:VEVENT
BEGIN:VEVENT
DTSTART;TZID=Australia/Perth:20260304T130000
DTEND;TZID=Australia/Perth:20260304T150000
DTSTAMP:20260422T103220
CREATED:20260222T035316Z
LAST-MODIFIED:20260222T035316Z
UID:10863764-1772629200-1772636400@seniorocity.com.au
SUMMARY:Kathy Carver in Concert
DESCRIPTION:Join award-winning Western Australian singer-songwriter Kathy Carver for an afternoon of heartfelt country music. A familiar and respected name on the WA country festival circuit\, Kathy is known for her soulful original songs\, strong storytelling and warm\, engaging performances. \nWith a career built on authentic songwriting and genuine connection with audiences\, Kathy delivers country music that resonates long after the final note. Her performances showcase rich vocals and honest lyrics\, celebrating life\, love and the Australian spirit. \nThe concert will feature Kathy’s number one hit\, My Country My Australia\, along with a selection of original material that highlights her distinctive sound and passion for country music.\nWhether you’re a dedicated country music fan or simply enjoy quality live music\, this concert offers an engaging and uplifting musical experience. \nThis concert is part of our monthly music series at the Mandurah Seniors Centre\, which celebrates the talents of our region’s musicians. \nTickets sold at the door.  For enquiries\, please contact Mandurah Seniors Centre on 9550 3799.
URL:https://seniorocity.com.au/whats-on-perth/kathy-carver-in-concert/
LOCATION:City of Mandurah Seniors Centre\, 41 Ormsby Terrace\, Mandurah\, WA\, 6210\, Australia
CATEGORIES:Concert,Music Event,Social,Social event
ATTACH;FMTTYPE=image/jpeg:https://seniorocity.com.au/wp-content/uploads/2026/02/Kathy-Carver-in-Concert.jpg
END:VEVENT
BEGIN:VEVENT
DTSTART;TZID=Australia/Perth:20260127T130000
DTEND;TZID=Australia/Perth:20260127T150000
DTSTAMP:20260422T103220
CREATED:20260102T100621Z
LAST-MODIFIED:20260102T100621Z
UID:10859612-1769518800-1769526000@seniorocity.com.au
SUMMARY:Cyber Savvy Seniors
DESCRIPTION:Join us for a free community forum designed to help you stay safe and informed. Discover resources and support available from local community and government organisations—all in one place. \nWith cyber safety concerns on the rise\, this event offers a valuable opportunity to access trusted information and speak directly with multiple organisations. \nLast year\, Australians lost over $323 million to scams targeting people aged 65 and over\, making seniors the most affected group. \nScammers often impersonate government departments\, so knowing how to spot false claims is essential. \nWhat to expect: \nParticipating organisations will deliver short\, practical presentations on topics including: \n\nScam awareness\nFinancial safety\nPersonal security\nWelfare support\n\nEvent details: \nThis free forum is proudly presented by Umbrella Multicultural Community Care\, MagooIT\, and TADWA (Technology for Ageing and Disability)—working together to support the safety\, independence and wellbeing of our community. \nBookings essential please contact Mandurah Seniors Centre Administration on 9550 3799.
URL:https://seniorocity.com.au/whats-on-perth/cyber-savvy-seniors/
LOCATION:City of Mandurah Seniors Centre\, 41 Ormsby Terrace\, Mandurah\, WA\, 6210\, Australia
CATEGORIES:Information Session,Tech
ATTACH;FMTTYPE=image/jpeg:https://seniorocity.com.au/wp-content/uploads/2026/01/cybersecurity.jpg
END:VEVENT
END:VCALENDAR