BEGIN:VCALENDAR
VERSION:2.0
PRODID:-//Seniorocity - Seniors / Over 55&#039;s Guide to Perth - ECPv6.15.11//NONSGML v1.0//EN
CALSCALE:GREGORIAN
METHOD:PUBLISH
X-ORIGINAL-URL:https://seniorocity.com.au
X-WR-CALDESC:Events for Seniorocity - Seniors / Over 55&#039;s Guide to Perth
REFRESH-INTERVAL;VALUE=DURATION:PT1H
X-Robots-Tag:noindex
X-PUBLISHED-TTL:PT1H
BEGIN:VTIMEZONE
TZID:Australia/Perth
BEGIN:STANDARD
TZOFFSETFROM:+0800
TZOFFSETTO:+0800
TZNAME:AWST
DTSTART:20250101T000000
END:STANDARD
END:VTIMEZONE
BEGIN:VEVENT
DTSTART;TZID=Australia/Perth:20260428T083000
DTEND;TZID=Australia/Perth:20260428T093000
DTSTAMP:20260421T212730
CREATED:20260103T074232Z
LAST-MODIFIED:20260103T074232Z
UID:10860079-1777365000-1777368600@seniorocity.com.au
SUMMARY:Cambridge Coasters Walking Group
DESCRIPTION:You’re invited to come walking from City Beach to Floreat with the Cambridge Coasters!\n\nEnjoy the fresh air\, outdoor activity and meet new friends in your local area.\n\nDate: Tuesdays from 6 January 2026.\nTime: 8:30 am (summer timetable)\nCost: Free\nLocation: Near the entrance of the City of Perth SLSC.\n(meet at the here sign) Parking available along Challenger Parade\, City Beach.\nPlease wear comfortable/appropriate footwear and a moderate level of fitness is required for these activities.\nFlyer – Coasters Walking Group(PDF\, 1MB) \nRegister online \nOther recommended personal items: water bottle\, hand sanitiser and hat. \nRegistration is essential – contact Cambridge Senior Services on (08) 9285 3138 or email seniorservices@cambridge.wa.gov.au 
URL:https://seniorocity.com.au/whats-on-perth/cambridge-coasters-walking-group-2/2026-04-28/
LOCATION:City of Perth Surf Life Saving Club Gym\, 181-183 Challenger Parade\, City Beach\, WA\, 6015\, Australia
CATEGORIES:Free,Meet New People,Walks
ATTACH;FMTTYPE=image/png:https://seniorocity.com.au/wp-content/uploads/2026/01/Cambridge-Coasters-Walking-Grouppng.png
END:VEVENT
END:VCALENDAR