BEGIN:VCALENDAR
VERSION:2.0
PRODID:-//Seniorocity - Seniors / Over 55&#039;s Guide to Perth - ECPv6.15.11//NONSGML v1.0//EN
CALSCALE:GREGORIAN
METHOD:PUBLISH
X-ORIGINAL-URL:https://seniorocity.com.au
X-WR-CALDESC:Events for Seniorocity - Seniors / Over 55&#039;s Guide to Perth
REFRESH-INTERVAL;VALUE=DURATION:PT1H
X-Robots-Tag:noindex
X-PUBLISHED-TTL:PT1H
BEGIN:VTIMEZONE
TZID:Australia/Perth
BEGIN:STANDARD
TZOFFSETFROM:+0800
TZOFFSETTO:+0800
TZNAME:AWST
DTSTART:20250101T000000
END:STANDARD
END:VTIMEZONE
BEGIN:VEVENT
DTSTART;TZID=Australia/Perth:20260419T073000
DTEND;TZID=Australia/Perth:20260419T113000
DTSTAMP:20260421T041243
CREATED:20250131T035425Z
LAST-MODIFIED:20260102T074827Z
UID:10857805-1776583800-1776598200@seniorocity.com.au
SUMMARY:Stirling Farmers Market
DESCRIPTION:Stirling Farmers Markets is a community event supporting local growers/makers and is a project of the Rotary Club of Karrinyup. Shop for your weekly fresh fruit and vege\, honey\, bread\, meat and seasonal produce. Coffee van and hot food available onsite. \nFor more information regarding the Stirling Farmers Markets\, please visit their website here or Facebook page here. \n\n\n\n\n\n\n\n\n\n\n\n 
URL:https://seniorocity.com.au/whats-on-perth/stirling-farmers-market/2026-04-19/
LOCATION:City of Stirling Administration Building\, Cedric Street\, Stirling\, WA\, 6021\, Australia
CATEGORIES:Community Event,Family Event,Free,Markets
ATTACH;FMTTYPE=image/jpeg:https://seniorocity.com.au/wp-content/uploads/2025/01/CC_Stirling-Farmers-Market_831x478.jpg
END:VEVENT
END:VCALENDAR