BEGIN:VCALENDAR
VERSION:2.0
PRODID:-//Seniorocity - Seniors / Over 55&#039;s Guide to Perth - ECPv6.15.11//NONSGML v1.0//EN
CALSCALE:GREGORIAN
METHOD:PUBLISH
X-WR-CALNAME:Seniorocity - Seniors / Over 55&#039;s Guide to Perth
X-ORIGINAL-URL:https://seniorocity.com.au
X-WR-CALDESC:Events for Seniorocity - Seniors / Over 55&#039;s Guide to Perth
REFRESH-INTERVAL;VALUE=DURATION:PT1H
X-Robots-Tag:noindex
X-PUBLISHED-TTL:PT1H
BEGIN:VTIMEZONE
TZID:Australia/Perth
BEGIN:STANDARD
TZOFFSETFROM:+0800
TZOFFSETTO:+0800
TZNAME:AWST
DTSTART:20250101T000000
END:STANDARD
END:VTIMEZONE
BEGIN:VEVENT
DTSTART;TZID=Australia/Perth:20260420T130000
DTEND;TZID=Australia/Perth:20260420T140000
DTSTAMP:20260422T011120
CREATED:20260320T082559Z
LAST-MODIFIED:20260320T082559Z
UID:10864537-1776690000-1776693600@seniorocity.com.au
SUMMARY:Be Connected - Scam Safety
DESCRIPTION:Join us to learn about how to create strong passwords and stay safe from scams. Tea and coffee will be provided; attendees are encouraged to BYO reusable coffee cup. Bookings are essential as places are limited. \nBook now
URL:https://seniorocity.com.au/whats-on-perth/be-connected-scam-safety/
LOCATION:City of Stirling – Scarborough Library\, 173 Gildercliffe St\, Scarborough\, WA\, 6019\, Australia
CATEGORIES:Free,Library Events,Tech
ATTACH;FMTTYPE=image/png:https://seniorocity.com.au/wp-content/uploads/2026/03/Be-Connected-Scam-Safety.png
END:VEVENT
END:VCALENDAR