BEGIN:VCALENDAR
VERSION:2.0
PRODID:-//Seniorocity - Seniors / Over 55&#039;s Guide to Perth - ECPv6.15.11//NONSGML v1.0//EN
CALSCALE:GREGORIAN
METHOD:PUBLISH
X-ORIGINAL-URL:https://seniorocity.com.au
X-WR-CALDESC:Events for Seniorocity - Seniors / Over 55&#039;s Guide to Perth
REFRESH-INTERVAL;VALUE=DURATION:PT1H
X-Robots-Tag:noindex
X-PUBLISHED-TTL:PT1H
BEGIN:VTIMEZONE
TZID:Australia/Perth
BEGIN:STANDARD
TZOFFSETFROM:+0800
TZOFFSETTO:+0800
TZNAME:AWST
DTSTART:20250101T000000
END:STANDARD
END:VTIMEZONE
BEGIN:VEVENT
DTSTART;TZID=Australia/Perth:20260317T133000
DTEND;TZID=Australia/Perth:20260317T150000
DTSTAMP:20260421T020019
CREATED:20260105T145109Z
LAST-MODIFIED:20260105T145109Z
UID:10860975-1773754200-1773759600@seniorocity.com.au
SUMMARY:Quizdom
DESCRIPTION:Join us for some over 55s quizzing fun and an afternoon with like-minded people. \nLet’s get quizzical and compete as an individual to challenge your brain over 4 rounds of 10 questions! There’ll be prizes\, table games and afternoon tea. This event is for adults over 55.\n\nBook this event
URL:https://seniorocity.com.au/whats-on-perth/quizdom/2026-03-17/
LOCATION:Civic Square Library\, 10 Almondbury Road\, Enter off Davy St\, Booragoon\, WA\, 6154\, Australia
CATEGORIES:Free,Games,Library Events,Social
ATTACH;FMTTYPE=image/jpeg:https://seniorocity.com.au/wp-content/uploads/2026/01/Quizdom.jpg
END:VEVENT
BEGIN:VEVENT
DTSTART;TZID=Australia/Perth:20260304T140000
DTEND;TZID=Australia/Perth:20260304T153000
DTSTAMP:20260421T020019
CREATED:20260303T140422Z
LAST-MODIFIED:20260303T140422Z
UID:10864043-1772632800-1772638200@seniorocity.com.au
SUMMARY:Afternoon Tea & Tech @ Civic Square Library | Digital Wallets & Mobile Payments
DESCRIPTION:Tea meets technology! Come along and enjoy a free afternoon tea\, short tech talk\, and a chance to chat with our presenter and your fellow attendees. \nThis fortnight we’re focusing on Digital Wallets & Mobile Payments. \nWe’ll discuss the pros and cons of digital wallets\, making mobile payments online and in-store and how to use digital wallets safely. \nAll are welcome. Whether you’re a tech enthusiast or a beginner\, this event is for you! \nBook this event
URL:https://seniorocity.com.au/whats-on-perth/afternoon-tea-tech-civic-square-library-digital-wallets-mobile-payments/
LOCATION:Civic Square Library\, 10 Almondbury Road\, Enter off Davy St\, Booragoon\, WA\, 6154\, Australia
CATEGORIES:Free,Library Events,Tech
ATTACH;FMTTYPE=image/jpeg:https://seniorocity.com.au/wp-content/uploads/2026/03/Afternoon-Tea-Tech-@-Civic-Square-Library-Digital-Wallets-Mobile-Payments.jpg
END:VEVENT
END:VCALENDAR