BEGIN:VCALENDAR
VERSION:2.0
PRODID:-//Seniorocity - Seniors / Over 55&#039;s Guide to Perth - ECPv6.15.11//NONSGML v1.0//EN
CALSCALE:GREGORIAN
METHOD:PUBLISH
X-WR-CALNAME:Seniorocity - Seniors / Over 55&#039;s Guide to Perth
X-ORIGINAL-URL:https://seniorocity.com.au
X-WR-CALDESC:Events for Seniorocity - Seniors / Over 55&#039;s Guide to Perth
REFRESH-INTERVAL;VALUE=DURATION:PT1H
X-Robots-Tag:noindex
X-PUBLISHED-TTL:PT1H
BEGIN:VTIMEZONE
TZID:Australia/Perth
BEGIN:STANDARD
TZOFFSETFROM:+0800
TZOFFSETTO:+0800
TZNAME:AWST
DTSTART:20250101T000000
END:STANDARD
END:VTIMEZONE
BEGIN:VEVENT
DTSTART;TZID=Australia/Perth:20260501T120000
DTEND;TZID=Australia/Perth:20260501T120000
DTSTAMP:20260422T133431
CREATED:20260415T154906Z
LAST-MODIFIED:20260415T154906Z
UID:10865795-1777636800-1777636800@seniorocity.com.au
SUMMARY:Music Under the Trees
DESCRIPTION:Enjoy a special lunchtime pop-up acoustic set from WAO in Council House Gardens. \n\nFree Gelato\nNative Seed Giveaway\nFree Event | All Welcome\n\nLet the music transport you as you relax beneath the trees\, celebrating Tree Month.
URL:https://seniorocity.com.au/whats-on-perth/music-under-the-trees/
LOCATION:Council House\, 27 Saint Georges Terrace\, Perth\, WA\, 6000\, Australia
CATEGORIES:Free,Music Event
ATTACH;FMTTYPE=image/jpeg:https://seniorocity.com.au/wp-content/uploads/2026/04/Music-Under-the-Trees.jpg
END:VEVENT
END:VCALENDAR