BEGIN:VCALENDAR
VERSION:2.0
PRODID:-//Seniorocity - Seniors / Over 55&#039;s Guide to Perth - ECPv6.15.11//NONSGML v1.0//EN
CALSCALE:GREGORIAN
METHOD:PUBLISH
X-ORIGINAL-URL:https://seniorocity.com.au
X-WR-CALDESC:Events for Seniorocity - Seniors / Over 55&#039;s Guide to Perth
REFRESH-INTERVAL;VALUE=DURATION:PT1H
X-Robots-Tag:noindex
X-PUBLISHED-TTL:PT1H
BEGIN:VTIMEZONE
TZID:Australia/Perth
BEGIN:STANDARD
TZOFFSETFROM:+0800
TZOFFSETTO:+0800
TZNAME:AWST
DTSTART:20250101T000000
END:STANDARD
END:VTIMEZONE
BEGIN:VEVENT
DTSTART;TZID=Australia/Perth:20260415T134500
DTEND;TZID=Australia/Perth:20260415T160000
DTSTAMP:20260421T121741
CREATED:20251102T132405Z
LAST-MODIFIED:20260102T080606Z
UID:10856460-1776260700-1776268800@seniorocity.com.au
SUMMARY:NEW Listening Lounge Mental Health Peer Support Group- Kelmscott!
DESCRIPTION:A welcoming space for connection\, understanding and mutual support.
URL:https://seniorocity.com.au/whats-on-perth/new-listening-lounge-mental-health-peer-support-group-kelmscott-24/
LOCATION:Creyk Park Pavilion\, 6 Kembla Street\, Kelmscott\, WA\, 6111\, Australia
CATEGORIES:Health
ATTACH;FMTTYPE=image/jpeg:https://seniorocity.com.au/wp-content/uploads/2026/01/0cd8afe91432da0a77137da7b5a4370c.jpg
END:VEVENT
BEGIN:VEVENT
DTSTART;TZID=Australia/Perth:20260408T134500
DTEND;TZID=Australia/Perth:20260408T160000
DTSTAMP:20260421T121741
CREATED:20251102T132404Z
LAST-MODIFIED:20260102T080605Z
UID:10856459-1775655900-1775664000@seniorocity.com.au
SUMMARY:NEW Listening Lounge Mental Health Peer Support Group- Kelmscott!
DESCRIPTION:A welcoming space for connection\, understanding and mutual support.
URL:https://seniorocity.com.au/whats-on-perth/new-listening-lounge-mental-health-peer-support-group-kelmscott-23/
LOCATION:Creyk Park Pavilion\, 6 Kembla Street\, Kelmscott\, WA\, 6111\, Australia
CATEGORIES:Health
ATTACH;FMTTYPE=image/jpeg:https://seniorocity.com.au/wp-content/uploads/2026/01/0cd8afe91432da0a77137da7b5a4370c.jpg
END:VEVENT
BEGIN:VEVENT
DTSTART;TZID=Australia/Perth:20260401T134500
DTEND;TZID=Australia/Perth:20260401T160000
DTSTAMP:20260421T121741
CREATED:20251102T132404Z
LAST-MODIFIED:20260102T080604Z
UID:10856458-1775051100-1775059200@seniorocity.com.au
SUMMARY:NEW Listening Lounge Mental Health Peer Support Group- Kelmscott!
DESCRIPTION:A welcoming space for connection\, understanding and mutual support.
URL:https://seniorocity.com.au/whats-on-perth/new-listening-lounge-mental-health-peer-support-group-kelmscott-22/
LOCATION:Creyk Park Pavilion\, 6 Kembla Street\, Kelmscott\, WA\, 6111\, Australia
CATEGORIES:Health
ATTACH;FMTTYPE=image/jpeg:https://seniorocity.com.au/wp-content/uploads/2026/01/0cd8afe91432da0a77137da7b5a4370c.jpg
END:VEVENT
BEGIN:VEVENT
DTSTART;TZID=Australia/Perth:20260325T134500
DTEND;TZID=Australia/Perth:20260325T160000
DTSTAMP:20260421T121741
CREATED:20251102T132403Z
LAST-MODIFIED:20260102T080603Z
UID:10856457-1774446300-1774454400@seniorocity.com.au
SUMMARY:NEW Listening Lounge Mental Health Peer Support Group- Kelmscott!
DESCRIPTION:A welcoming space for connection\, understanding and mutual support.
URL:https://seniorocity.com.au/whats-on-perth/new-listening-lounge-mental-health-peer-support-group-kelmscott-21/
LOCATION:Creyk Park Pavilion\, 6 Kembla Street\, Kelmscott\, WA\, 6111\, Australia
CATEGORIES:Health
ATTACH;FMTTYPE=image/jpeg:https://seniorocity.com.au/wp-content/uploads/2026/01/0cd8afe91432da0a77137da7b5a4370c.jpg
END:VEVENT
BEGIN:VEVENT
DTSTART;TZID=Australia/Perth:20260318T134500
DTEND;TZID=Australia/Perth:20260318T160000
DTSTAMP:20260421T121741
CREATED:20251102T132335Z
LAST-MODIFIED:20260102T080602Z
UID:10856456-1773841500-1773849600@seniorocity.com.au
SUMMARY:NEW Listening Lounge Mental Health Peer Support Group- Kelmscott!
DESCRIPTION:A welcoming space for connection\, understanding and mutual support.
URL:https://seniorocity.com.au/whats-on-perth/new-listening-lounge-mental-health-peer-support-group-kelmscott-20/
LOCATION:Creyk Park Pavilion\, 6 Kembla Street\, Kelmscott\, WA\, 6111\, Australia
CATEGORIES:Health
ATTACH;FMTTYPE=image/jpeg:https://seniorocity.com.au/wp-content/uploads/2026/01/0cd8afe91432da0a77137da7b5a4370c.jpg
END:VEVENT
BEGIN:VEVENT
DTSTART;TZID=Australia/Perth:20260311T134500
DTEND;TZID=Australia/Perth:20260311T160000
DTSTAMP:20260421T121741
CREATED:20251102T132334Z
LAST-MODIFIED:20260102T080535Z
UID:10856455-1773236700-1773244800@seniorocity.com.au
SUMMARY:NEW Listening Lounge Mental Health Peer Support Group- Kelmscott!
DESCRIPTION:A welcoming space for connection\, understanding and mutual support.
URL:https://seniorocity.com.au/whats-on-perth/new-listening-lounge-mental-health-peer-support-group-kelmscott-19/
LOCATION:Creyk Park Pavilion\, 6 Kembla Street\, Kelmscott\, WA\, 6111\, Australia
CATEGORIES:Health
ATTACH;FMTTYPE=image/jpeg:https://seniorocity.com.au/wp-content/uploads/2026/01/0cd8afe91432da0a77137da7b5a4370c.jpg
END:VEVENT
BEGIN:VEVENT
DTSTART;TZID=Australia/Perth:20260304T134500
DTEND;TZID=Australia/Perth:20260304T160000
DTSTAMP:20260421T121741
CREATED:20251102T132334Z
LAST-MODIFIED:20260102T080534Z
UID:10856454-1772631900-1772640000@seniorocity.com.au
SUMMARY:NEW Listening Lounge Mental Health Peer Support Group- Kelmscott!
DESCRIPTION:A welcoming space for connection\, understanding and mutual support.
URL:https://seniorocity.com.au/whats-on-perth/new-listening-lounge-mental-health-peer-support-group-kelmscott-18/
LOCATION:Creyk Park Pavilion\, 6 Kembla Street\, Kelmscott\, WA\, 6111\, Australia
CATEGORIES:Health
ATTACH;FMTTYPE=image/jpeg:https://seniorocity.com.au/wp-content/uploads/2026/01/0cd8afe91432da0a77137da7b5a4370c.jpg
END:VEVENT
BEGIN:VEVENT
DTSTART;TZID=Australia/Perth:20260225T134500
DTEND;TZID=Australia/Perth:20260225T160000
DTSTAMP:20260421T121741
CREATED:20251102T132333Z
LAST-MODIFIED:20260102T080533Z
UID:10856453-1772027100-1772035200@seniorocity.com.au
SUMMARY:NEW Listening Lounge Mental Health Peer Support Group- Kelmscott!
DESCRIPTION:A welcoming space for connection\, understanding and mutual support.
URL:https://seniorocity.com.au/whats-on-perth/new-listening-lounge-mental-health-peer-support-group-kelmscott-17/
LOCATION:Creyk Park Pavilion\, 6 Kembla Street\, Kelmscott\, WA\, 6111\, Australia
CATEGORIES:Health
ATTACH;FMTTYPE=image/jpeg:https://seniorocity.com.au/wp-content/uploads/2026/01/0cd8afe91432da0a77137da7b5a4370c.jpg
END:VEVENT
BEGIN:VEVENT
DTSTART;TZID=Australia/Perth:20260218T134500
DTEND;TZID=Australia/Perth:20260218T160000
DTSTAMP:20260421T121742
CREATED:20251102T132332Z
LAST-MODIFIED:20260102T080532Z
UID:10856452-1771422300-1771430400@seniorocity.com.au
SUMMARY:NEW Listening Lounge Mental Health Peer Support Group- Kelmscott!
DESCRIPTION:A welcoming space for connection\, understanding and mutual support.
URL:https://seniorocity.com.au/whats-on-perth/new-listening-lounge-mental-health-peer-support-group-kelmscott-16/
LOCATION:Creyk Park Pavilion\, 6 Kembla Street\, Kelmscott\, WA\, 6111\, Australia
CATEGORIES:Health
ATTACH;FMTTYPE=image/jpeg:https://seniorocity.com.au/wp-content/uploads/2026/01/0cd8afe91432da0a77137da7b5a4370c.jpg
END:VEVENT
BEGIN:VEVENT
DTSTART;TZID=Australia/Perth:20260211T134500
DTEND;TZID=Australia/Perth:20260211T160000
DTSTAMP:20260421T121742
CREATED:20251102T132331Z
LAST-MODIFIED:20260102T080531Z
UID:10856451-1770817500-1770825600@seniorocity.com.au
SUMMARY:NEW Listening Lounge Mental Health Peer Support Group- Kelmscott!
DESCRIPTION:A welcoming space for connection\, understanding and mutual support.
URL:https://seniorocity.com.au/whats-on-perth/new-listening-lounge-mental-health-peer-support-group-kelmscott-15/
LOCATION:Creyk Park Pavilion\, 6 Kembla Street\, Kelmscott\, WA\, 6111\, Australia
CATEGORIES:Health
ATTACH;FMTTYPE=image/jpeg:https://seniorocity.com.au/wp-content/uploads/2026/01/0cd8afe91432da0a77137da7b5a4370c.jpg
END:VEVENT
BEGIN:VEVENT
DTSTART;TZID=Australia/Perth:20260204T134500
DTEND;TZID=Australia/Perth:20260204T160000
DTSTAMP:20260421T121742
CREATED:20251102T132330Z
LAST-MODIFIED:20260102T080530Z
UID:10856450-1770212700-1770220800@seniorocity.com.au
SUMMARY:NEW Listening Lounge Mental Health Peer Support Group- Kelmscott!
DESCRIPTION:A welcoming space for connection\, understanding and mutual support.
URL:https://seniorocity.com.au/whats-on-perth/new-listening-lounge-mental-health-peer-support-group-kelmscott-14/
LOCATION:Creyk Park Pavilion\, 6 Kembla Street\, Kelmscott\, WA\, 6111\, Australia
CATEGORIES:Health
ATTACH;FMTTYPE=image/jpeg:https://seniorocity.com.au/wp-content/uploads/2026/01/0cd8afe91432da0a77137da7b5a4370c.jpg
END:VEVENT
BEGIN:VEVENT
DTSTART;TZID=Australia/Perth:20260128T134500
DTEND;TZID=Australia/Perth:20260128T160000
DTSTAMP:20260421T121742
CREATED:20251102T132329Z
LAST-MODIFIED:20260102T080530Z
UID:10856449-1769607900-1769616000@seniorocity.com.au
SUMMARY:NEW Listening Lounge Mental Health Peer Support Group- Kelmscott!
DESCRIPTION:A welcoming space for connection\, understanding and mutual support.
URL:https://seniorocity.com.au/whats-on-perth/new-listening-lounge-mental-health-peer-support-group-kelmscott-13/
LOCATION:Creyk Park Pavilion\, 6 Kembla Street\, Kelmscott\, WA\, 6111\, Australia
CATEGORIES:Health
ATTACH;FMTTYPE=image/jpeg:https://seniorocity.com.au/wp-content/uploads/2026/01/0cd8afe91432da0a77137da7b5a4370c.jpg
END:VEVENT
BEGIN:VEVENT
DTSTART;TZID=Australia/Perth:20260121T134500
DTEND;TZID=Australia/Perth:20260121T160000
DTSTAMP:20260421T121742
CREATED:20251102T132328Z
LAST-MODIFIED:20260102T080528Z
UID:10856448-1769003100-1769011200@seniorocity.com.au
SUMMARY:NEW Listening Lounge Mental Health Peer Support Group- Kelmscott!
DESCRIPTION:A welcoming space for connection\, understanding and mutual support.
URL:https://seniorocity.com.au/whats-on-perth/new-listening-lounge-mental-health-peer-support-group-kelmscott-12/
LOCATION:Creyk Park Pavilion\, 6 Kembla Street\, Kelmscott\, WA\, 6111\, Australia
CATEGORIES:Health
ATTACH;FMTTYPE=image/jpeg:https://seniorocity.com.au/wp-content/uploads/2026/01/0cd8afe91432da0a77137da7b5a4370c.jpg
END:VEVENT
END:VCALENDAR