BEGIN:VCALENDAR
VERSION:2.0
PRODID:-//Seniorocity - Seniors / Over 55&#039;s Guide to Perth - ECPv6.15.11//NONSGML v1.0//EN
CALSCALE:GREGORIAN
METHOD:PUBLISH
X-ORIGINAL-URL:https://seniorocity.com.au
X-WR-CALDESC:Events for Seniorocity - Seniors / Over 55&#039;s Guide to Perth
REFRESH-INTERVAL;VALUE=DURATION:PT1H
X-Robots-Tag:noindex
X-PUBLISHED-TTL:PT1H
BEGIN:VTIMEZONE
TZID:Australia/Perth
BEGIN:STANDARD
TZOFFSETFROM:+0800
TZOFFSETTO:+0800
TZNAME:AWST
DTSTART:20250101T000000
END:STANDARD
END:VTIMEZONE
BEGIN:VEVENT
DTSTART;VALUE=DATE:20260510
DTEND;VALUE=DATE:20260511
DTSTAMP:20260423T142641
CREATED:20260422T133722Z
LAST-MODIFIED:20260422T133722Z
UID:10866091-1778371200-1778457599@seniorocity.com.au
SUMMARY:Celebrate Mother’s Day at Crown
DESCRIPTION:Celebrate Mum this Mother’s Day with an extraordinary experience at Crown. \nBrimming with acclaimed restaurants\, delectable high teas and exquisitely crafted cocktails\, there is a Mother’s Day experience to suit every style of celebration. \nTreat her with the gift of an indulgent spa experience\, or with tickets to the theatre show she’s been wanting to see. \nExplore the full offering to plan your Mum’s perfect Mother’s Day celebration.
URL:https://seniorocity.com.au/whats-on-perth/celebrate-mothers-day-at-crown/
LOCATION:Crown Perth\, Great Eastern Highway\, Burswood\, WA\, 6100\, Australia
CATEGORIES:Mother's Day
ATTACH;FMTTYPE=image/jpeg:https://seniorocity.com.au/wp-content/uploads/2026/04/Celebrate-Mothers-Day-at-Crown.jpg
END:VEVENT
END:VCALENDAR